Uber Exif Photo
Make : NIKON CORPORATION
Camera Model Name : NIKON D300
Orientation : Horizontal (normal)
Software : Adobe Photoshop Elements 8.0 Windows
Modify Date : 2011:05:10 09:35:15
F Number : 5.6
Exposure Program : Aperture-priority AE
ISO : 400
Date/Time Original : 2011:04:23 10:29:01
Create Date : 2011:04:23 10:29:01
Aperture Value : 5.6
Exposure Compensation : 0
Max Aperture Value : 5.7
Metering Mode : Multi-segment
Light Source : Unknown
Focal Length : 400.0 mm
Image Number : 12314
Color Space : Uncalibrated
Exif Image Width : 2848
Exif Image Height : 4288
Sensing Method : One-chip color area
Scene Type : Directly photographed
CFA Pattern : [Red,Green][Green,Blue]
Custom Rendered : Normal
Exposure Mode : Auto
White Balance : Auto
Digital Zoom Ratio : 1
Focal Length In 35mm Format : 600 mm
Scene Capture Type : Standard
Gain Control : Low gain up
Contrast : High
Saturation : Normal
Sharpness : Hard
Subject Distance Range : Unknown
Profile Description : Adobe RGB (1998)
Rating Percent : 0
Lens : 80.0-400.0 mm f/4.5-5.6
Lens Info : 80-400mm f/4.5-5.6
Serial Number : 6055215
Already Applied : True
Blue Hue : 0
Blue Saturation : 0
Brightness : 0
Camera Profile : Camera Vivid
Chromatic Aberration B : 0
Chromatic Aberration R : 0
Clarity : +20
Color Noise Reduction : 82
Convert To Grayscale : False
Defringe : 0
Exposure : +0.85
Fill Light : 0
Green Hue : 0
Green Saturation : 0
Has Crop : False
Has Settings : True
Highlight Recovery : 8
Hue Adjustment Aqua : 0
Hue Adjustment Blue : 0
Hue Adjustment Green : 0
Hue Adjustment Magenta : 0
Hue Adjustment Orange : 0
Hue Adjustment Purple : 0
Hue Adjustment Red : 0
Hue Adjustment Yellow : 0
Luminance Adjustment Aqua : 0
Luminance Adjustment Blue : 0
Luminance Adjustment Green : 0
Luminance Adjustment Magenta : 0
Luminance Adjustment Orange : 0
Luminance Adjustment Purple : 0
Luminance Adjustment Red : 0
Luminance Adjustment Yellow : 0
Luminance Smoothing : 82
Parametric Darks : 0
Parametric Highlight Split : 75
Parametric Highlights : 0
Parametric Lights : 0
Parametric Midtone Split : 50
Parametric Shadow Split : 25
Parametric Shadows : 0
Raw File Name : DSC_2244.NEF
Red Hue : 0
Red Saturation : 0
Saturation Adjustment Aqua : 0
Saturation Adjustment Blue : 0
Saturation Adjustment Green : 0
Saturation Adjustment Magenta : 0
Saturation Adjustment Orange : 0
Saturation Adjustment Purple : 0
Saturation Adjustment Red : 0
Saturation Adjustment Yellow : 0
Shadow Tint : 0
Shadows : 5
Sharpen Detail : 25
Sharpen Edge Masking : 0
Sharpen Radius : +1.0
Split Toning Balance : 0
Split Toning Highlight Hue : 0
Split Toning Highlight Saturation : 0
Split Toning Shadow Hue : 0
Split Toning Shadow Saturation : 0
Color Temperature : 4400
Tint : +5
Tone Curve Name : Medium Contrast
Version : 5.5
Vibrance : 0
Vignette Amount : 0
Format : image/jpeg
Date/Time Digitized : 2011:04:23 10:29:01-05:00
Color Mode : RGB
Sidecar For Extension : NEF
ICC Profile Name : Adobe RGB (1998)
Creator Tool : easyHDR PRO 1.70.3
Rating : 0
Tone Curve : 0, 0, 32, 22, 64, 56, 128, 128, 192, 196, 255, 255
Flash Fired : False
Flash Return : No return detection
Flash Mode : Unknown
Flash Function : False
Flash Red Eye Mode : False
Image Width : 199
Image Height : 300
Bits Per Sample : 8
Color Components : 3
Aperture : 5.6
Image Size : 199x300
Megapixels : 0.060
Scale Factor To 35 mm Equivalent : 1.5
Create Date : 2011:04:23 10:29:01.15
Date/Time Original : 2011:04:23 10:29:01.15
Modify Date : 2011:05:10 09:35:15.15
Flash : No Flash
Circle Of Confusion : 0.020 mm
Field Of View : 3.4 deg
Focal Length : 400.0 mm (35 mm equivalent: 600.0 mm)
Hyperfocal Distance : 1426.37 m
Lens ID : 80.0-400.0mm f/4.5-5.6