Uber Exif Photo
Make : NIKON CORPORATION
Camera Model Name : NIKON D70s
Software : Ver.1.00
Modify Date : 2011:09:21 20:21:35
Exposure Time : 1/640
F Number : 11.0
Exposure Program : Manual
ISO : 400
Sensitivity Type : Unknown
Date/Time Original : 2011:08:17 13:48:30
Create Date : 2011:08:17 13:48:30
Shutter Speed Value : 1/640
Aperture Value : 11.0
Exposure Compensation : 0
Max Aperture Value : 2.8
Subject Distance : 4294967295 m
Metering Mode : Multi-segment
Light Source : Unknown
Focal Length : 17.0 mm
User Comment : (C)Arvind Ahluwalia. dnivra.co.uk
Sensing Method : One-chip color area
Scene Type : Directly photographed
CFA Pattern : [Blue,Green][Green,Red]
Custom Rendered : Normal
Exposure Mode : Manual
White Balance : Auto
Digital Zoom Ratio : 1
Focal Length In 35mm Format : 25 mm
Scene Capture Type : Standard
Gain Control : None
Contrast : Normal
Saturation : Normal
Sharpness : Normal
Subject Distance Range : Unknown
Serial Number : 00041222
Lens Info : 17-70mm f/2.8-4.5
Lens Model : 17.0-70.0 mm f/2.8-4.5
Date/Time Digitized : 2011:08:17 13:48:30.90+01:00
Exif Image Width : 2240
Exif Image Height : 1488
Creator Tool : Adobe Photoshop Lightroom 3.3
Lens : 17.0-70.0 mm f/2.8-4.5
Image Number : 14878
Approximate Focus Distance : 4294967295
Version : 6.3
Process Version : 5.7
Incremental Temperature : 0
Incremental Tint : 0
Exposure : +0.78
Shadows : 48
Brightness : 0
Luminance Smoothing : 0
Color Noise Reduction : 0
Chromatic Aberration R : 0
Chromatic Aberration B : 0
Vignette Amount : 0
Shadow Tint : 0
Red Hue : 0
Red Saturation : 0
Green Hue : 0
Green Saturation : 0
Blue Hue : 0
Blue Saturation : 0
Fill Light : 89
Highlight Recovery : 43
Clarity : 0
Defringe : 0
Gray Mixer Red : -11
Gray Mixer Orange : -20
Gray Mixer Yellow : -24
Gray Mixer Green : -28
Gray Mixer Aqua : -17
Gray Mixer Blue : +12
Gray Mixer Purple : +17
Gray Mixer Magenta : +3
Split Toning Shadow Hue : 0
Split Toning Shadow Saturation : 0
Split Toning Highlight Hue : 0
Split Toning Highlight Saturation : 0
Split Toning Balance : 0
Parametric Shadows : 0
Parametric Darks : 0
Parametric Lights : 0
Parametric Highlights : 0
Parametric Shadow Split : 25
Parametric Midtone Split : 50
Parametric Highlight Split : 75
Sharpen Radius : +1.0
Sharpen Detail : 25
Sharpen Edge Masking : 0
Post Crop Vignette Amount : -15
Post Crop Vignette Midpoint : 50
Post Crop Vignette Feather : 50
Post Crop Vignette Roundness : 0
Post Crop Vignette Style : Highlight Priority
Post Crop Vignette Highlight Contrast : 0
Grain Amount : 0
Lens Profile Enable : 0
Lens Manual Distortion Amount : 0
Perspective Vertical : 0
Perspective Horizontal : 0
Perspective Rotate : 0.0
Perspective Scale : 100
Convert To Grayscale : True
Tone Curve Name : Linear
Camera Profile : Embedded
Lens Profile Setup : LensDefaults
Has Settings : True
Has Crop : False
Already Applied : True
Flash Fired : False
Flash Return : No return detection
Flash Mode : Unknown
Flash Function : False
Flash Red Eye Mode : False
Tone Curve : 0, 0, 255, 255
Image Width : 300
Image Height : 199
Bits Per Sample : 8
Color Components : 1
Aperture : 11.0
Image Size : 300x199
Megapixels : 0.060
Scale Factor To 35 mm Equivalent : 1.5
Shutter Speed : 1/640
Create Date : 2011:08:17 13:48:30.90
Date/Time Original : 2011:08:17 13:48:30.90
Flash : No Flash
Circle Of Confusion : 0.020 mm
Depth Of Field : inf (1.29 m - inf)
Field Of View : 71.5 deg
Focal Length : 17.0 mm (35 mm equivalent: 25.0 mm)
Hyperfocal Distance : 1.29 m
Light Value : 14.2
Lens ID : Sigma 17-70mm F2.8-4.5 DC Macro Asp. IF