Uber Exif Photo
Make : NIKON CORPORATION
Camera Model Name : NIKON D3000
Software : Ver.1.00
Modify Date : 2011:07:04 18:24:21
Exposure Time : 1/160
F Number : 5.3
Exposure Program : Aperture-priority AE
ISO : 100
Sensitivity Type : Unknown
Date/Time Original : 2011:06:04 17:19:38
Create Date : 2011:06:04 17:19:38
Shutter Speed Value : 1/160
Aperture Value : 5.3
Exposure Compensation : -1/3
Max Aperture Value : 5.3
Subject Distance : 0.42 m
Metering Mode : Multi-segment
Light Source : Unknown
Focal Length : 42.0 mm
Sensing Method : One-chip color area
Scene Type : Directly photographed
CFA Pattern : [Green,Blue][Red,Green]
Custom Rendered : Normal
Exposure Mode : Auto
White Balance : Auto
Digital Zoom Ratio : 1
Focal Length In 35mm Format : 63 mm
Scene Capture Type : Standard
Gain Control : None
Contrast : Normal
Saturation : Normal
Sharpness : Normal
Subject Distance Range : Unknown
Serial Number : 8153401
Lens Info : 18-55mm f/3.5-5.6
Lens Model : 18.0-55.0 mm f/3.5-5.6
Date/Time Digitized : 2011:06:04 17:19:38.50+01:00
Exif Image Width : 3872
Exif Image Height : 2592
Creator Tool : Adobe Photoshop Lightroom 3.3
Lens : 18.0-55.0 mm f/3.5-5.6
Image Number : 3894
Approximate Focus Distance : 0.42
Version : 6.3
Process Version : 5.7
Incremental Temperature : +29
Incremental Tint : -40
Exposure : +0.97
Shadows : 45
Brightness : 0
Luminance Smoothing : 0
Color Noise Reduction : 0
Chromatic Aberration R : 0
Chromatic Aberration B : 0
Vignette Amount : 0
Shadow Tint : 0
Red Hue : 0
Red Saturation : 0
Green Hue : 0
Green Saturation : 0
Blue Hue : 0
Blue Saturation : 0
Fill Light : 11
Highlight Recovery : 28
Clarity : 0
Defringe : 0
Gray Mixer Red : -7
Gray Mixer Orange : -16
Gray Mixer Yellow : -20
Gray Mixer Green : -25
Gray Mixer Aqua : -19
Gray Mixer Blue : +7
Gray Mixer Purple : +14
Gray Mixer Magenta : +5
Split Toning Shadow Hue : 0
Split Toning Shadow Saturation : 0
Split Toning Highlight Hue : 0
Split Toning Highlight Saturation : 0
Split Toning Balance : 0
Parametric Shadows : 0
Parametric Darks : 0
Parametric Lights : 0
Parametric Highlights : 0
Parametric Shadow Split : 25
Parametric Midtone Split : 50
Parametric Highlight Split : 75
Sharpen Radius : +0.7
Sharpen Detail : 40
Sharpen Edge Masking : 0
Post Crop Vignette Amount : -20
Post Crop Vignette Midpoint : 50
Post Crop Vignette Feather : 50
Post Crop Vignette Roundness : 0
Post Crop Vignette Style : Highlight Priority
Post Crop Vignette Highlight Contrast : 0
Grain Amount : 0
Lens Profile Enable : 0
Lens Manual Distortion Amount : 0
Perspective Vertical : 0
Perspective Horizontal : 0
Perspective Rotate : 0.0
Perspective Scale : 100
Convert To Grayscale : True
Tone Curve Name : Linear
Camera Profile : Embedded
Lens Profile Setup : LensDefaults
Has Settings : True
Has Crop : False
Already Applied : True
Flash Fired : False
Flash Return : No return detection
Flash Mode : Unknown
Flash Function : False
Flash Red Eye Mode : False
Tone Curve : 0, 0, 255, 255
Image Width : 300
Image Height : 201
Bits Per Sample : 8
Color Components : 1
Aperture : 5.3
Image Size : 300x201
Megapixels : 0.060
Scale Factor To 35 mm Equivalent : 1.5
Shutter Speed : 1/160
Create Date : 2011:06:04 17:19:38.50
Date/Time Original : 2011:06:04 17:19:38.50
Flash : No Flash
Circle Of Confusion : 0.020 mm
Depth Of Field : 0.019 m (0.411 - 0.430 m)
Field Of View : 31.9 deg
Focal Length : 42.0 mm (35 mm equivalent: 63.0 mm)
Hyperfocal Distance : 16.62 m
Light Value : 12.1
Lens ID : AF-S DX VR Zoom-Nikkor 18-55mm f/3.5-5.6G