Uber Exif Photo
Caption-Abstract : Long Island Sound Lighthouse Tour August 2017
By-line : Bob Evans
Sub-location : Norwalk CT
Province-State : CT
Country-Primary Location Name : USA
Original Transmission Reference : Long Island Sound Lighthouse Tou
Keywords : Long Island Sound Lighthouse T
Copyright Notice : Bob Evans All RIghts Reserved
Image Description : Long Island Sound Lighthouse Tour August 2017
Make : NIKON CORPORATION
Camera Model Name : NIKON D750
Orientation : Horizontal (normal)
Software : Adobe Photoshop Elements 15.0 (Macintosh)
Modify Date : 2017:08:20 09:56:00
Artist : Bob Evans
Copyright : Bob Evans All RIghts Reserved
Exposure Time : 1/4000
F Number : 4.0
Exposure Program : Aperture-priority AE
ISO : 200
Sensitivity Type : Recommended Exposure Index
Date/Time Original : 2017:08:19 12:27:04
Create Date : 2017:08:19 12:27:04
Shutter Speed Value : 1/4000
Aperture Value : 4.0
Exposure Compensation : 0
Max Aperture Value : 4.0
Metering Mode : Multi-segment
Light Source : Unknown
Flash : Off, Did not fire
Focal Length : 38.0 mm
User Comment : BobEvansImages.com
Color Space : sRGB
Exif Image Width : 4701
Exif Image Height : 2350
Sensing Method : One-chip color area
Scene Type : Directly photographed
CFA Pattern : [Red,Green][Green,Blue]
Custom Rendered : Normal
Exposure Mode : Auto
White Balance : Auto
Digital Zoom Ratio : 1
Focal Length In 35mm Format : 38 mm
Scene Capture Type : Standard
Gain Control : None
Contrast : Normal
Saturation : Normal
Sharpness : Normal
Subject Distance Range : Unknown
Serial Number : 3068910
Lens Info : 24-120mm f/4
Lens Model : 24.0-120.0 mm f/4.0
Profile Description : sRGB IEC61966-2.1
Creator Tool : NIKON D750 Ver.1.02
Label : Viewed - Good
Rating : 0
Format : image/jpeg
Date Created : 2017:08:20
City : Norwalk
State : CT
Country : USA
Transmission Reference : Long Island Sound Lighthouse Tour August 2017
Headline : Long Island Sound Lighthouse Tour August 2017
Urgency : 3
Color Mode : RGB
ICC Profile Name : sRGB IEC61966-2.1
Location : Norwalk CT
Rating Percent : 0
Lens : 24.0-120.0 mm f/4.0
Image Number : 21119
Approximate Focus Distance : 4294967295
Raw File Name : Lighthouse Tour_170819_258.NEF
Version : 9.10
Process Version : 6.7
Auto White Version : 134348800
Color Temperature : 5550
Tint : +7
Luminance Smoothing : 0
Color Noise Reduction : 25
Vignette Amount : 0
Shadow Tint : 0
Red Hue : 0
Red Saturation : 0
Green Hue : 0
Green Saturation : 0
Blue Hue : 0
Blue Saturation : 0
Vibrance : +18
Hue Adjustment Red : 0
Hue Adjustment Orange : 0
Hue Adjustment Yellow : 0
Hue Adjustment Green : 0
Hue Adjustment Aqua : 0
Hue Adjustment Blue : 0
Hue Adjustment Purple : 0
Hue Adjustment Magenta : 0
Saturation Adjustment Red : 0
Saturation Adjustment Orange : 0
Saturation Adjustment Yellow : 0
Saturation Adjustment Green : 0
Saturation Adjustment Aqua : 0
Saturation Adjustment Blue : 0
Saturation Adjustment Purple : 0
Saturation Adjustment Magenta : 0
Luminance Adjustment Red : 0
Luminance Adjustment Orange : 0
Luminance Adjustment Yellow : 0
Luminance Adjustment Green : 0
Luminance Adjustment Aqua : 0
Luminance Adjustment Blue : 0
Luminance Adjustment Purple : 0
Luminance Adjustment Magenta : 0
Split Toning Shadow Hue : 0
Split Toning Shadow Saturation : 0
Split Toning Highlight Hue : 0
Split Toning Highlight Saturation : 0
Split Toning Balance : 0
Parametric Shadows : 0
Parametric Darks : 0
Parametric Lights : 0
Parametric Highlights : 0
Parametric Shadow Split : 25
Parametric Midtone Split : 50
Parametric Highlight Split : 75
Sharpen Radius : +1.0
Sharpen Detail : 25
Sharpen Edge Masking : 0
Post Crop Vignette Amount : 0
Grain Amount : 0
Color Noise Reduction Detail : 50
Color Noise Reduction Smoothness : 50
Lens Profile Enable : 0
Lens Manual Distortion Amount : 0
Perspective Vertical : 0
Perspective Horizontal : 0
Perspective Rotate : 0.0
Perspective Scale : 100
Perspective Aspect : 0
Perspective Upright : Off
Perspective X : 0.00
Perspective Y : 0.00
Auto Lateral CA : 0
Exposure 2012 : +0.15
Contrast 2012 : 0
Highlights 2012 : 0
Shadows 2012 : 0
Whites 2012 : 0
Blacks 2012 : 0
Clarity 2012 : +39
Defringe Purple Amount : 0
Defringe Purple Hue Lo : 30
Defringe Purple Hue Hi : 70
Defringe Green Amount : 0
Defringe Green Hue Lo : 40
Defringe Green Hue Hi : 60
Dehaze : 0
Tone Map Strength : 0
Convert To Grayscale : False
Tone Curve Name : Medium Contrast
Tone Curve Name 2012 : Linear
Camera Profile : Adobe Standard
Lens Profile Setup : LensDefaults
Has Settings : True
Has Crop : False
Already Applied : True
Subject : Long Island Sound Lighthouse T
Creator : Bob Evans
Rights : Bob Evans All RIghts Reserved
Description : Long Island Sound Lighthouse Tour August 2017
Creator City : Bethel
Creator Country : USA
Creator Address : 11 Topstone Dr
Creator Postal Code : 06801
Creator Region : CT
Creator Work Email : BobEvans@BobEvansImages.com
Creator Work URL : www.bobevansimages.com
Usage Terms : All Rights Reserved
Event : Long Island Sound Lighthouse Tour August 2017
Tone Curve : 0, 0, 32, 22, 64, 56, 128, 128, 192, 196, 255, 255
Tone Curve Red : 0, 0, 255, 255
Tone Curve Green : 0, 0, 255, 255
Tone Curve Blue : 0, 0, 255, 255
Tone Curve PV2012 : 0, 0, 255, 255
Tone Curve PV2012 Red : 0, 0, 255, 255
Tone Curve PV2012 Green : 0, 0, 255, 255
Tone Curve PV2012 Blue : 0, 0, 255, 255
Image Width : 300
Image Height : 150
Bits Per Sample : 8
Color Components : 3
Aperture : 4.0
Image Size : 300x150
Megapixels : 0.045
Scale Factor To 35 mm Equivalent : 1.0
Shutter Speed : 1/4000
Create Date : 2017:08:19 12:27:04.99
Date/Time Original : 2017:08:19 12:27:04.99
Modify Date : 2017:08:20 09:56:00.99
Circle Of Confusion : 0.030 mm
Depth Of Field : inf (12.01 m - inf)
Field Of View : 50.7 deg
Focal Length : 38.0 mm (35 mm equivalent: 38.0 mm)
Hyperfocal Distance : 12.01 m
Light Value : 15.0
Lens ID : AF-S Nikkor 24-120mm f/4G ED VR