Uber Exif Photo
By-line : Wayne L. Draper
Copyright Notice : Copyright 2011 by Wayne L Draper
Copyright Flag : True
Make : NIKON CORPORATION
Camera Model Name : NIKON D300
Software : Ver.1.10
Modify Date : 2011:03:10 21:42:28
Copyright : Copyright 2011 by Wayne L Draper
Exposure Time : 1/80
F Number : 2.8
Exposure Program : Shutter speed priority AE
ISO : 200
Sensitivity Type : Unknown
Date/Time Original : 2011:03:10 19:20:16
Create Date : 2011:03:10 19:20:16
Shutter Speed Value : 1/80
Aperture Value : 2.8
Exposure Compensation : 0
Max Aperture Value : 2.8
Subject Distance : 1.68 m
Metering Mode : Center-weighted average
Light Source : Unknown
Focal Length : 70.0 mm
Sensing Method : One-chip color area
Scene Type : Directly photographed
CFA Pattern : [Red,Green][Green,Blue]
Custom Rendered : Normal
Exposure Mode : Auto
White Balance : Auto
Digital Zoom Ratio : 1
Focal Length In 35mm Format : 105 mm
Scene Capture Type : Standard
Gain Control : None
Contrast : Normal
Saturation : Normal
Sharpness : Normal
Subject Distance Range : Unknown
Serial Number : 3125513
Lens Info : 70-200mm f/2.8
Lens Model : 70.0-200.0 mm f/2.8
Profile Description : sRGB IEC61966-2.1
Date/Time Digitized : 2011:03:10 19:20:16.57-06:00
Exif Image Width : 1000
Exif Image Height : 566
Creator Tool : Adobe Photoshop Lightroom 3.3
Lens : 70.0-200.0 mm f/2.8
Image Number : 14746
Approximate Focus Distance : 1.68
Marked : True
Version : 6.3
Process Version : 5.7
Color Temperature : 5500
Tint : +10
Exposure : -0.87
Shadows : 5
Brightness : +50
Luminance Smoothing : 49
Color Noise Reduction : 25
Chromatic Aberration R : 0
Chromatic Aberration B : 0
Vignette Amount : 0
Shadow Tint : 0
Red Hue : 0
Red Saturation : 0
Green Hue : 0
Green Saturation : 0
Blue Hue : 0
Blue Saturation : 0
Fill Light : 14
Vibrance : 0
Highlight Recovery : 0
Clarity : +36
Defringe : 0
Hue Adjustment Red : 0
Hue Adjustment Orange : 0
Hue Adjustment Yellow : 0
Hue Adjustment Green : 0
Hue Adjustment Aqua : 0
Hue Adjustment Blue : 0
Hue Adjustment Purple : 0
Hue Adjustment Magenta : 0
Saturation Adjustment Red : 0
Saturation Adjustment Orange : 0
Saturation Adjustment Yellow : 0
Saturation Adjustment Green : 0
Saturation Adjustment Aqua : 0
Saturation Adjustment Blue : 0
Saturation Adjustment Purple : 0
Saturation Adjustment Magenta : 0
Luminance Adjustment Red : 0
Luminance Adjustment Orange : 0
Luminance Adjustment Yellow : 0
Luminance Adjustment Green : 0
Luminance Adjustment Aqua : 0
Luminance Adjustment Blue : 0
Luminance Adjustment Purple : 0
Luminance Adjustment Magenta : 0
Split Toning Shadow Hue : 0
Split Toning Shadow Saturation : 0
Split Toning Highlight Hue : 0
Split Toning Highlight Saturation : 0
Split Toning Balance : 0
Parametric Shadows : 0
Parametric Darks : 0
Parametric Lights : 0
Parametric Highlights : 0
Parametric Shadow Split : 25
Parametric Midtone Split : 50
Parametric Highlight Split : 75
Sharpen Radius : +1.0
Sharpen Detail : 25
Sharpen Edge Masking : 0
Post Crop Vignette Amount : 0
Grain Amount : 0
Luminance Noise Reduction Detail : 51
Color Noise Reduction Detail : 50
Luminance Noise Reduction Contrast : 0
Lens Profile Enable : 0
Lens Manual Distortion Amount : 0
Perspective Vertical : 0
Perspective Horizontal : 0
Perspective Rotate : 0.0
Perspective Scale : 100
Convert To Grayscale : False
Tone Curve Name : Medium Contrast
Camera Profile : Adobe Standard
Lens Profile Setup : LensDefaults
Has Settings : True
Crop Top : 0.193107
Crop Left : 0.093347
Crop Bottom : 0.904095
Crop Right : 0.927006
Crop Angle : 0
Crop Constrain To Warp : 0
Crop Width : 1000
Crop Height : 566
Crop Unit : pixels
Has Crop : True
Already Applied : True
Flash Fired : True
Flash Return : Return not detected
Flash Mode : On
Flash Function : False
Flash Red Eye Mode : True
Creator : Wayne L. Draper
Rights : Copyright 2011 by Wayne L Draper
Creator Postal Code : 77062
Creator Work Email : wldraper@comcast.net
Creator Work Telephone : 281-488-2586
Creator Region : TX
Creator City : Houston
Creator Address : 1702 Bowline Rd.
Creator Work URL : http://waynedraper.com/images
Tone Curve : 0, 0, 32, 22, 64, 56, 128, 128, 192, 196, 255, 255
Image Width : 300
Image Height : 170
Bits Per Sample : 8
Color Components : 3
Aperture : 2.8
Image Size : 300x170
Megapixels : 0.051
Scale Factor To 35 mm Equivalent : 1.5
Shutter Speed : 1/80
Create Date : 2011:03:10 19:20:16.57
Date/Time Original : 2011:03:10 19:20:16.57
Flash : On, Red-eye reduction, Return not detected
Circle Of Confusion : 0.020 mm
Depth Of Field : 0.06 m (1.65 - 1.71 m)
Field Of View : 19.5 deg
Focal Length : 70.0 mm (35 mm equivalent: 105.0 mm)
Hyperfocal Distance : 87.37 m
Light Value : 8.3
Lens ID : AF-S Nikkor 70-200mm f/2.8G ED VR II