Uber Exif Photo
By-line : Konrad Skibek-Skiba
Copyright Notice : www.skibek.pl
Make : NIKON CORPORATION
Camera Model Name : NIKON D300
Orientation : Horizontal (normal)
Software : Adobe Photoshop CS4 Windows
Modify Date : 2010:06:13 22:01:37
Artist : Konrad Skibek-Skiba
Copyright : www.skibek.pl
Exposure Time : 1/500
F Number : 9.0
Exposure Program : Shutter speed priority AE
ISO : 200
Date/Time Original : 2009:06:13 14:22:11
Create Date : 2009:06:13 14:22:11
Shutter Speed Value : 1/500
Aperture Value : 9.0
Exposure Compensation : 0
Max Aperture Value : 4.6
Subject Distance : 4294967295 m
Metering Mode : Spot
Light Source : Fine Weather
Focal Length : 78.0 mm
Color Space : Uncalibrated
Exif Image Width : 900
Exif Image Height : 600
Sensing Method : One-chip color area
Scene Type : Directly photographed
CFA Pattern : [Red,Green][Green,Blue]
Custom Rendered : Normal
Exposure Mode : Auto
White Balance : Manual
Digital Zoom Ratio : 1
Focal Length In 35mm Format : 117 mm
Scene Capture Type : Standard
Gain Control : None
Contrast : Normal
Saturation : Normal
Sharpness : Hard
Subject Distance Range : Unknown
Profile Description : Adobe RGB (1998)
Date/Time Digitized : 2009:06:13 14:22:11.75+02:00
Creator Tool : Ver.1.10
Rating : 0
Format : image/jpeg
Serial Number : 4166745
Lens Info : 70-300mm f/4.5-5.6
Lens : 70.0-300.0 mm f/4.5-5.6
Image Number : 57813
Raw File Name : _SKI6653.NEF
Version : 5.6
Color Temperature : 6000
Tint : +5
Exposure : 0.00
Shadows : 5
Brightness : +50
Luminance Smoothing : 0
Color Noise Reduction : 25
Chromatic Aberration R : 0
Chromatic Aberration B : 0
Vignette Amount : 0
Shadow Tint : 0
Red Hue : 0
Red Saturation : 0
Green Hue : 0
Green Saturation : 0
Blue Hue : 0
Blue Saturation : 0
Fill Light : 4
Vibrance : +7
Highlight Recovery : 13
Clarity : +8
Defringe : 0
Hue Adjustment Red : 0
Hue Adjustment Orange : 0
Hue Adjustment Yellow : 0
Hue Adjustment Green : 0
Hue Adjustment Aqua : 0
Hue Adjustment Blue : 0
Hue Adjustment Purple : 0
Hue Adjustment Magenta : 0
Saturation Adjustment Red : 0
Saturation Adjustment Orange : 0
Saturation Adjustment Yellow : 0
Saturation Adjustment Green : 0
Saturation Adjustment Aqua : 0
Saturation Adjustment Blue : 0
Saturation Adjustment Purple : 0
Saturation Adjustment Magenta : 0
Luminance Adjustment Red : 0
Luminance Adjustment Orange : 0
Luminance Adjustment Yellow : 0
Luminance Adjustment Green : 0
Luminance Adjustment Aqua : 0
Luminance Adjustment Blue : 0
Luminance Adjustment Purple : 0
Luminance Adjustment Magenta : 0
Split Toning Shadow Hue : 0
Split Toning Shadow Saturation : 0
Split Toning Highlight Hue : 0
Split Toning Highlight Saturation : 0
Split Toning Balance : 0
Parametric Shadows : 0
Parametric Darks : 0
Parametric Lights : 0
Parametric Highlights : 0
Parametric Shadow Split : 25
Parametric Midtone Split : 50
Parametric Highlight Split : 75
Sharpen Radius : +1.0
Sharpen Detail : 25
Sharpen Edge Masking : 0
Post Crop Vignette Amount : 0
Convert To Grayscale : False
Tone Curve Name : Medium Contrast
Camera Profile : Adobe Standard
Has Settings : True
Crop Top : 0.271874
Crop Left : 0.011048
Crop Bottom : 0.67032
Crop Right : 0.768033
Crop Angle : -14.420593
Crop Width : 2
Crop Height : 3
Crop Unit : Unknown (3)
Has Crop : True
Already Applied : True
Color Mode : RGB
ICC Profile Name : Adobe RGB (1998)
Flash Fired : False
Flash Return : No return detection
Flash Mode : Unknown
Flash Function : False
Flash Red Eye Mode : False
Creator : Konrad Skibek-Skiba
Rights : www.skibek.pl
Tone Curve : 0, 0, 32, 22, 64, 56, 128, 128, 192, 196, 255, 255
Image Width : 300
Image Height : 200
Bits Per Sample : 8
Color Components : 3
Aperture : 9.0
Image Size : 300x200
Megapixels : 0.060
Scale Factor To 35 mm Equivalent : 1.5
Shutter Speed : 1/500
Create Date : 2009:06:13 14:22:11.75
Date/Time Original : 2009:06:13 14:22:11.75
Modify Date : 2010:06:13 22:01:37.75
Flash : No Flash
Circle Of Confusion : 0.020 mm
Depth Of Field : inf (33.75 m - inf)
Field Of View : 17.5 deg
Focal Length : 78.0 mm (35 mm equivalent: 117.0 mm)
Hyperfocal Distance : 33.75 m
Light Value : 14.3
Lens ID : AF-S VR Zoom-Nikkor 70-300mm f/4.5-5.6G IF-ED