Uber Exif Photo
By-line : Konrad Skiba
Copyright Notice : skibek.pl
Photometric Interpretation : RGB
Make : NIKON CORPORATION
Camera Model Name : NIKON D3S
Orientation : Horizontal (normal)
Samples Per Pixel : 3
Software : Adobe Photoshop CS5 Windows
Modify Date : 2010:07:07 10:39:06
Artist : Konrad Skiba
Copyright : skibek.pl
Exposure Time : 1/30
F Number : 16.0
Exposure Program : Shutter speed priority AE
ISO : 200
Date/Time Original : 2010:06:13 17:46:04
Create Date : 2010:06:13 17:46:04
Shutter Speed Value : 1/30
Aperture Value : 16.0
Exposure Compensation : +1/3
Max Aperture Value : 5.7
Subject Distance : 4294967295 m
Metering Mode : Spot
Light Source : Fine Weather
Flash : No Flash
Focal Length : 300.0 mm
User Comment : www.skibek.pl
Color Space : Uncalibrated
Exif Image Width : 900
Exif Image Height : 599
Sensing Method : One-chip color area
Scene Type : Directly photographed
CFA Pattern : [Red,Green][Green,Blue]
Custom Rendered : Normal
Exposure Mode : Auto
White Balance : Manual
Digital Zoom Ratio : 1
Focal Length In 35mm Format : 300 mm
Scene Capture Type : Standard
Gain Control : None
Contrast : Normal
Saturation : Normal
Sharpness : Normal
Subject Distance Range : Unknown
Profile Description : Adobe RGB (1998)
Creator Tool : Adobe Photoshop CS5 Windows
Rating : 0
Format : image/jpeg
Serial Number : 2019207
Lens Info : 70-300mm f/4.5-5.6
Lens : 70.0-300.0 mm f/4.5-5.6
Image Number : 15997
Raw File Name : _SKI5819.NEF
Version : 6.0
Process Version : 5.7
Color Temperature : 5100
Tint : +10
Exposure : 0.00
Shadows : 53
Brightness : +50
Luminance Smoothing : 0
Color Noise Reduction : 25
Chromatic Aberration R : 0
Chromatic Aberration B : 0
Vignette Amount : 0
Shadow Tint : 0
Red Hue : 0
Red Saturation : 0
Green Hue : 0
Green Saturation : 0
Blue Hue : 0
Blue Saturation : 0
Fill Light : 0
Vibrance : 0
Highlight Recovery : 55
Clarity : 0
Defringe : 0
Hue Adjustment Red : 0
Hue Adjustment Orange : 0
Hue Adjustment Yellow : 0
Hue Adjustment Green : 0
Hue Adjustment Aqua : 0
Hue Adjustment Blue : 0
Hue Adjustment Purple : 0
Hue Adjustment Magenta : 0
Saturation Adjustment Red : 0
Saturation Adjustment Orange : 0
Saturation Adjustment Yellow : 0
Saturation Adjustment Green : 0
Saturation Adjustment Aqua : 0
Saturation Adjustment Blue : 0
Saturation Adjustment Purple : 0
Saturation Adjustment Magenta : 0
Luminance Adjustment Red : 0
Luminance Adjustment Orange : 0
Luminance Adjustment Yellow : 0
Luminance Adjustment Green : 0
Luminance Adjustment Aqua : 0
Luminance Adjustment Blue : 0
Luminance Adjustment Purple : 0
Luminance Adjustment Magenta : 0
Split Toning Shadow Hue : 0
Split Toning Shadow Saturation : 0
Split Toning Highlight Hue : 0
Split Toning Highlight Saturation : 0
Split Toning Balance : 0
Parametric Shadows : 0
Parametric Darks : 0
Parametric Lights : 0
Parametric Highlights : 0
Parametric Shadow Split : 25
Parametric Midtone Split : 50
Parametric Highlight Split : 75
Sharpen Radius : +1.0
Sharpen Detail : 25
Sharpen Edge Masking : 0
Post Crop Vignette Amount : 0
Grain Amount : 0
Color Noise Reduction Detail : 50
Convert To Grayscale : False
Tone Curve Name : Medium Contrast
Camera Profile : Adobe Standard
Has Settings : True
Has Crop : False
Already Applied : True
Sidecar For Extension : NEF
Date Created : 2010:06:13 17:46:04.041
Color Mode : RGB
ICC Profile Name : Adobe RGB (1998)
Creator : Konrad Skiba
Rights : skibek.pl
Tone Curve : 0, 0, 32, 22, 64, 56, 128, 128, 192, 196, 255, 255
Image Width : 300
Image Height : 200
Bits Per Sample : 8
Color Components : 3
Aperture : 16.0
Image Size : 300x200
Megapixels : 0.060
Scale Factor To 35 mm Equivalent : 1.0
Shutter Speed : 1/30
Create Date : 2010:06:13 17:46:04.41
Date/Time Original : 2010:06:13 17:46:04.41
Modify Date : 2010:07:07 10:39:06.41
Circle Of Confusion : 0.030 mm
Depth Of Field : inf (187.21 m - inf)
Field Of View : 6.9 deg
Focal Length : 300.0 mm (35 mm equivalent: 300.0 mm)
Hyperfocal Distance : 187.21 m
Light Value : 11.9
Lens ID : AF-S VR Zoom-Nikkor 70-300mm f/4.5-5.6G IF-ED