Uber Exif Photo
Make : FUJI PHOTO FILM CO., LTD.
Camera Model Name : SP-2000
Software : Adobe Photoshop Lightroom 3.4.1
Modify Date : 2011:11:17 18:49:54
Scene Type : Directly photographed
Color Space : sRGB
Date Created : : : : : Y Cb Cr Positioning : Centered
Create Date : : : : : Metadata Date : 2011:11:17 18:49:54+01:00
Creator Tool : Adobe Photoshop Lightroom 3.4.1
Format : image/jpeg
Version : 6.4.1
Process Version : 5.7
White Balance : Auto
Incremental Temperature : +9
Incremental Tint : 0
Exposure : 0.00
Shadows : 6
Brightness : +14
Contrast : -25
Sharpness : 0
Luminance Smoothing : 0
Color Noise Reduction : 0
Chromatic Aberration R : 0
Chromatic Aberration B : 0
Vignette Amount : 0
Shadow Tint : 0
Red Hue : 0
Red Saturation : 0
Green Hue : 0
Green Saturation : 0
Blue Hue : 0
Blue Saturation : 0
Fill Light : 10
Highlight Recovery : 5
Clarity : 0
Defringe : 0
Gray Mixer Red : -9
Gray Mixer Orange : -19
Gray Mixer Yellow : -22
Gray Mixer Green : -27
Gray Mixer Aqua : -18
Gray Mixer Blue : +9
Gray Mixer Purple : +15
Gray Mixer Magenta : +4
Split Toning Shadow Hue : 0
Split Toning Shadow Saturation : 0
Split Toning Highlight Hue : 0
Split Toning Highlight Saturation : 0
Split Toning Balance : 0
Parametric Shadows : 0
Parametric Darks : 0
Parametric Lights : 0
Parametric Highlights : 0
Parametric Shadow Split : 25
Parametric Midtone Split : 50
Parametric Highlight Split : 75
Sharpen Radius : +1.0
Sharpen Detail : 25
Sharpen Edge Masking : 0
Post Crop Vignette Amount : 0
Grain Amount : 0
Lens Profile Enable : 0
Lens Manual Distortion Amount : 0
Perspective Vertical : 0
Perspective Horizontal : 0
Perspective Rotate : +3.4
Perspective Scale : 100
Convert To Grayscale : True
Tone Curve Name : Linear
Camera Profile : Embedded
Lens Profile Setup : LensDefaults
Has Settings : True
Crop Top : 0.039958
Crop Left : 0.039958
Crop Bottom : 0.960042
Crop Right : 0.960042
Crop Angle : 0
Crop Constrain To Warp : 1
Crop Width : 1920
Crop Height : 1285
Crop Unit : pixels
Has Crop : True
Already Applied : True
Tone Curve : 0, 0, 255, 255
Image Width : 300
Image Height : 201
Bits Per Sample : 8
Color Components : 1
Image Size : 300x201
Megapixels : 0.060