Uber Exif Photo
Keywords : 300 mm, night photography, Hurtigruten
Copyright Notice : GAW Photography
By-line : Geir Walmann
Photometric Interpretation : RGB
Make : NIKON CORPORATION
Camera Model Name : NIKON D610
Planar Configuration : Chunky
Software : Adobe Photoshop Lightroom 5.7 (Windows)
Modify Date : 2015:04:05 12:07:45
Artist : Geir Walmann
Copyright : GAW Photography
Exposure Time : 1/80
F Number : 9.0
Exposure Program : Manual
ISO : 1400
Sensitivity Type : Recommended Exposure Index
Date/Time Original : 2015:04:04 21:07:07
Create Date : 2015:04:04 21:07:07
Shutter Speed Value : 1/80
Aperture Value : 9.0
Exposure Compensation : -5/3
Max Aperture Value : 4.0
Metering Mode : Multi-segment
Light Source : Fine Weather
Flash : Off, Did not fire
Focal Length : 300.0 mm
User Comment : ..Keywords: Hurtigruten;night photography;300 mm
Color Space : Uncalibrated
Exif Image Width : 916
Exif Image Height : 611
Sensing Method : One-chip color area
Scene Type : Directly photographed
CFA Pattern : [Red,Green][Green,Blue]
Custom Rendered : Normal
Exposure Mode : Manual
White Balance : Manual
Digital Zoom Ratio : 1
Focal Length In 35mm Format : 300 mm
Scene Capture Type : Standard
Gain Control : High gain up
Contrast : Normal
Saturation : Normal
Sharpness : Hard
Subject Distance Range : Unknown
Serial Number : 6000826
Lens Info : 300mm f/4
Lens Model : 300.0 mm f/4.0
Orientation : Horizontal (normal)
Profile Description : Adobe RGB (1998)
Format : image/jpeg
Creator : Geir Walmann
Rights : GAW Photography
Subject : Hurtigruten, night photography, 300 mm
Creator Tool : Adobe Photoshop Lightroom 5.7 (Windows)
Label : Blue
Lens : 300.0 mm f/4.0
Image Number : 11345
Approximate Focus Distance : 4294967295
Date Created : 2015:04:04 21:07:07.10
Version : 8.7
Process Version : 6.7
Auto White Version : 134348800
Color Temperature : 5050
Tint : +4
Luminance Smoothing : 13
Color Noise Reduction : 25
Vignette Amount : 0
Shadow Tint : 0
Red Hue : 0
Red Saturation : 0
Green Hue : 0
Green Saturation : 0
Blue Hue : 0
Blue Saturation : 0
Vibrance : 0
Hue Adjustment Red : 0
Hue Adjustment Orange : 0
Hue Adjustment Yellow : 0
Hue Adjustment Green : 0
Hue Adjustment Aqua : 0
Hue Adjustment Blue : 0
Hue Adjustment Purple : 0
Hue Adjustment Magenta : 0
Saturation Adjustment Red : 0
Saturation Adjustment Orange : 0
Saturation Adjustment Yellow : 0
Saturation Adjustment Green : 0
Saturation Adjustment Aqua : 0
Saturation Adjustment Blue : 0
Saturation Adjustment Purple : 0
Saturation Adjustment Magenta : 0
Luminance Adjustment Red : 0
Luminance Adjustment Orange : 0
Luminance Adjustment Yellow : 0
Luminance Adjustment Green : 0
Luminance Adjustment Aqua : 0
Luminance Adjustment Blue : 0
Luminance Adjustment Purple : 0
Luminance Adjustment Magenta : 0
Split Toning Shadow Hue : 0
Split Toning Shadow Saturation : 0
Split Toning Highlight Hue : 0
Split Toning Highlight Saturation : 0
Split Toning Balance : 0
Parametric Shadows : +23
Parametric Darks : +24
Parametric Lights : -14
Parametric Highlights : 0
Parametric Shadow Split : 25
Parametric Midtone Split : 50
Parametric Highlight Split : 75
Sharpen Radius : +1.0
Sharpen Detail : 25
Sharpen Edge Masking : 0
Post Crop Vignette Amount : 0
Grain Amount : 0
Luminance Noise Reduction Detail : 50
Color Noise Reduction Detail : 50
Luminance Noise Reduction Contrast : 0
Color Noise Reduction Smoothness : 50
Lens Profile Enable : 0
Lens Manual Distortion Amount : 0
Perspective Vertical : 0
Perspective Horizontal : 0
Perspective Rotate : 0.0
Perspective Scale : 100
Perspective Aspect : 0
Perspective Upright : Off
Auto Lateral CA : 0
Exposure 2012 : 0.00
Contrast 2012 : +12
Highlights 2012 : 0
Shadows 2012 : +40
Whites 2012 : +12
Blacks 2012 : 0
Clarity 2012 : 0
Defringe Purple Amount : 0
Defringe Purple Hue Lo : 30
Defringe Purple Hue Hi : 70
Defringe Green Amount : 0
Defringe Green Hue Lo : 40
Defringe Green Hue Hi : 60
Convert To Grayscale : False
Tone Curve Name : Linear
Tone Curve Name 2012 : Linear
Camera Profile : Adobe Standard
Lens Profile Setup : LensDefaults
Has Settings : True
Crop Top : 0
Crop Left : 0.010904
Crop Bottom : 1
Crop Right : 0.989096
Crop Angle : 0.585807
Crop Constrain To Warp : 0
Has Crop : True
Already Applied : True
Tone Curve : 0, 0, 255, 255
Tone Curve Red : 0, 0, 255, 255
Tone Curve Green : 0, 0, 255, 255
Tone Curve Blue : 0, 0, 255, 255
Tone Curve PV2012 : 0, 0, 255, 255
Tone Curve PV2012 Red : 0, 0, 255, 255
Tone Curve PV2012 Green : 0, 0, 255, 255
Tone Curve PV2012 Blue : 0, 0, 255, 255
Paint Correction What : Correction
Paint Correction Amount : 1.000000
Paint Correction Active : true
Paint Correction Saturation : 0.000000
Paint Correction Sharpness : 0.425290
Paint Correction Brightness : 0.000000
Paint Correction Toning Hue : 0.000000
Paint Correction Toning Saturation : 0.000000
Paint Correction Exposure 2012 : -0.195500
Paint Correction Contrast 2012 : 0.000000
Paint Correction Highlights 2012 : -0.333330
Paint Correction Shadows 2012 : 0.448280
Paint Correction Clarity 2012 : 0.287360
Paint Correction Luminance Noise : 0.000000
Paint Correction Moire : 0.000000
Paint Correction Defringe : 0.000000
Paint Correction Temperature : 0.000000
Paint Correction Tint : 0.000000
Paint Correction Mask What : Mask/Paint
Paint Correction Mask Value : 1.000000
Paint Correction Mask Radius : 0.040829
Paint Correction Mask Flow : 1.000000
Paint Correction Mask Center Weight : 0.000000
Image Width : 300
Image Height : 200
Bits Per Sample : 8
Color Components : 3
Aperture : 9.0
Image Size : 300x200
Megapixels : 0.060
Scale Factor To 35 mm Equivalent : 1.0
Shutter Speed : 1/80
Create Date : 2015:04:04 21:07:07.10
Date/Time Original : 2015:04:04 21:07:07.10
Circle Of Confusion : 0.030 mm
Depth Of Field : inf (332.82 m - inf)
Field Of View : 6.9 deg
Focal Length : 300.0 mm (35 mm equivalent: 300.0 mm)
Hyperfocal Distance : 332.82 m
Light Value : 8.9
Lens ID : AF-S Nikkor 300mm f/4D IF-ED