Uber Exif Photo
Copyright Notice : GAW Photography
By-line : Geir Walmann
Photometric Interpretation : RGB
Make : NIKON CORPORATION
Camera Model Name : NIKON D610
Planar Configuration : Chunky
Software : Adobe Photoshop Lightroom 5.6 (Windows)
Modify Date : 2014:12:16 17:28:19
Artist : Geir Walmann
Copyright : GAW Photography
Exposure Time : 1/25
F Number : 7.1
Exposure Program : Aperture-priority AE
ISO : 320
Sensitivity Type : Recommended Exposure Index
Date/Time Original : 2014:12:16 15:30:54
Create Date : 2014:12:16 15:30:54
Shutter Speed Value : 1/25
Aperture Value : 7.1
Exposure Compensation : 0
Max Aperture Value : 2.8
Metering Mode : Multi-segment
Light Source : Unknown
Flash : Off, Did not fire
Focal Length : 24.0 mm
Color Space : Uncalibrated
Exif Image Width : 1223
Exif Image Height : 816
Sensing Method : One-chip color area
Scene Type : Directly photographed
CFA Pattern : [Red,Green][Green,Blue]
Custom Rendered : Normal
Exposure Mode : Auto
White Balance : Auto
Digital Zoom Ratio : 1
Focal Length In 35mm Format : 24 mm
Scene Capture Type : Standard
Gain Control : None
Contrast : Normal
Saturation : Normal
Sharpness : Hard
Subject Distance Range : Unknown
Serial Number : 6000826
Lens Info : 14-24mm f/2.8
Lens Model : 14.0-24.0 mm f/2.8
Orientation : Horizontal (normal)
Profile Description : Adobe RGB (1998)
Format : image/jpeg
Creator : Geir Walmann
Rights : GAW Photography
Creator Tool : Adobe Photoshop Lightroom 5.6 (Windows)
Lens : 14.0-24.0 mm f/2.8
Image Number : 9093
Approximate Focus Distance : 4294967295
Date Created : 2014:12:16 15:30:54.10
Version : 8.6
Process Version : 6.7
Auto White Version : 134348800
Color Temperature : 9000
Tint : +3
Luminance Smoothing : 0
Color Noise Reduction : 25
Vignette Amount : 0
Shadow Tint : 0
Red Hue : 0
Red Saturation : 0
Green Hue : 0
Green Saturation : 0
Blue Hue : 0
Blue Saturation : 0
Vibrance : 0
Hue Adjustment Red : 0
Hue Adjustment Orange : 0
Hue Adjustment Yellow : 0
Hue Adjustment Green : 0
Hue Adjustment Aqua : 0
Hue Adjustment Blue : 0
Hue Adjustment Purple : 0
Hue Adjustment Magenta : 0
Saturation Adjustment Red : 0
Saturation Adjustment Orange : 0
Saturation Adjustment Yellow : 0
Saturation Adjustment Green : 0
Saturation Adjustment Aqua : 0
Saturation Adjustment Blue : 0
Saturation Adjustment Purple : 0
Saturation Adjustment Magenta : 0
Luminance Adjustment Red : 0
Luminance Adjustment Orange : 0
Luminance Adjustment Yellow : 0
Luminance Adjustment Green : 0
Luminance Adjustment Aqua : 0
Luminance Adjustment Blue : 0
Luminance Adjustment Purple : 0
Luminance Adjustment Magenta : 0
Split Toning Shadow Hue : 0
Split Toning Shadow Saturation : 0
Split Toning Highlight Hue : 0
Split Toning Highlight Saturation : 0
Split Toning Balance : 0
Parametric Shadows : 0
Parametric Darks : 0
Parametric Lights : 0
Parametric Highlights : 0
Parametric Shadow Split : 25
Parametric Midtone Split : 50
Parametric Highlight Split : 75
Sharpen Radius : +1.0
Sharpen Detail : 25
Sharpen Edge Masking : 0
Post Crop Vignette Amount : 0
Grain Amount : 0
Color Noise Reduction Detail : 50
Color Noise Reduction Smoothness : 50
Lens Profile Enable : 0
Lens Manual Distortion Amount : 0
Perspective Vertical : 0
Perspective Horizontal : 0
Perspective Rotate : 0.0
Perspective Scale : 100
Perspective Aspect : 0
Perspective Upright : Off
Auto Lateral CA : 0
Exposure 2012 : 0.00
Contrast 2012 : 0
Highlights 2012 : -45
Shadows 2012 : +33
Whites 2012 : +12
Blacks 2012 : 0
Clarity 2012 : +12
Defringe Purple Amount : 0
Defringe Purple Hue Lo : 30
Defringe Purple Hue Hi : 70
Defringe Green Amount : 0
Defringe Green Hue Lo : 40
Defringe Green Hue Hi : 60
Convert To Grayscale : False
Tone Curve Name : Linear
Tone Curve Name 2012 : Linear
Camera Profile : Adobe Standard
Lens Profile Setup : LensDefaults
Has Settings : True
Has Crop : False
Already Applied : True
Tone Curve : 0, 0, 255, 255
Tone Curve Red : 0, 0, 255, 255
Tone Curve Green : 0, 0, 255, 255
Tone Curve Blue : 0, 0, 255, 255
Tone Curve PV2012 : 0, 0, 255, 255
Tone Curve PV2012 Red : 0, 0, 255, 255
Tone Curve PV2012 Green : 0, 0, 255, 255
Tone Curve PV2012 Blue : 0, 0, 255, 255
Image Width : 300
Image Height : 200
Bits Per Sample : 8
Color Components : 3
Aperture : 7.1
Image Size : 300x200
Megapixels : 0.060
Scale Factor To 35 mm Equivalent : 1.0
Shutter Speed : 1/25
Create Date : 2014:12:16 15:30:54.10
Date/Time Original : 2014:12:16 15:30:54.10
Circle Of Confusion : 0.030 mm
Depth Of Field : inf (2.70 m - inf)
Field Of View : 73.7 deg
Focal Length : 24.0 mm (35 mm equivalent: 24.0 mm)
Hyperfocal Distance : 2.70 m
Light Value : 8.6
Lens ID : AF-S Zoom-Nikkor 14-24mm f/2.8G ED