Uber Exif Photo
Keywords : NikonD610, LeeBigStopper, Nikon24-120 f4.0
Copyright Notice : GAW Photograpyy
By-line : Geir Walmann
Photometric Interpretation : RGB
Make : NIKON CORPORATION
Camera Model Name : NIKON D610
Planar Configuration : Chunky
Software : Adobe Photoshop Lightroom 5.3 (Windows)
Modify Date : 2014:02:06 18:32:53
Artist : Geir Walmann
Copyright : GAW Photograpyy
Exposure Time : 30
F Number : 11.0
Exposure Program : Manual
ISO : 100
Sensitivity Type : Recommended Exposure Index
Date/Time Original : 2014:02:06 16:09:08
Create Date : 2014:02:06 16:09:08
Shutter Speed Value : 30
Aperture Value : 11.0
Exposure Compensation : 0
Max Aperture Value : 4.0
Metering Mode : Multi-segment
Light Source : Fine Weather
Flash : Off, Did not fire
Focal Length : 24.0 mm
User Comment : ..Keywords: Nikon24-120 f4.0;LeeBigStopper;NikonD610
Color Space : Uncalibrated
Exif Image Width : 1211
Exif Image Height : 811
Sensing Method : One-chip color area
Scene Type : Directly photographed
CFA Pattern : [Red,Green][Green,Blue]
Custom Rendered : Custom
Exposure Mode : Manual
White Balance : Manual
Digital Zoom Ratio : 1
Focal Length In 35mm Format : 24 mm
Scene Capture Type : Standard
Gain Control : None
Contrast : Normal
Saturation : High
Sharpness : Hard
Subject Distance Range : Unknown
Serial Number : 6000826
Lens Info : 24-120mm f/4
Lens Model : 24.0-120.0 mm f/4.0
Orientation : Horizontal (normal)
Profile Description : sRGB IEC61966-2.1
Format : image/jpeg
Creator : Geir Walmann
Rights : GAW Photograpyy
Subject : Nikon24-120 f4.0, LeeBigStopper, NikonD610
Creator Tool : Adobe Photoshop Lightroom 5.3 (Windows)
Lens : 24.0-120.0 mm f/4.0
Image Number : 2265
Approximate Focus Distance : 10
Date Created : 2014:02:06 16:09:08.80
Version : 8.3
Process Version : 6.7
Auto White Version : 134348800
Color Temperature : 50000
Tint : +41
Luminance Smoothing : 14
Color Noise Reduction : 25
Vignette Amount : 0
Shadow Tint : 0
Red Hue : 0
Red Saturation : 0
Green Hue : 0
Green Saturation : 0
Blue Hue : 0
Blue Saturation : 0
Vibrance : +19
Hue Adjustment Red : 0
Hue Adjustment Orange : 0
Hue Adjustment Yellow : 0
Hue Adjustment Green : 0
Hue Adjustment Aqua : 0
Hue Adjustment Blue : 0
Hue Adjustment Purple : 0
Hue Adjustment Magenta : 0
Saturation Adjustment Red : 0
Saturation Adjustment Orange : 0
Saturation Adjustment Yellow : 0
Saturation Adjustment Green : 0
Saturation Adjustment Aqua : 0
Saturation Adjustment Blue : 0
Saturation Adjustment Purple : 0
Saturation Adjustment Magenta : 0
Luminance Adjustment Red : 0
Luminance Adjustment Orange : 0
Luminance Adjustment Yellow : 0
Luminance Adjustment Green : 0
Luminance Adjustment Aqua : 0
Luminance Adjustment Blue : 0
Luminance Adjustment Purple : 0
Luminance Adjustment Magenta : 0
Split Toning Shadow Hue : 0
Split Toning Shadow Saturation : 0
Split Toning Highlight Hue : 0
Split Toning Highlight Saturation : 11
Split Toning Balance : 0
Parametric Shadows : 0
Parametric Darks : 0
Parametric Lights : 0
Parametric Highlights : 0
Parametric Shadow Split : 25
Parametric Midtone Split : 50
Parametric Highlight Split : 75
Sharpen Radius : +1.0
Sharpen Detail : 25
Sharpen Edge Masking : 0
Post Crop Vignette Amount : 0
Grain Amount : 0
Luminance Noise Reduction Detail : 50
Color Noise Reduction Detail : 50
Luminance Noise Reduction Contrast : 0
Color Noise Reduction Smoothness : 50
Lens Profile Enable : 0
Lens Manual Distortion Amount : 0
Perspective Vertical : 0
Perspective Horizontal : 0
Perspective Rotate : 0.0
Perspective Scale : 100
Perspective Aspect : 0
Perspective Upright : Off
Auto Lateral CA : 0
Exposure 2012 : +2.98
Contrast 2012 : 0
Highlights 2012 : -5
Shadows 2012 : +50
Whites 2012 : 0
Blacks 2012 : 0
Clarity 2012 : +38
Defringe Purple Amount : 0
Defringe Purple Hue Lo : 30
Defringe Purple Hue Hi : 70
Defringe Green Amount : 0
Defringe Green Hue Lo : 40
Defringe Green Hue Hi : 60
Convert To Grayscale : False
Tone Curve Name 2012 : Linear
Camera Profile : Adobe Standard
Lens Profile Setup : LensDefaults
Has Settings : True
Crop Top : 0.017306
Crop Left : 0.004797
Crop Bottom : 0.982694
Crop Right : 0.995203
Crop Angle : -0.673547
Crop Constrain To Warp : 0
Has Crop : True
Already Applied : True
Tone Curve PV2012 : 0, 0, 255, 255
Tone Curve PV2012 Red : 0, 0, 255, 255
Tone Curve PV2012 Green : 0, 0, 255, 255
Tone Curve PV2012 Blue : 0, 0, 255, 255
Gradient Based Corr What : Correction
Gradient Based Corr Amount : 1.000000
Gradient Based Corr Active : true
Gradient Based Corr Saturation : 0.379310
Gradient Based Corr Sharpness : 0.218390
Gradient Based Corr Brightness : 0.000000
Gradient Based Corr Toning Hue : 0.000000
Gradient Based Corr Toning Saturation : 0.000000
Gradient Based Corr Exposure 2012 : -0.356250
Gradient Based Corr Contrast 2012 : 0.103450
Gradient Based Corr Highlights 2012 : -0.126440
Gradient Based Corr Shadows 2012 : 0.218390
Gradient Based Corr Clarity 2012 : 0.241380
Gradient Based Corr Luminance Noise : 0.000000
Gradient Based Corr Moire : 0.000000
Gradient Based Corr Defringe : 0.000000
Gradient Based Corr Temperature : 0.000000
Gradient Based Corr Tint : 0.000000
Gradient Based Corr Mask What : Mask/Gradient
Gradient Based Corr Mask Value : 1.000000
Gradient Based Corr Mask Zero X : 0.515604
Gradient Based Corr Mask Zero Y : 0.845528
Gradient Based Corr Mask Full X : 0.514247
Gradient Based Corr Mask Full Y : 0.569106
Image Width : 300
Image Height : 201
Bits Per Sample : 8
Color Components : 3
Aperture : 11.0
Image Size : 300x201
Megapixels : 0.060
Scale Factor To 35 mm Equivalent : 1.0
Shutter Speed : 30
Create Date : 2014:02:06 16:09:08.80
Date/Time Original : 2014:02:06 16:09:08.80
Circle Of Confusion : 0.030 mm
Depth Of Field : inf (1.49 m - inf)
Field Of View : 73.7 deg
Focal Length : 24.0 mm (35 mm equivalent: 24.0 mm)
Hyperfocal Distance : 1.74 m
Light Value : 2.0
Lens ID : AF-S Nikkor 24-120mm f/4G ED VR