Uber Exif Photo
Copyright Notice : Geir Walmann
By-line : Geir Walmann
Photometric Interpretation : RGB
Make : NIKON CORPORATION
Camera Model Name : NIKON D7000
Planar Configuration : Chunky
Software : Adobe Photoshop Lightroom 4.2 (Windows)
Modify Date : 2012:10:15 02:14:33
Artist : Geir Walmann
Copyright : Geir Walmann
Exposure Time : 10
F Number : 4.0
Exposure Program : Manual
ISO : 800
Sensitivity Type : Recommended Exposure Index
Date/Time Original : 2012:10:14 22:55:26
Create Date : 2012:10:14 22:55:26
Shutter Speed Value : 10
Aperture Value : 4.0
Exposure Compensation : 0
Max Aperture Value : 2.8
Metering Mode : Multi-segment
Light Source : Unknown
Flash : Off, Did not fire
Focal Length : 14.0 mm
Color Space : Uncalibrated
Exif Image Width : 1150
Exif Image Height : 1737
Sensing Method : One-chip color area
Scene Type : Directly photographed
CFA Pattern : [Red,Green][Green,Blue]
Custom Rendered : Custom
Exposure Mode : Manual
White Balance : Auto
Digital Zoom Ratio : 1
Focal Length In 35mm Format : 21 mm
Scene Capture Type : Standard
Gain Control : Low gain up
Contrast : Normal
Saturation : Normal
Sharpness : Normal
Subject Distance Range : Unknown
Serial Number : 6274951
Lens Info : 14mm f/2.8-1.4
Lens Model : 14.0 mm f/2.8
Orientation : Horizontal (normal)
Profile Description : sRGB IEC61966-2.1
Format : image/jpeg
Creator : Geir Walmann
Rights : Geir Walmann
Creator Tool : Adobe Photoshop Lightroom 4.2 (Windows)
Lens : 14.0 mm f/2.8
Image Number : 13574
Approximate Focus Distance : 4294967295
Date Created : 2012:10:14 22:55:26.20
Version : 7.2
Process Version : 6.7
Color Temperature : 4550
Tint : +51
Luminance Smoothing : 38
Color Noise Reduction : 25
Vignette Amount : 0
Shadow Tint : 0
Red Hue : 0
Red Saturation : 0
Green Hue : 0
Green Saturation : 0
Blue Hue : 0
Blue Saturation : 0
Vibrance : 0
Hue Adjustment Red : 0
Hue Adjustment Orange : 0
Hue Adjustment Yellow : 0
Hue Adjustment Green : 0
Hue Adjustment Aqua : 0
Hue Adjustment Blue : 0
Hue Adjustment Purple : 0
Hue Adjustment Magenta : 0
Saturation Adjustment Red : 0
Saturation Adjustment Orange : 0
Saturation Adjustment Yellow : 0
Saturation Adjustment Green : 0
Saturation Adjustment Aqua : 0
Saturation Adjustment Blue : 0
Saturation Adjustment Purple : 0
Saturation Adjustment Magenta : 0
Luminance Adjustment Red : 0
Luminance Adjustment Orange : 0
Luminance Adjustment Yellow : 0
Luminance Adjustment Green : 0
Luminance Adjustment Aqua : 0
Luminance Adjustment Blue : 0
Luminance Adjustment Purple : 0
Luminance Adjustment Magenta : 0
Split Toning Shadow Hue : 0
Split Toning Shadow Saturation : 0
Split Toning Highlight Hue : 0
Split Toning Highlight Saturation : 0
Split Toning Balance : 0
Parametric Shadows : 0
Parametric Darks : 0
Parametric Lights : 0
Parametric Highlights : 0
Parametric Shadow Split : 25
Parametric Midtone Split : 50
Parametric Highlight Split : 75
Sharpen Radius : +1.0
Sharpen Detail : 25
Sharpen Edge Masking : 0
Post Crop Vignette Amount : 0
Grain Amount : 0
Luminance Noise Reduction Detail : 50
Color Noise Reduction Detail : 50
Luminance Noise Reduction Contrast : 0
Lens Profile Enable : 0
Lens Manual Distortion Amount : 0
Perspective Vertical : 0
Perspective Horizontal : 0
Perspective Rotate : 0.0
Perspective Scale : 100
Auto Lateral CA : 0
Exposure 2012 : +1.55
Contrast 2012 : +25
Highlights 2012 : -14
Shadows 2012 : 0
Whites 2012 : +43
Blacks 2012 : 0
Clarity 2012 : +12
Defringe Purple Amount : 0
Defringe Purple Hue Lo : 30
Defringe Purple Hue Hi : 70
Defringe Green Amount : 0
Defringe Green Hue Lo : 40
Defringe Green Hue Hi : 60
Convert To Grayscale : False
Tone Curve Name 2012 : Linear
Camera Profile : Adobe Standard
Lens Profile Setup : LensDefaults
Has Settings : True
Has Crop : False
Already Applied : True
Tone Curve PV2012 : 0, 0, 255, 255
Tone Curve PV2012 Red : 0, 0, 255, 255
Tone Curve PV2012 Green : 0, 0, 255, 255
Tone Curve PV2012 Blue : 0, 0, 255, 255
Image Width : 198
Image Height : 300
Bits Per Sample : 8
Color Components : 3
Aperture : 4.0
Image Size : 198x300
Megapixels : 0.059
Scale Factor To 35 mm Equivalent : 1.5
Shutter Speed : 10
Create Date : 2012:10:14 22:55:26.20
Date/Time Original : 2012:10:14 22:55:26.20
Circle Of Confusion : 0.020 mm
Depth Of Field : inf (2.45 m - inf)
Field Of View : 81.2 deg
Focal Length : 14.0 mm (35 mm equivalent: 21.0 mm)
Hyperfocal Distance : 2.45 m
Light Value : -2.3
Lens ID : Samyang AE 14mm f/2.8 ED AS IF UMC