Uber Exif Photo
Copyright Notice : (C)2009 {Geir Walmann}, all rights reserved
By-line Title : Nikon digital camera user
By-line : {Geir Walmann}
Photometric Interpretation : RGB
Make : NIKON CORPORATION
Camera Model Name : NIKON D7000
Planar Configuration : Chunky
Software : Adobe Photoshop Lightroom 3.4.1
Modify Date : 2012:02:14 14:17:31
Artist : {Geir Walmann}
Copyright : (C)2009 {Geir Walmann}, all rights reserved
Exposure Time : 1/320
F Number : 18.0
Exposure Program : Shutter speed priority AE
ISO : 100
Date/Time Original : 2012:02:08 15:48:54
Create Date : 2012:02:08 15:48:54
Shutter Speed Value : 1/320
Aperture Value : 18.0
Exposure Compensation : +2/3
Max Aperture Value : 2.8
Subject Distance : 2.51 m
Metering Mode : Spot
Light Source : Cloudy
Flash : Off, Did not fire
Focal Length : 17.0 mm
Sensing Method : One-chip color area
Scene Type : Directly photographed
CFA Pattern : [Red,Green][Green,Blue]
Custom Rendered : Normal
Exposure Mode : Auto
White Balance : Manual
Digital Zoom Ratio : 1
Focal Length In 35mm Format : 25 mm
Scene Capture Type : Standard
Gain Control : None
Contrast : Normal
Saturation : Normal
Sharpness : Soft
Subject Distance Range : Unknown
Serial Number : 6274951
Lens Info : 17-55mm f/2.8
Lens Model : 17.0-55.0 mm f/2.8
Exif Image Width : 2267
Exif Image Height : 1506
Color Space : Uncalibrated
Orientation : Horizontal (normal)
Profile Description : sRGB IEC61966-2.1
Authors Position : Nikon digital camera user
Date Created : 2012:02:08 15:48:54.50
Rating Percent : 0
Creator Tool : Adobe Photoshop Lightroom 3.4.1
Lens : 17.0-55.0 mm f/2.8
Image Number : 2444
Approximate Focus Distance : 2.51
Version : 6.4.1
Process Version : 5.7
Color Temperature : 4150
Tint : 0
Exposure : +1.04
Shadows : 5
Brightness : +50
Luminance Smoothing : 72
Color Noise Reduction : 25
Chromatic Aberration R : 0
Chromatic Aberration B : 0
Vignette Amount : 0
Shadow Tint : 0
Red Hue : 0
Red Saturation : 0
Green Hue : 0
Green Saturation : 0
Blue Hue : 0
Blue Saturation : 0
Fill Light : 41
Vibrance : 0
Highlight Recovery : 71
Clarity : +37
Defringe : 0
Hue Adjustment Red : 0
Hue Adjustment Orange : 0
Hue Adjustment Yellow : 0
Hue Adjustment Green : 0
Hue Adjustment Aqua : 0
Hue Adjustment Blue : 0
Hue Adjustment Purple : 0
Hue Adjustment Magenta : 0
Saturation Adjustment Red : 0
Saturation Adjustment Orange : 0
Saturation Adjustment Yellow : 0
Saturation Adjustment Green : 0
Saturation Adjustment Aqua : 0
Saturation Adjustment Blue : 0
Saturation Adjustment Purple : 0
Saturation Adjustment Magenta : 0
Luminance Adjustment Red : 0
Luminance Adjustment Orange : 0
Luminance Adjustment Yellow : 0
Luminance Adjustment Green : 0
Luminance Adjustment Aqua : 0
Luminance Adjustment Blue : 0
Luminance Adjustment Purple : 0
Luminance Adjustment Magenta : 0
Split Toning Shadow Hue : 0
Split Toning Shadow Saturation : 0
Split Toning Highlight Hue : 0
Split Toning Highlight Saturation : 0
Split Toning Balance : 0
Parametric Shadows : 0
Parametric Darks : +98
Parametric Lights : -13
Parametric Highlights : 0
Parametric Shadow Split : 25
Parametric Midtone Split : 50
Parametric Highlight Split : 75
Sharpen Radius : +1.5
Sharpen Detail : 25
Sharpen Edge Masking : 0
Post Crop Vignette Amount : 0
Grain Amount : 0
Luminance Noise Reduction Detail : 50
Color Noise Reduction Detail : 50
Luminance Noise Reduction Contrast : 0
Lens Profile Enable : 1
Lens Manual Distortion Amount : 0
Perspective Vertical : 0
Perspective Horizontal : 0
Perspective Rotate : 0.0
Perspective Scale : 100
Convert To Grayscale : False
Tone Curve Name : Medium Contrast
Camera Profile : Adobe Standard
Lens Profile Setup : LensDefaults
Lens Profile Name : Adobe (Nikon AF-S DX Zoom-Nikkor 17-55mm f/2.8G IF-ED)
Lens Profile Filename : NIKON D90 (Nikon AF-S DX Zoom-NIKKOR 17-55mm f2.8G IF-ED) - RAW.lcp
Lens Profile Distortion Scale : 100
Lens Profile Chromatic Aberration Scale : 100
Lens Profile Vignetting Scale : 100
Has Settings : True
Has Crop : False
Already Applied : True
Tone Curve : 0, 0, 32, 22, 64, 56, 128, 128, 192, 196, 255, 255
Creator : {Geir Walmann}
Rights : (C)2009 {Geir Walmann}, all rights reserved
Usage Terms : For consideration only, no reproduction without prior permission
Image Width : 300
Image Height : 199
Bits Per Sample : 8
Color Components : 3
Aperture : 18.0
Image Size : 300x199
Megapixels : 0.060
Scale Factor To 35 mm Equivalent : 1.5
Shutter Speed : 1/320
Create Date : 2012:02:08 15:48:54.50
Date/Time Original : 2012:02:08 15:48:54.50
Circle Of Confusion : 0.020 mm
Depth Of Field : inf (0.60 m - inf)
Field Of View : 71.5 deg
Focal Length : 17.0 mm (35 mm equivalent: 25.0 mm)
Hyperfocal Distance : 0.79 m
Light Value : 16.7
Lens ID : AF-S DX Zoom-Nikkor 17-55mm f/2.8G IF-ED