Uber Exif Photo
Keywords : Nikon 200-500mm f/5.6E VR, Nikon Z6
Make : NIKON CORPORATION
Camera Model Name : NIKON Z 6
Software : Adobe Photoshop Lightroom Classic 11.5 (Windows)
Modify Date : 2022:09:15 13:49:16
Exposure Time : 1/640
F Number : 9.0
Exposure Program : Manual
ISO : 1800
Sensitivity Type : Recommended Exposure Index
Recommended Exposure Index : 1800
Date/Time Original : 2022:09:14 12:20:19
Create Date : 2022:09:14 12:20:19
Shutter Speed Value : 1/640
Aperture Value : 9.0
Exposure Compensation : 0
Metering Mode : Spot
Light Source : Unknown
Flash : No Flash
Focal Length : 290.0 mm
Color Space : sRGB
Sensing Method : One-chip color area
Scene Type : Directly photographed
CFA Pattern : [Red,Green][Green,Blue]
Custom Rendered : Custom
Exposure Mode : Manual
White Balance : Auto
Focal Length In 35mm Format : 290 mm
Scene Capture Type : Standard
Gain Control : Low gain up
Contrast : Normal
Saturation : Normal
Sharpness : Hard
Subject Distance Range : Unknown
Serial Number : 6009652
Lens Info : 200-500mm f/5.6
Lens Model : 200.0-500.0 mm f/5.6
Profile Description : sRGB IEC61966-2.1
Creator Tool : Adobe Photoshop Lightroom Classic 11.5 (Windows)
Lens : 200.0-500.0 mm f/5.6
Image Number : 3742
Distortion Correction Already Applied : True
Lateral Chromatic Aberration Correction Already Applied : True
Vignette Correction Already Applied : True
Date Created : 2022:09:14 12:20:19.08+02:00
Preserved File Name : _DSC3738.NEF
Format : image/jpeg
Raw File Name : _DSC3738.NEF
Version : 14.5
Process Version : 11.0
Color Temperature : 4904
Tint : -7
Exposure 2012 : -0.68
Contrast 2012 : 0
Highlights 2012 : -100
Shadows 2012 : +58
Whites 2012 : 0
Blacks 2012 : -49
Texture : 0
Clarity 2012 : +21
Dehaze : -23
Vibrance : 0
Parametric Shadows : 0
Parametric Darks : 0
Parametric Lights : 0
Parametric Highlights : 0
Parametric Shadow Split : 25
Parametric Midtone Split : 50
Parametric Highlight Split : 75
Sharpen Radius : +1.0
Sharpen Detail : 25
Sharpen Edge Masking : 0
Luminance Smoothing : 0
Color Noise Reduction : 25
Color Noise Reduction Detail : 50
Color Noise Reduction Smoothness : 50
Hue Adjustment Red : 0
Hue Adjustment Orange : 0
Hue Adjustment Yellow : 0
Hue Adjustment Green : 0
Hue Adjustment Aqua : 0
Hue Adjustment Blue : 0
Hue Adjustment Purple : 0
Hue Adjustment Magenta : 0
Saturation Adjustment Red : +50
Saturation Adjustment Orange : 0
Saturation Adjustment Yellow : +52
Saturation Adjustment Green : -57
Saturation Adjustment Aqua : 0
Saturation Adjustment Blue : 0
Saturation Adjustment Purple : 0
Saturation Adjustment Magenta : 0
Luminance Adjustment Red : -5
Luminance Adjustment Orange : -50
Luminance Adjustment Yellow : -1
Luminance Adjustment Green : -49
Luminance Adjustment Aqua : +100
Luminance Adjustment Blue : 0
Luminance Adjustment Purple : 0
Luminance Adjustment Magenta : 0
Split Toning Shadow Hue : 0
Split Toning Shadow Saturation : 0
Split Toning Highlight Hue : 0
Split Toning Highlight Saturation : 0
Split Toning Balance : 0
Color Grade Midtone Hue : 0
Color Grade Midtone Sat : 0
Color Grade Shadow Lum : 0
Color Grade Midtone Lum : 0
Color Grade Highlight Lum : 0
Color Grade Blending : 50
Color Grade Global Hue : 0
Color Grade Global Sat : 0
Color Grade Global Lum : 0
Auto Lateral CA : 1
Lens Profile Enable : 0
Lens Manual Distortion Amount : 0
Vignette Amount : 0
Defringe Purple Amount : 0
Defringe Purple Hue Lo : 30
Defringe Purple Hue Hi : 70
Defringe Green Amount : 0
Defringe Green Hue Lo : 40
Defringe Green Hue Hi : 60
Perspective Upright : Off
Perspective Vertical : 0
Perspective Horizontal : 0
Perspective Rotate : 0.0
Perspective Aspect : 0
Perspective Scale : 100
Perspective X : 0.00
Perspective Y : 0.00
Grain Amount : 0
Post Crop Vignette Amount : -22
Post Crop Vignette Midpoint : 50
Post Crop Vignette Feather : 50
Post Crop Vignette Roundness : 0
Post Crop Vignette Style : Highlight Priority
Post Crop Vignette Highlight Contrast : 0
Shadow Tint : 0
Red Hue : 0
Red Saturation : 0
Green Hue : 0
Green Saturation : 0
Blue Hue : 0
Blue Saturation : 0
Override Look Vignette : False
Tone Curve Name 2012 : Linear
Camera Profile : Adobe Standard v2
Has Settings : True
Crop Top : 0.305675
Crop Left : 0.197174
Crop Bottom : 1
Crop Right : 0.891499
Crop Angle : 0
Crop Constrain To Warp : 0
Has Crop : True
Already Applied : True
Subject : Nikon 200-500mm f/5.6E VR, Nikon Z6
Weighted Flat Subject : Nikon 200-500mm f/5.6E VR, Nikon Z6
Tone Curve PV2012 : 0, 0, 255, 255
Tone Curve PV2012 Red : 0, 0, 255, 255
Tone Curve PV2012 Green : 0, 0, 255, 255
Tone Curve PV2012 Blue : 0, 0, 255, 255
Look Name : Adobe Landscape
Look Amount : 1
Look Supports Amount : false
Look Supports Monochrome : false
Look Supports Output Referred : false
Look Group : Profiles
Look Parameters Version : 14.5
Look Parameters Process Version : 11.0
Look Parameters Highlights 2012 : -12
Look Parameters Shadows 2012 : +12
Look Parameters Clarity 2012 : +10
Look Parameters Convert To Grayscale : False
Look Parameters Camera Profile : Adobe Standard
Look Parameters Look Table : 0B3BFB5CFB7DBF7FF175E98F24D316B0
Look Parameters Tone Curve PV2012 : 0, 0, 64, 60, 128, 128, 192, 196, 255, 255
Image Width : 400
Image Height : 601
Bits Per Sample : 8
Color Components : 3
Aperture : 9.0
Image Size : 400x601
Megapixels : 0.240
Scale Factor To 35 mm Equivalent : 1.0
Shutter Speed : 1/640
Create Date : 2022:09:14 12:20:19.08+02:00
Date/Time Original : 2022:09:14 12:20:19.08+02:00
Modify Date : 2022:09:15 13:49:16+02:00
Circle Of Confusion : 0.030 mm
Field Of View : 7.1 deg
Focal Length : 290.0 mm (35 mm equivalent: 290.0 mm)
Hyperfocal Distance : 311.00 m
Light Value : 11.5
Lens ID : 200.0-500.0mm f/5.6