Uber Exif Photo
Keywords : NikonFE, AgfaAPX100
Photometric Interpretation : RGB
Planar Configuration : Chunky
Software : Adobe Photoshop Lightroom Classic 11.2 (Windows)
Modify Date : 2022:02:25 10:59:37
Color Space : sRGB
Exif Image Width : 3337
Exif Image Height : 2225
Orientation : Horizontal (normal)
Profile Description : sRGB IEC61966-2.1
Preserved File Name : img198.tif
Format : image/jpeg
Subject : AgfaAPX100, NikonFE
Creator Tool : Adobe Photoshop Lightroom Classic 11.2 (Windows)
Raw File Name : Version : 14.2
Compatible Version : 234881024
Process Version : 11.0
White Balance : As Shot
Incremental Temperature : 0
Incremental Tint : 0
Exposure 2012 : 0.00
Contrast 2012 : 0
Highlights 2012 : -93
Shadows 2012 : +88
Whites 2012 : +42
Blacks 2012 : +56
Texture : -25
Clarity 2012 : +29
Dehaze : 0
Parametric Shadows : 0
Parametric Darks : 0
Parametric Lights : 0
Parametric Highlights : 0
Parametric Shadow Split : 25
Parametric Midtone Split : 50
Parametric Highlight Split : 75
Sharpness : 86
Sharpen Radius : +1.0
Sharpen Detail : 46
Sharpen Edge Masking : 0
Luminance Smoothing : 0
Color Noise Reduction : 0
Gray Mixer Red : 0
Gray Mixer Orange : 0
Gray Mixer Yellow : 0
Gray Mixer Green : 0
Gray Mixer Aqua : 0
Gray Mixer Blue : 0
Gray Mixer Purple : 0
Gray Mixer Magenta : 0
Split Toning Shadow Hue : 0
Split Toning Shadow Saturation : 0
Split Toning Highlight Hue : 0
Split Toning Highlight Saturation : 0
Split Toning Balance : 0
Color Grade Midtone Hue : 0
Color Grade Midtone Sat : 0
Color Grade Shadow Lum : 0
Color Grade Midtone Lum : 0
Color Grade Highlight Lum : 0
Color Grade Blending : 50
Color Grade Global Hue : 0
Color Grade Global Sat : 0
Color Grade Global Lum : 0
Auto Lateral CA : 0
Lens Profile Enable : 0
Lens Manual Distortion Amount : 0
Vignette Amount : 0
Perspective Upright : Off
Perspective Vertical : 0
Perspective Horizontal : 0
Perspective Rotate : 0.0
Perspective Aspect : 0
Perspective Scale : 100
Perspective X : 0.00
Perspective Y : 0.00
Grain Amount : 0
Post Crop Vignette Amount : 0
Shadow Tint : 0
Red Hue : 0
Red Saturation : 0
Green Hue : 0
Green Saturation : 0
Blue Hue : 0
Blue Saturation : 0
Convert To Grayscale : True
Override Look Vignette : False
Tone Curve Name 2012 : Linear
Camera Profile : Embedded
Has Settings : True
Crop Top : 0.017266
Crop Left : 0.027968
Crop Bottom : 0.956835
Crop Right : 0.930564
Crop Angle : 0
Crop Constrain To Warp : 0
Has Crop : True
Already Applied : True
Tone Curve PV2012 : 0, 0, 255, 255
Tone Curve PV2012 Red : 0, 0, 255, 255
Tone Curve PV2012 Green : 0, 0, 255, 255
Tone Curve PV2012 Blue : 0, 0, 255, 255
Weighted Flat Subject : NikonFE, AgfaAPX100
Image Width : 400
Image Height : 267
Bits Per Sample : 8
Color Components : 1
Image Size : 400x267
Megapixels : 0.107
Modify Date : 2022:02:25 10:59:37+01:00