Uber Exif Photo
Make : NIKON CORPORATION
Camera Model Name : NIKON D90
Orientation : Horizontal (normal)
Software : ViewNX 2.0 M
Modify Date : 2011:04:10 08:12:21
Exposure Time : 1/50
F Number : 11.0
Exposure Program : Aperture-priority AE
ISO : 200
Date/Time Original : 2011:03:20 12:26:24
Create Date : 2011:03:20 12:26:24
Shutter Speed Value : 0.7
Aperture Value : 11.0
Exposure Compensation : 0
Max Aperture Value : 4.1
Subject Distance : inf
Metering Mode : Multi-segment
Light Source : Unknown
Focal Length : 32.0 mm
Maker Note Version : 2.10
Image Data Size : 384422
Nikon Capture Version : ViewNX 2.0 M
IFD0 Offset : 1204
Preview IFD Offset : 1104
NEF Bit Depth : n/a (JPEG)
Color Space : Uncalibrated
Exif Image Width : 1024
Exif Image Height : 680
Sensing Method : One-chip color area
Scene Type : Directly photographed
CFA Pattern : [Green,Blue][Red,Green]
Custom Rendered : Normal
Exposure Mode : Auto
White Balance : Auto
Digital Zoom Ratio : 1
Focal Length In 35mm Format : 48 mm
Scene Capture Type : Standard
Gain Control : None
Contrast : Normal
Saturation : Normal
Sharpness : Normal
Subject Distance Range : Unknown
Serial Number : 7440842
Lens Info : 18-105mm f/3.5-5.6
Lens Model : 18.0-105.0 mm f/3.5-5.6
Profile Description : Adobe RGB (1998)
Rating Percent : 0
Date/Time Digitized : 2011:03:20 12:26:24Z
Creator Tool : Nikon Transfer 2.0 M
Rating : 0
Lens : 18.0-105.0 mm f/3.5-5.6
Image Number : 9181
Approximate Focus Distance : 4294967295
Raw File Name : Tantallon Castle_062.NEF
Version : 6.3
Process Version : 5.7
Color Temperature : 5350
Tint : +4
Exposure : -2.25
Shadows : 0
Brightness : +50
Luminance Smoothing : 0
Color Noise Reduction : 25
Chromatic Aberration R : 0
Chromatic Aberration B : 0
Vignette Amount : 0
Shadow Tint : 0
Red Hue : 0
Red Saturation : 0
Green Hue : 0
Green Saturation : 0
Blue Hue : 0
Blue Saturation : 0
Fill Light : 100
Vibrance : +45
Highlight Recovery : 76
Clarity : +36
Defringe : 0
Hue Adjustment Red : 0
Hue Adjustment Orange : 0
Hue Adjustment Yellow : 0
Hue Adjustment Green : 0
Hue Adjustment Aqua : 0
Hue Adjustment Blue : 0
Hue Adjustment Purple : 0
Hue Adjustment Magenta : 0
Saturation Adjustment Red : 0
Saturation Adjustment Orange : 0
Saturation Adjustment Yellow : 0
Saturation Adjustment Green : 0
Saturation Adjustment Aqua : 0
Saturation Adjustment Blue : 0
Saturation Adjustment Purple : 0
Saturation Adjustment Magenta : 0
Luminance Adjustment Red : 0
Luminance Adjustment Orange : 0
Luminance Adjustment Yellow : 0
Luminance Adjustment Green : 0
Luminance Adjustment Aqua : 0
Luminance Adjustment Blue : 0
Luminance Adjustment Purple : 0
Luminance Adjustment Magenta : 0
Split Toning Shadow Hue : 0
Split Toning Shadow Saturation : 0
Split Toning Highlight Hue : 0
Split Toning Highlight Saturation : 0
Split Toning Balance : 0
Parametric Shadows : 0
Parametric Darks : 0
Parametric Lights : 0
Parametric Highlights : 0
Parametric Shadow Split : 25
Parametric Midtone Split : 50
Parametric Highlight Split : 75
Sharpen Radius : +1.0
Sharpen Detail : 25
Sharpen Edge Masking : 0
Post Crop Vignette Amount : 0
Grain Amount : 0
Color Noise Reduction Detail : 50
Lens Profile Enable : 0
Lens Manual Distortion Amount : 0
Perspective Vertical : 0
Perspective Horizontal : 0
Perspective Rotate : 0.0
Perspective Scale : 100
Convert To Grayscale : False
Tone Curve Name : Medium Contrast
Camera Profile : Adobe Standard
Lens Profile Setup : LensDefaults
Has Settings : True
Has Crop : False
Already Applied : True
Sidecar For Extension : NEF
Color Mode : RGB
ICC Profile Name : Adobe RGB (1998)
Format : image/jpeg
Flash Fired : False
Flash Return : No return detection
Flash Mode : Unknown
Flash Function : False
Flash Red Eye Mode : False
Tone Curve : 0, 0, 32, 22, 64, 56, 128, 128, 192, 196, 255, 255
Image Width : 300
Image Height : 199
Bits Per Sample : 8
Color Components : 3
Aperture : 11.0
Image Size : 300x199
Megapixels : 0.060
Scale Factor To 35 mm Equivalent : 1.5
Shutter Speed : 1/50
Create Date : 2011:03:20 12:26:24.00
Date/Time Original : 2011:03:20 12:26:24.00
Modify Date : 2011:04:10 08:12:21.00
Flash : No Flash
Circle Of Confusion : 0.020 mm
Depth Of Field : inf (4.65 m - inf)
Field Of View : 41.1 deg
Focal Length : 32.0 mm (35 mm equivalent: 48.0 mm)
Hyperfocal Distance : 4.65 m
Light Value : 11.6
Lens ID : AF-S DX VR Zoom-Nikkor 18-105mm f/3.5-5.6G ED