Uber Exif Photo
Keywords : Summer Trip July 2010
By-line : Ali Bahadori
By-line Title : Accountant
Copyright Notice : © Ali Bahadori
Copyright Flag : True
Make : NIKON CORPORATION
Camera Model Name : NIKON D40X
Software : PictureProject 1.7.4 W
Modify Date : 2010:08:01 16:30:56
Exposure Time : 1/60
F Number : 5.6
Exposure Program : Program AE
ISO : 200
Date/Time Original : 2010:07:31 08:44:59
Create Date : 2010:07:31 08:44:59
Shutter Speed Value : 1/60
Aperture Value : 5.6
Exposure Compensation : 0
Max Aperture Value : 5.7
Subject Distance : 1.68 m
Metering Mode : Multi-segment
Light Source : Unknown
Focal Length : 200.0 mm
User Comment : ALI BAHADORI
Sensing Method : One-chip color area
Scene Type : Directly photographed
Custom Rendered : Normal
Exposure Mode : Auto
White Balance : Auto
Digital Zoom Ratio : 1
Focal Length In 35mm Format : 300 mm
Scene Capture Type : Standard
Gain Control : None
Contrast : Normal
Saturation : High
Sharpness : Hard
Subject Distance Range : Unknown
Profile Description : sRGB IEC61966-2.1
Orientation : Horizontal (normal)
Date/Time Digitized : 2010:07:31 08:44:59.60-04:00
Exif Image Width : 3872
Exif Image Height : 2592
Creator Tool : PictureProject 1.7.4 W
Label : Red
Rating : 1
Serial Number : 5003614
Lens Info : 18-200mm f/3.5-5.6
Lens : 18.0-200.0 mm f/3.5-5.6
Image Number : 10695
Marked : True
Authors Position : Accountant
Version : 6.2
Process Version : 5.0
Incremental Temperature : -43
Incremental Tint : -25
Exposure : 0.00
Shadows : 0
Brightness : 0
Luminance Smoothing : 0
Color Noise Reduction : 0
Chromatic Aberration R : 0
Chromatic Aberration B : 0
Vignette Amount : 0
Shadow Tint : 0
Red Hue : 0
Red Saturation : 0
Green Hue : 0
Green Saturation : 0
Blue Hue : 0
Blue Saturation : 0
Fill Light : 10
Vibrance : 0
Highlight Recovery : 0
Clarity : 0
Defringe : 0
Hue Adjustment Red : 0
Hue Adjustment Orange : 0
Hue Adjustment Yellow : 0
Hue Adjustment Green : 0
Hue Adjustment Aqua : 0
Hue Adjustment Blue : 0
Hue Adjustment Purple : 0
Hue Adjustment Magenta : 0
Saturation Adjustment Red : 0
Saturation Adjustment Orange : 0
Saturation Adjustment Yellow : 0
Saturation Adjustment Green : 0
Saturation Adjustment Aqua : 0
Saturation Adjustment Blue : 0
Saturation Adjustment Purple : 0
Saturation Adjustment Magenta : 0
Luminance Adjustment Red : 0
Luminance Adjustment Orange : 0
Luminance Adjustment Yellow : 0
Luminance Adjustment Green : 0
Luminance Adjustment Aqua : 0
Luminance Adjustment Blue : 0
Luminance Adjustment Purple : 0
Luminance Adjustment Magenta : 0
Split Toning Shadow Hue : 0
Split Toning Shadow Saturation : 0
Split Toning Highlight Hue : 0
Split Toning Highlight Saturation : 0
Split Toning Balance : 0
Parametric Shadows : 0
Parametric Darks : 0
Parametric Lights : 0
Parametric Highlights : 0
Parametric Shadow Split : 25
Parametric Midtone Split : 50
Parametric Highlight Split : 75
Sharpen Radius : +1.0
Sharpen Detail : 25
Sharpen Edge Masking : 0
Post Crop Vignette Amount : 0
Grain Amount : 0
Lens Profile Enable : 0
Lens Manual Distortion Amount : 0
Perspective Vertical : 0
Perspective Horizontal : 0
Perspective Rotate : 0.0
Perspective Scale : 100
Convert To Grayscale : False
Tone Curve Name : Linear
Camera Profile : Embedded
Lens Profile Setup : LensDefaults
Has Settings : True
Already Applied : False
Raw File Name : Toronto New Market 2010-07-31 (9).JPG
Flash Fired : True
Flash Return : Return detected
Flash Mode : Auto
Flash Function : False
Flash Red Eye Mode : True
Saved Settings Name : Import
Saved Settings Type : Snapshot
Saved Settings Parameters Version : 6.2
Saved Settings Parameters Process Version : 5.0
Saved Settings Parameters White Balance : As Shot
Saved Settings Parameters Incremental Temperature : 0
Saved Settings Parameters Incremental Tint : 0
Saved Settings Parameters Exposure : 0.00
Saved Settings Parameters Shadows : 0
Saved Settings Parameters Brightness : 0
Saved Settings Parameters Contrast : 0
Saved Settings Parameters Saturation : 0
Saved Settings Parameters Sharpness : 0
Saved Settings Parameters Luminance Smoothing : 0
Saved Settings Parameters Color Noise Reduction : 0
Saved Settings Parameters Chromatic Aberration R : 0
Saved Settings Parameters Chromatic Aberration B : 0
Saved Settings Parameters Vignette Amount : 0
Saved Settings Parameters Shadow Tint : 0
Saved Settings Parameters Red Hue : 0
Saved Settings Parameters Red Saturation : 0
Saved Settings Parameters Green Hue : 0
Saved Settings Parameters Green Saturation : 0
Saved Settings Parameters Blue Hue : 0
Saved Settings Parameters Blue Saturation : 0
Saved Settings Parameters Fill Light : 0
Saved Settings Parameters Vibrance : 0
Saved Settings Parameters Highlight Recovery : 0
Saved Settings Parameters Clarity : 0
Saved Settings Parameters Defringe : 0
Saved Settings Parameters Hue Adjustment Red : 0
Saved Settings Parameters Hue Adjustment Orange : 0
Saved Settings Parameters Hue Adjustment Yellow : 0
Saved Settings Parameters Hue Adjustment Green : 0
Saved Settings Parameters Hue Adjustment Aqua : 0
Saved Settings Parameters Hue Adjustment Blue : 0
Saved Settings Parameters Hue Adjustment Purple : 0
Saved Settings Parameters Hue Adjustment Magenta : 0
Saved Settings Parameters Saturation Adjustment Red : 0
Saved Settings Parameters Saturation Adjustment Orange : 0
Saved Settings Parameters Saturation Adjustment Yellow : 0
Saved Settings Parameters Saturation Adjustment Green : 0
Saved Settings Parameters Saturation Adjustment Aqua : 0
Saved Settings Parameters Saturation Adjustment Blue : 0
Saved Settings Parameters Saturation Adjustment Purple : 0
Saved Settings Parameters Saturation Adjustment Magenta : 0
Saved Settings Parameters Luminance Adjustment Red : 0
Saved Settings Parameters Luminance Adjustment Orange : 0
Saved Settings Parameters Luminance Adjustment Yellow : 0
Saved Settings Parameters Luminance Adjustment Green : 0
Saved Settings Parameters Luminance Adjustment Aqua : 0
Saved Settings Parameters Luminance Adjustment Blue : 0
Saved Settings Parameters Luminance Adjustment Purple : 0
Saved Settings Parameters Luminance Adjustment Magenta : 0
Saved Settings Parameters Split Toning Shadow Hue : 0
Saved Settings Parameters Split Toning Shadow Saturation : 0
Saved Settings Parameters Split Toning Highlight Hue : 0
Saved Settings Parameters Split Toning Highlight Saturation : 0
Saved Settings Parameters Split Toning Balance : 0
Saved Settings Parameters Parametric Shadows : 0
Saved Settings Parameters Parametric Darks : 0
Saved Settings Parameters Parametric Lights : 0
Saved Settings Parameters Parametric Highlights : 0
Saved Settings Parameters Parametric Shadow Split : 25
Saved Settings Parameters Parametric Midtone Split : 50
Saved Settings Parameters Parametric Highlight Split : 75
Saved Settings Parameters Sharpen Radius : +1.0
Saved Settings Parameters Sharpen Detail : 25
Saved Settings Parameters Sharpen Edge Masking : 0
Saved Settings Parameters Post Crop Vignette Amount : 0
Saved Settings Parameters Grain Amount : 0
Saved Settings Parameters Lens Profile Enable : 0
Saved Settings Parameters Lens Manual Distortion Amount : 0
Saved Settings Parameters Perspective Vertical : 0
Saved Settings Parameters Perspective Horizontal : 0
Saved Settings Parameters Perspective Rotate : 0.0
Saved Settings Parameters Perspective Scale : 100
Saved Settings Parameters Convert To Grayscale : False
Saved Settings Parameters Tone Curve Name : Linear
Saved Settings Parameters Camera Profile : Embedded
Saved Settings Parameters Lens Profile Setup : LensDefaults
Saved Settings Parameters Tone Curve : 0, 0, 255, 255
Creator : Ali Bahadori
Rights : © Ali Bahadori
Subject : Summer Trip July 2010
Creator Postal Code : M2J
Creator Work Telephone : 416-520-8585
Creator Region : ON
Creator City : Toronto
Creator Country : Canada
Creator Address : Parkway Forest Drive
Creator Work Email : Bahadori.Ali@Gmail.com
Creator Work URL : N/A
Hierarchical Subject : Summer Trip July 2010
Tone Curve : 0, 0, 255, 255
Image Width : 300
Image Height : 201
Bits Per Sample : 8
Color Components : 3
Aperture : 5.6
Image Size : 300x201
Megapixels : 0.060
Scale Factor To 35 mm Equivalent : 1.5
Shutter Speed : 1/60
Create Date : 2010:07:31 08:44:59.60
Date/Time Original : 2010:07:31 08:44:59.60
Flash : Auto, Fired, Red-eye reduction, Return detected
Circle Of Confusion : 0.020 mm
Depth Of Field : 0.014 m (1.673 - 1.687 m)
Field Of View : 6.9 deg
Focal Length : 200.0 mm (35 mm equivalent: 300.0 mm)
Hyperfocal Distance : 356.59 m
Light Value : 9.9
Lens ID : AF-S DX VR Zoom-Nikkor 18-200mm f/3.5-5.6G IF-ED [II] or AF-S DX VR Zoom-Nikkor 18-200mm f/3.5-5.6G IF-ED