Uber Exif Photo
By-line : Jose Pires Goncalves
Copyright Notice : JPG
Make : NIKON CORPORATION
Camera Model Name : NIKON D300
Orientation : Horizontal (normal)
Software : Adobe Photoshop CS5 (12.0x20100115 [20100115.m.998 2010/01/15:02:00:00 cutoff; m branch]) Windows
Modify Date : 2010:06:11 00:53:05
Artist : Jose Pires Goncalves
Copyright : JPG
Exposure Time : 0.6
F Number : 22.0
Exposure Program : Aperture-priority AE
ISO : 200
Date/Time Original : 2010:06:10 18:04:11
Create Date : 2010:06:10 18:04:11
Shutter Speed Value : 0.6
Aperture Value : 22.0
Exposure Compensation : 0
Max Aperture Value : 3.9
Subject Distance : 4294967295 m
Metering Mode : Multi-segment
Light Source : Unknown
Flash : No Flash
Focal Length : 13.0 mm
Color Space : Uncalibrated
Exif Image Width : 750
Exif Image Height : 498
Sensing Method : One-chip color area
Scene Type : Directly photographed
CFA Pattern : [Red,Green][Green,Blue]
Custom Rendered : Normal
Exposure Mode : Auto
White Balance : Auto
Digital Zoom Ratio : 1
Focal Length In 35mm Format : 19 mm
Scene Capture Type : Standard
Gain Control : None
Contrast : Normal
Saturation : Normal
Sharpness : Normal
Subject Distance Range : Unknown
Profile Description : Adobe RGB (1998)
Creator Tool : Ver.1.10
Rating : 0
Format : image/jpeg
Serial Number : 4026038
Lens Info : 10-24mm f/3.5-4.5
Lens : 10.0-24.0 mm f/3.5-4.5
Image Number : 5828
Raw File Name : _DSC5547.NEF
Version : 6.0
Process Version : 5.7
Color Temperature : 6850
Tint : -10
Exposure : 0.00
Shadows : 7
Brightness : +34
Luminance Smoothing : 0
Color Noise Reduction : 25
Chromatic Aberration R : 0
Chromatic Aberration B : 0
Vignette Amount : 0
Shadow Tint : 0
Red Hue : 0
Red Saturation : 0
Green Hue : 0
Green Saturation : 0
Blue Hue : 0
Blue Saturation : 0
Fill Light : 0
Vibrance : +37
Highlight Recovery : 39
Clarity : +46
Defringe : 0
Hue Adjustment Red : 0
Hue Adjustment Orange : 0
Hue Adjustment Yellow : 0
Hue Adjustment Green : 0
Hue Adjustment Aqua : 0
Hue Adjustment Blue : 0
Hue Adjustment Purple : 0
Hue Adjustment Magenta : 0
Saturation Adjustment Red : 0
Saturation Adjustment Orange : 0
Saturation Adjustment Yellow : 0
Saturation Adjustment Green : 0
Saturation Adjustment Aqua : 0
Saturation Adjustment Blue : 0
Saturation Adjustment Purple : 0
Saturation Adjustment Magenta : 0
Luminance Adjustment Red : 0
Luminance Adjustment Orange : 0
Luminance Adjustment Yellow : 0
Luminance Adjustment Green : 0
Luminance Adjustment Aqua : 0
Luminance Adjustment Blue : 0
Luminance Adjustment Purple : 0
Luminance Adjustment Magenta : 0
Split Toning Shadow Hue : 0
Split Toning Shadow Saturation : 0
Split Toning Highlight Hue : 0
Split Toning Highlight Saturation : 0
Split Toning Balance : 0
Parametric Shadows : 0
Parametric Darks : 0
Parametric Lights : 0
Parametric Highlights : 0
Parametric Shadow Split : 25
Parametric Midtone Split : 50
Parametric Highlight Split : 75
Sharpen Radius : +1.0
Sharpen Detail : 25
Sharpen Edge Masking : 0
Post Crop Vignette Amount : 0
Grain Amount : 0
Color Noise Reduction Detail : 50
Convert To Grayscale : False
Tone Curve Name : Medium Contrast
Camera Profile : Adobe Standard
Has Settings : True
Has Crop : False
Already Applied : True
Sidecar For Extension : NEF
Color Mode : RGB
ICC Profile Name : Adobe RGB (1998)
Date Created : 2010:01:06
Creator : Jose Pires Goncalves
Rights : JPG
Tone Curve : 0, 0, 32, 22, 64, 56, 128, 128, 192, 196, 255, 255
Image Width : 300
Image Height : 199
Bits Per Sample : 8
Color Components : 3
Aperture : 22.0
Image Size : 300x199
Megapixels : 0.060
Scale Factor To 35 mm Equivalent : 1.5
Shutter Speed : 0.6
Create Date : 2010:06:10 18:04:11.16
Date/Time Original : 2010:06:10 18:04:11.16
Modify Date : 2010:06:11 00:53:05.16
Circle Of Confusion : 0.021 mm
Depth Of Field : inf (0.37 m - inf)
Field Of View : 86.9 deg
Focal Length : 13.0 mm (35 mm equivalent: 19.0 mm)
Hyperfocal Distance : 0.37 m
Light Value : 8.7
Lens ID : AF-S DX Nikkor 10-24mm f/3.5-4.5G ED