Uber Exif Photo
Make : NIKON CORPORATION
Camera Model Name : NIKON D300S
Orientation : Horizontal (normal)
Software : Adobe Photoshop CS5 Windows
Modify Date : 2010:12:31 15:44:59
Exposure Time : 1/500
F Number : 4.0
Exposure Program : Aperture-priority AE
ISO : 1800
Sensitivity Type : Unknown
Date/Time Original : 2010:12:30 14:36:36
Create Date : 2010:12:30 14:36:36
Shutter Speed Value : 1/500
Aperture Value : 4.0
Exposure Compensation : +1/3
Max Aperture Value : 2.8
Subject Distance : 4294967295 m
Metering Mode : Multi-segment
Light Source : Unknown
Flash : No Flash
Focal Length : 200.0 mm
Color Space : Uncalibrated
Exif Image Width : 2923
Exif Image Height : 4134
Sensing Method : One-chip color area
Scene Type : Directly photographed
CFA Pattern : [Red,Green][Green,Blue]
Custom Rendered : Normal
Exposure Mode : Auto
White Balance : Auto
Digital Zoom Ratio : 1
Focal Length In 35mm Format : 300 mm
Scene Capture Type : Standard
Gain Control : High gain up
Contrast : Normal
Saturation : Normal
Sharpness : Normal
Subject Distance Range : Unknown
Serial Number : 6036317
Lens Info : 70-200mm f/2.8
Lens Model : 70.0-200.0 mm f/2.8
Profile Description : Adobe RGB (1998)
Creator Tool : Ver.1.01
Rating : 0
Lens : 70.0-200.0 mm f/2.8
Image Number : 7351
Approximate Focus Distance : 4294967295
Raw File Name : _DSC7288.dng
Version : 6.3
Process Version : 5.7
Color Temperature : 7250
Tint : +6
Exposure : 0.00
Shadows : 5
Brightness : +50
Luminance Smoothing : 20
Color Noise Reduction : 24
Chromatic Aberration R : 0
Chromatic Aberration B : 0
Vignette Amount : 0
Shadow Tint : 0
Red Hue : 0
Red Saturation : 0
Green Hue : 0
Green Saturation : 0
Blue Hue : 0
Blue Saturation : 0
Fill Light : 0
Vibrance : 0
Highlight Recovery : 0
Clarity : +40
Defringe : 0
Hue Adjustment Red : 0
Hue Adjustment Orange : 0
Hue Adjustment Yellow : 0
Hue Adjustment Green : 0
Hue Adjustment Aqua : 0
Hue Adjustment Blue : 0
Hue Adjustment Purple : 0
Hue Adjustment Magenta : 0
Saturation Adjustment Red : 0
Saturation Adjustment Orange : 0
Saturation Adjustment Yellow : 0
Saturation Adjustment Green : 0
Saturation Adjustment Aqua : 0
Saturation Adjustment Blue : 0
Saturation Adjustment Purple : 0
Saturation Adjustment Magenta : 0
Luminance Adjustment Red : 0
Luminance Adjustment Orange : 0
Luminance Adjustment Yellow : 0
Luminance Adjustment Green : 0
Luminance Adjustment Aqua : 0
Luminance Adjustment Blue : 0
Luminance Adjustment Purple : 0
Luminance Adjustment Magenta : 0
Split Toning Shadow Hue : 0
Split Toning Shadow Saturation : 0
Split Toning Highlight Hue : 0
Split Toning Highlight Saturation : 0
Split Toning Balance : 0
Parametric Shadows : +6
Parametric Darks : -9
Parametric Lights : +20
Parametric Highlights : 0
Parametric Shadow Split : 25
Parametric Midtone Split : 50
Parametric Highlight Split : 75
Sharpen Radius : +1.2
Sharpen Detail : 34
Sharpen Edge Masking : 65
Post Crop Vignette Amount : 0
Grain Amount : 0
Luminance Noise Reduction Detail : 50
Color Noise Reduction Detail : 50
Luminance Noise Reduction Contrast : 49
Lens Profile Enable : 1
Lens Manual Distortion Amount : 0
Perspective Vertical : 0
Perspective Horizontal : 0
Perspective Rotate : 0.0
Perspective Scale : 100
Convert To Grayscale : False
Tone Curve Name : Medium Contrast
Camera Profile : Camera Portrait
Lens Profile Setup : LensDefaults
Lens Profile Name : Adobe (Nikon AF-S VR Zoom-Nikkor 70-200mm f/2.8G IF-ED)
Lens Profile Filename : NIKON D3X (Nikon FX 70-200mm f2.8 G IF ED) - RAW.lcp
Lens Profile Distortion Scale : 100
Lens Profile Chromatic Aberration Scale : 100
Lens Profile Vignetting Scale : 100
Has Settings : True
Has Crop : False
Already Applied : True
Format : image/jpeg
Color Mode : RGB
ICC Profile Name : Adobe RGB (1998)
Date Created : 2010:12:30 14:36:36.008
Tone Curve : 0, 0, 32, 22, 64, 56, 128, 128, 192, 196, 255, 255
Image Width : 212
Image Height : 300
Bits Per Sample : 8
Color Components : 3
Aperture : 4.0
Image Size : 212x300
Megapixels : 0.064
Scale Factor To 35 mm Equivalent : 1.5
Shutter Speed : 1/500
Create Date : 2010:12:30 14:36:36.08
Date/Time Original : 2010:12:30 14:36:36.08
Modify Date : 2010:12:31 15:44:59.08
Circle Of Confusion : 0.020 mm
Depth Of Field : inf (499.23 m - inf)
Field Of View : 6.9 deg
Focal Length : 200.0 mm (35 mm equivalent: 300.0 mm)
Hyperfocal Distance : 499.23 m
Light Value : 8.8
Lens ID : AF-S VR Zoom-Nikkor 70-200mm f/2.8G IF-ED