Uber Exif Photo
Photometric Interpretation : RGB
Make : NIKON CORPORATION
Camera Model Name : NIKON D300S
Orientation : Horizontal (normal)
Samples Per Pixel : 3
Software : Adobe Photoshop CS5 Windows
Modify Date : 2010:11:12 21:17:17
Exposure Time : 1/1000
F Number : 5.0
Exposure Program : Aperture-priority AE
ISO : 1250
Sensitivity Type : Unknown
Date/Time Original : 2010:11:07 15:09:34
Create Date : 2010:11:07 15:09:34
Shutter Speed Value : 1/1000
Aperture Value : 5.0
Exposure Compensation : 0
Max Aperture Value : 2.8
Subject Distance : 4294967295 m
Metering Mode : Multi-segment
Light Source : Unknown
Flash : No Flash
Focal Length : 75.0 mm
Color Space : Uncalibrated
Exif Image Width : 2689
Exif Image Height : 3803
Sensing Method : One-chip color area
Scene Type : Directly photographed
CFA Pattern : [Red,Green][Green,Blue]
Custom Rendered : Normal
Exposure Mode : Auto
White Balance : Auto
Digital Zoom Ratio : 1
Focal Length In 35mm Format : 112 mm
Scene Capture Type : Standard
Gain Control : High gain up
Contrast : Normal
Saturation : Normal
Sharpness : Normal
Subject Distance Range : Unknown
Serial Number : 6036317
Lens Info : 70-200mm f/2.8
Lens Model : 70.0-200.0 mm f/2.8
Profile Description : Adobe RGB (1998)
Creator Tool : Adobe Photoshop CS5 Windows
Rating : 0
Lens : 70.0-200.0 mm f/2.8
Image Number : 6737
Approximate Focus Distance : 4294967295
Raw File Name : _DSC6676.dng
Version : 6.2
Process Version : 5.7
Color Temperature : 4200
Tint : +7
Exposure : 0.00
Shadows : 5
Brightness : +50
Luminance Smoothing : 9
Color Noise Reduction : 25
Chromatic Aberration R : 0
Chromatic Aberration B : 0
Vignette Amount : 0
Shadow Tint : 0
Red Hue : 0
Red Saturation : 0
Green Hue : 0
Green Saturation : 0
Blue Hue : 0
Blue Saturation : 0
Fill Light : 0
Vibrance : 0
Highlight Recovery : 0
Clarity : +50
Defringe : 0
Hue Adjustment Red : 0
Hue Adjustment Orange : 0
Hue Adjustment Yellow : 0
Hue Adjustment Green : 0
Hue Adjustment Aqua : 0
Hue Adjustment Blue : 0
Hue Adjustment Purple : 0
Hue Adjustment Magenta : 0
Saturation Adjustment Red : 0
Saturation Adjustment Orange : 0
Saturation Adjustment Yellow : 0
Saturation Adjustment Green : 0
Saturation Adjustment Aqua : 0
Saturation Adjustment Blue : 0
Saturation Adjustment Purple : 0
Saturation Adjustment Magenta : 0
Luminance Adjustment Red : 0
Luminance Adjustment Orange : 0
Luminance Adjustment Yellow : 0
Luminance Adjustment Green : 0
Luminance Adjustment Aqua : 0
Luminance Adjustment Blue : 0
Luminance Adjustment Purple : 0
Luminance Adjustment Magenta : 0
Split Toning Shadow Hue : 0
Split Toning Shadow Saturation : 0
Split Toning Highlight Hue : 0
Split Toning Highlight Saturation : 0
Split Toning Balance : 0
Parametric Shadows : 0
Parametric Darks : -7
Parametric Lights : +7
Parametric Highlights : 0
Parametric Shadow Split : 25
Parametric Midtone Split : 50
Parametric Highlight Split : 75
Sharpen Radius : +1.2
Sharpen Detail : 28
Sharpen Edge Masking : 65
Post Crop Vignette Amount : 0
Grain Amount : 0
Luminance Noise Reduction Detail : 50
Color Noise Reduction Detail : 50
Luminance Noise Reduction Contrast : 0
Lens Profile Enable : 1
Lens Manual Distortion Amount : 0
Perspective Vertical : 0
Perspective Horizontal : 0
Perspective Rotate : 0.0
Perspective Scale : 100
Convert To Grayscale : False
Tone Curve Name : Medium Contrast
Camera Profile : Camera Neutral
Lens Profile Setup : Custom
Lens Profile Name : Adobe (Nikon AF-S VR Zoom-Nikkor 70-200mm f/2.8G IF-ED)
Lens Profile Filename : NIKON D3X (Nikon FX 70-200mm f2.8 G IF ED) - RAW.lcp
Lens Profile Distortion Scale : 100
Lens Profile Chromatic Aberration Scale : 151
Lens Profile Vignetting Scale : 100
Has Settings : True
Has Crop : False
Already Applied : True
Format : image/jpeg
Date Created : 2010:11:07 15:09:34.015
Color Mode : RGB
ICC Profile Name : Adobe RGB (1998)
Tone Curve : 0, 0, 32, 22, 64, 56, 128, 128, 192, 196, 255, 255
Image Width : 212
Image Height : 300
Bits Per Sample : 8
Color Components : 3
Aperture : 5.0
Image Size : 212x300
Megapixels : 0.064
Scale Factor To 35 mm Equivalent : 1.5
Shutter Speed : 1/1000
Create Date : 2010:11:07 15:09:34.15
Date/Time Original : 2010:11:07 15:09:34.15
Modify Date : 2010:11:12 21:17:17.15
Circle Of Confusion : 0.020 mm
Depth Of Field : inf (55.91 m - inf)
Field Of View : 18.3 deg
Focal Length : 75.0 mm (35 mm equivalent: 112.0 mm)
Hyperfocal Distance : 55.91 m
Light Value : 11.0
Lens ID : AF-S VR Zoom-Nikkor 70-200mm f/2.8G IF-ED