Uber Exif Photo
By-line : Dave Murrell
Copyright Notice : (c)Dave Murrell 07545189184
Make : NIKON CORPORATION
Camera Model Name : NIKON D300S
Orientation : Horizontal (normal)
Software : Adobe Photoshop CC (Macintosh)
Modify Date : 2013:09:15 21:04:40
Artist : Dave Murrell
Copyright : (c)Dave Murrell 07545189184
Exposure Time : 15
F Number : 8.0
Exposure Program : Manual
ISO : 200
Date/Time Original : 2013:09:14 10:28:14
Create Date : 2013:09:14 10:28:14
Shutter Speed Value : 15
Aperture Value : 8.0
Exposure Compensation : 0
Max Aperture Value : 2.8
Metering Mode : Center-weighted average
Light Source : Unknown
Flash : No Flash
Focal Length : 200.0 mm
Color Space : Uncalibrated
Exif Image Width : 3911
Exif Image Height : 2598
Sensing Method : One-chip color area
Scene Type : Directly photographed
CFA Pattern : [Red,Green][Green,Blue]
Custom Rendered : Custom
Exposure Mode : Manual
White Balance : Auto
Digital Zoom Ratio : 1
Focal Length In 35mm Format : 300 mm
Scene Capture Type : Standard
Gain Control : None
Contrast : Normal
Saturation : Normal
Sharpness : Normal
Subject Distance Range : Unknown
Serial Number : 7407751
Lens Info : 70-200mm f/2.8
Lens Model : 70.0-200.0 mm f/2.8
Format : image/jpeg
Creator Tool : Adobe Photoshop CC (Macintosh)
Rating : 0
Lens : 70.0-200.0 mm f/2.8
Image Number : 20471
Approximate Focus Distance : 5.62
Date Created : 2013:09:14 10:28:14.038
Color Mode : RGB
ICC Profile Name : Adobe RGB (1998)
Raw File Name : _DSC9891.NEF
Version : 8.1
Process Version : 6.7
Color Temperature : 4400
Tint : -6
Luminance Smoothing : 0
Color Noise Reduction : 25
Vignette Amount : 0
Shadow Tint : 0
Red Hue : 0
Red Saturation : 0
Green Hue : 0
Green Saturation : 0
Blue Hue : 0
Blue Saturation : 0
Vibrance : 0
Hue Adjustment Red : 0
Hue Adjustment Orange : 0
Hue Adjustment Yellow : 0
Hue Adjustment Green : 0
Hue Adjustment Aqua : 0
Hue Adjustment Blue : 0
Hue Adjustment Purple : 0
Hue Adjustment Magenta : 0
Saturation Adjustment Red : 0
Saturation Adjustment Orange : 0
Saturation Adjustment Yellow : 0
Saturation Adjustment Green : 0
Saturation Adjustment Aqua : 0
Saturation Adjustment Blue : 0
Saturation Adjustment Purple : 0
Saturation Adjustment Magenta : 0
Luminance Adjustment Red : 0
Luminance Adjustment Orange : 0
Luminance Adjustment Yellow : 0
Luminance Adjustment Green : 0
Luminance Adjustment Aqua : 0
Luminance Adjustment Blue : 0
Luminance Adjustment Purple : 0
Luminance Adjustment Magenta : 0
Split Toning Shadow Hue : 0
Split Toning Shadow Saturation : 0
Split Toning Highlight Hue : 0
Split Toning Highlight Saturation : 0
Split Toning Balance : 0
Parametric Shadows : 0
Parametric Darks : 0
Parametric Lights : 0
Parametric Highlights : 0
Parametric Shadow Split : 25
Parametric Midtone Split : 50
Parametric Highlight Split : 75
Sharpen Radius : +1.0
Sharpen Detail : 25
Sharpen Edge Masking : 0
Post Crop Vignette Amount : 0
Grain Amount : 0
Color Noise Reduction Detail : 50
Lens Profile Enable : 1
Lens Manual Distortion Amount : 0
Perspective Vertical : 0
Perspective Horizontal : 0
Perspective Rotate : 0.0
Perspective Scale : 100
Perspective Aspect : 0
Perspective Upright : Off
Auto Lateral CA : 0
Exposure 2012 : 0.00
Contrast 2012 : +53
Highlights 2012 : 0
Shadows 2012 : +12
Whites 2012 : +53
Blacks 2012 : -68
Clarity 2012 : +14
Defringe Purple Amount : 0
Defringe Purple Hue Lo : 30
Defringe Purple Hue Hi : 70
Defringe Green Amount : 0
Defringe Green Hue Lo : 40
Defringe Green Hue Hi : 60
Convert To Grayscale : False
Tone Curve Name 2012 : Linear
Camera Profile : Adobe Standard
Lens Profile Setup : LensDefaults
Lens Profile Name : Adobe (Nikon AF-S NIKKOR 70-200mm f/2.8G ED VR II)
Lens Profile Filename : NIKON D700 (Nikon AF-S NIKKOR 70-200mm f2.8G ED VR II) - RAW.lcp
Lens Profile Distortion Scale : 100
Lens Profile Chromatic Aberration Scale : 100
Lens Profile Vignetting Scale : 100
Has Settings : True
Has Crop : False
Already Applied : True
Creator : Dave Murrell
Rights : (c)Dave Murrell 07545189184
Tone Curve PV2012 : 0, 0, 255, 255
Tone Curve PV2012 Red : 0, 0, 255, 255
Tone Curve PV2012 Green : 0, 0, 255, 255
Tone Curve PV2012 Blue : 0, 0, 255, 255
Image Width : 300
Image Height : 199
Bits Per Sample : 8
Color Components : 1
Aperture : 8.0
Image Size : 300x199
Megapixels : 0.060
Scale Factor To 35 mm Equivalent : 1.5
Shutter Speed : 15
Create Date : 2013:09:14 10:28:14.38
Date/Time Original : 2013:09:14 10:28:14.38
Modify Date : 2013:09:15 21:04:40.38
Circle Of Confusion : 0.020 mm
Depth Of Field : 0.24 m (5.50 - 5.74 m)
Field Of View : 6.9 deg
Focal Length : 200.0 mm (35 mm equivalent: 300.0 mm)
Hyperfocal Distance : 249.62 m
Light Value : 1.1
Lens ID : AF-S Nikkor 70-200mm f/2.8G ED VR II