Uber Exif Photo
By-line : {your name}
By-line Title : Nikon digital camera user
Copyright Notice : (C)2009 {your name}, all rights reserved
Make : NIKON CORPORATION
Camera Model Name : NIKON D300S
Orientation : Horizontal (normal)
Software : Adobe Photoshop CS6 (13.0 20120305.m.415 2012/03/05:21:00:00) (Windows)
Modify Date : 2012:04:15 15:09:04
Artist : {your name}
Copyright : (C)2009 {your name}, all rights reserved
Exposure Time : 1/500
F Number : 1.8
Exposure Program : Aperture-priority AE
ISO : 200
Date/Time Original : 2012:04:15 14:20:36
Create Date : 2012:04:15 14:20:36
Shutter Speed Value : 1/500
Aperture Value : 1.8
Exposure Compensation : 0
Max Aperture Value : 1.7
Metering Mode : Center-weighted average
Light Source : Cloudy
Flash : No Flash
Focal Length : 50.0 mm
Color Space : Uncalibrated
Exif Image Width : 2934
Exif Image Height : 1949
Sensing Method : One-chip color area
Scene Type : Directly photographed
CFA Pattern : [Red,Green][Green,Blue]
Custom Rendered : Normal
Exposure Mode : Auto
White Balance : Manual
Digital Zoom Ratio : 1
Focal Length In 35mm Format : 75 mm
Scene Capture Type : Standard
Gain Control : None
Contrast : Normal
Saturation : Normal
Sharpness : Normal
Subject Distance Range : Unknown
Serial Number : 7407751
Lens Info : 50mm f/1.8
Lens Model : 50.0 mm f/1.8
Format : image/jpeg
Authors Position : Nikon digital camera user
Date Created : 2012:04:15 14:20:36.091
Color Mode : RGB
ICC Profile Name : Adobe RGB (1998)
Rating Percent : 0
Creator Tool : Nikon Transfer 1.5 W
Rating : 0
Lens : 50.0 mm f/1.8
Image Number : 9447
Approximate Focus Distance : 0.84
Raw File Name : _DSC9104.NEF
Version : 7.0
Process Version : 6.7
Color Temperature : 5500
Tint : +10
Exposure : 0.00
Shadows : 5
Brightness : +50
Luminance Smoothing : 0
Color Noise Reduction : 25
Vignette Amount : 0
Shadow Tint : 0
Red Hue : 0
Red Saturation : 0
Green Hue : 0
Green Saturation : 0
Blue Hue : 0
Blue Saturation : 0
Fill Light : 0
Vibrance : +38
Highlight Recovery : 0
Clarity : 0
Defringe : 0
Hue Adjustment Red : 0
Hue Adjustment Orange : 0
Hue Adjustment Yellow : 0
Hue Adjustment Green : 0
Hue Adjustment Aqua : 0
Hue Adjustment Blue : 0
Hue Adjustment Purple : 0
Hue Adjustment Magenta : 0
Saturation Adjustment Red : 0
Saturation Adjustment Orange : 0
Saturation Adjustment Yellow : 0
Saturation Adjustment Green : 0
Saturation Adjustment Aqua : 0
Saturation Adjustment Blue : 0
Saturation Adjustment Purple : 0
Saturation Adjustment Magenta : 0
Luminance Adjustment Red : 0
Luminance Adjustment Orange : 0
Luminance Adjustment Yellow : 0
Luminance Adjustment Green : 0
Luminance Adjustment Aqua : 0
Luminance Adjustment Blue : 0
Luminance Adjustment Purple : 0
Luminance Adjustment Magenta : 0
Split Toning Shadow Hue : 0
Split Toning Shadow Saturation : 0
Split Toning Highlight Hue : 0
Split Toning Highlight Saturation : 0
Split Toning Balance : 0
Parametric Shadows : 0
Parametric Darks : 0
Parametric Lights : 0
Parametric Highlights : 0
Parametric Shadow Split : 25
Parametric Midtone Split : 50
Parametric Highlight Split : 75
Sharpen Radius : +1.0
Sharpen Detail : 25
Sharpen Edge Masking : 0
Post Crop Vignette Amount : 0
Grain Amount : 0
Color Noise Reduction Detail : 50
Lens Profile Enable : 0
Lens Manual Distortion Amount : 0
Perspective Vertical : 0
Perspective Horizontal : 0
Perspective Rotate : 0.0
Perspective Scale : 100
Auto Lateral CA : 0
Exposure 2012 : +0.70
Contrast 2012 : -5
Highlights 2012 : -6
Shadows 2012 : +6
Whites 2012 : +28
Blacks 2012 : -17
Clarity 2012 : +43
Convert To Grayscale : False
Tone Curve Name : Medium Contrast
Tone Curve Name 2012 : Linear
Camera Profile : Adobe Standard
Lens Profile Setup : LensDefaults
Has Settings : True
Has Crop : False
Already Applied : True
Creator : {your name}
Rights : (C)2009 {your name}, all rights reserved
Usage Terms : For consideration only, no reproduction without prior permission
Tone Curve : 0, 0, 32, 22, 64, 56, 128, 128, 192, 196, 255, 255
Tone Curve Red : 0, 0, 255, 255
Tone Curve Green : 0, 0, 255, 255
Tone Curve Blue : 0, 0, 255, 255
Tone Curve PV2012 : 0, 0, 255, 255
Tone Curve PV2012 Red : 0, 0, 255, 255
Tone Curve PV2012 Green : 0, 0, 255, 255
Tone Curve PV2012 Blue : 0, 0, 255, 255
Image Width : 300
Image Height : 199
Bits Per Sample : 8
Color Components : 1
Aperture : 1.8
Image Size : 300x199
Megapixels : 0.060
Scale Factor To 35 mm Equivalent : 1.5
Shutter Speed : 1/500
Create Date : 2012:04:15 14:20:36.91
Date/Time Original : 2012:04:15 14:20:36.91
Modify Date : 2012:04:15 15:09:04.91
Circle Of Confusion : 0.020 mm
Depth Of Field : 0.019 m (0.831 - 0.850 m)
Field Of View : 27.0 deg
Focal Length : 50.0 mm (35 mm equivalent: 75.0 mm)
Hyperfocal Distance : 69.34 m
Light Value : 9.7
Lens ID : AF Nikkor 50mm f/1.8D