Uber Exif Photo
By-line : {your name}
By-line Title : Nikon digital camera user
Copyright Notice : (C)2009 {your name}, all rights reserved
Make : NIKON CORPORATION
Camera Model Name : NIKON D300S
Orientation : Horizontal (normal)
Software : Adobe Photoshop CS5 Windows
Modify Date : 2012:02:02 19:32:45
Artist : {your name}
Copyright : (C)2009 {your name}, all rights reserved
Exposure Time : 1/8
F Number : 5.0
Exposure Program : Manual
ISO : 200
Date/Time Original : 2012:01:15 11:29:21
Create Date : 2012:01:15 11:29:21
Shutter Speed Value : 1/8
Aperture Value : 5.0
Exposure Compensation : 0
Max Aperture Value : 4.9
Subject Distance : 21.1 m
Metering Mode : Multi-segment
Light Source : Cloudy
Flash : No Flash
Focal Length : 70.0 mm
Color Space : Uncalibrated
Exif Image Width : 3111
Exif Image Height : 2074
Sensing Method : One-chip color area
Scene Type : Directly photographed
CFA Pattern : [Red,Green][Green,Blue]
Custom Rendered : Normal
Exposure Mode : Manual
White Balance : Manual
Digital Zoom Ratio : 1
Focal Length In 35mm Format : 105 mm
Scene Capture Type : Standard
Gain Control : None
Contrast : Normal
Saturation : Normal
Sharpness : Normal
Subject Distance Range : Unknown
Serial Number : 7407751
Lens Info : 18-200mm f/3.5-5.6
Lens Model : 18.0-200.0 mm f/3.5-5.6
Profile Description : Adobe RGB (1998)
Format : image/jpeg
Authors Position : Nikon digital camera user
Date Created : 2012:01:15 11:29:21.058
Color Mode : RGB
ICC Profile Name : Adobe RGB (1998)
Rating Percent : 0
Creator Tool : Adobe Photoshop CS5 Windows
Rating : 0
Lens : 18.0-200.0 mm f/3.5-5.6
Image Number : 8111
Approximate Focus Distance : 21.1
Raw File Name : _DSC7801.NEF
Version : 6.6
Process Version : 5.7
Color Temperature : 5650
Tint : -1
Exposure : -0.85
Shadows : 100
Brightness : 0
Luminance Smoothing : 0
Color Noise Reduction : 25
Chromatic Aberration R : 0
Chromatic Aberration B : 0
Vignette Amount : 0
Shadow Tint : 0
Red Hue : 0
Red Saturation : 0
Green Hue : 0
Green Saturation : 0
Blue Hue : 0
Blue Saturation : 0
Fill Light : 41
Vibrance : +21
Highlight Recovery : 73
Clarity : -99
Defringe : 0
Hue Adjustment Red : 0
Hue Adjustment Orange : 0
Hue Adjustment Yellow : 0
Hue Adjustment Green : 0
Hue Adjustment Aqua : 0
Hue Adjustment Blue : 0
Hue Adjustment Purple : 0
Hue Adjustment Magenta : 0
Saturation Adjustment Red : 0
Saturation Adjustment Orange : 0
Saturation Adjustment Yellow : 0
Saturation Adjustment Green : 0
Saturation Adjustment Aqua : 0
Saturation Adjustment Blue : 0
Saturation Adjustment Purple : 0
Saturation Adjustment Magenta : 0
Luminance Adjustment Red : 0
Luminance Adjustment Orange : 0
Luminance Adjustment Yellow : 0
Luminance Adjustment Green : 0
Luminance Adjustment Aqua : 0
Luminance Adjustment Blue : 0
Luminance Adjustment Purple : 0
Luminance Adjustment Magenta : 0
Split Toning Shadow Hue : 0
Split Toning Shadow Saturation : 0
Split Toning Highlight Hue : 0
Split Toning Highlight Saturation : 0
Split Toning Balance : 0
Parametric Shadows : -100
Parametric Darks : -100
Parametric Lights : +100
Parametric Highlights : +100
Parametric Shadow Split : 25
Parametric Midtone Split : 50
Parametric Highlight Split : 75
Sharpen Radius : +1.0
Sharpen Detail : 25
Sharpen Edge Masking : 0
Post Crop Vignette Amount : 0
Grain Amount : 0
Color Noise Reduction Detail : 50
Lens Profile Enable : 0
Lens Manual Distortion Amount : 0
Perspective Vertical : 0
Perspective Horizontal : 0
Perspective Rotate : 0.0
Perspective Scale : 100
Convert To Grayscale : False
Tone Curve Name : Strong Contrast
Camera Profile : Adobe Standard
Lens Profile Setup : LensDefaults
Has Settings : True
Has Crop : False
Already Applied : True
Creator : {your name}
Rights : (C)2009 {your name}, all rights reserved
Usage Terms : For consideration only, no reproduction without prior permission
Tone Curve : 0, 0, 32, 16, 64, 50, 128, 128, 192, 202, 255, 255
Image Width : 300
Image Height : 200
Bits Per Sample : 8
Color Components : 3
Aperture : 5.0
Image Size : 300x200
Megapixels : 0.060
Scale Factor To 35 mm Equivalent : 1.5
Shutter Speed : 1/8
Create Date : 2012:01:15 11:29:21.58
Date/Time Original : 2012:01:15 11:29:21.58
Modify Date : 2012:02:02 19:32:45.58
Circle Of Confusion : 0.020 mm
Depth Of Field : 22.25 m (14.76 - 37.01 m)
Field Of View : 19.5 deg
Focal Length : 70.0 mm (35 mm equivalent: 105.0 mm)
Hyperfocal Distance : 48.92 m
Light Value : 6.6
Lens ID : AF-S DX VR Zoom-Nikkor 18-200mm f/3.5-5.6G IF-ED or AF-S DX VR Zoom-Nikkor 18-200mm f/3.5-5.6G IF-ED [II]