Uber Exif Photo
By-line : {your name}
By-line Title : Nikon digital camera user
Copyright Notice : (C)2009 {your name}, all rights reserved
Photometric Interpretation : BlackIsZero
Make : NIKON CORPORATION
Camera Model Name : NIKON D300S
Orientation : Horizontal (normal)
Samples Per Pixel : 1
Planar Configuration : Chunky
Software : Adobe Photoshop CS4 Windows
Modify Date : 2010:11:12 20:55:19
Artist : {your name}
Copyright : (C)2009 {your name}, all rights reserved
Exposure Time : 1/60
F Number : 8.0
Exposure Program : Aperture-priority AE
ISO : 200
Date/Time Original : 2010:10:27 17:20:00
Create Date : 2010:10:27 17:20:00
Shutter Speed Value : 1/60
Aperture Value : 8.0
Exposure Compensation : 0
Max Aperture Value : 4.3
Subject Distance : 0.84 m
Metering Mode : Multi-segment
Light Source : Unknown
Focal Length : 19.0 mm
Color Space : Uncalibrated
Exif Image Width : 324
Exif Image Height : 487
Sensing Method : One-chip color area
Scene Type : Directly photographed
CFA Pattern : [Red,Green][Green,Blue]
Custom Rendered : Normal
Exposure Mode : Auto
White Balance : Auto
Digital Zoom Ratio : 1
Focal Length In 35mm Format : 28 mm
Scene Capture Type : Standard
Gain Control : None
Contrast : Normal
Saturation : Normal
Sharpness : Normal
Subject Distance Range : Unknown
Format : image/jpeg
Authors Position : Nikon digital camera user
Color Mode : Grayscale
ICC Profile Name : Gray Gamma 2.2
Rating Percent : 0
Date/Time Digitized : 2010:10:27 17:20:00.66+01:00
Creator Tool : Nikon Transfer 1.5 W
Rating : 0
Serial Number : 7407751
Lens Info : 10-24mm f/3.5-4.5
Lens : 10.0-24.0 mm f/3.5-4.5
Image Number : 384
Raw File Name : DSC_0338.NEF
Version : 5.7
Process Version : 5.0
Color Temperature : 5400
Tint : -1
Exposure : 0.00
Shadows : 5
Brightness : +50
Luminance Smoothing : 0
Color Noise Reduction : 25
Chromatic Aberration R : 0
Chromatic Aberration B : 0
Vignette Amount : 0
Shadow Tint : 0
Red Hue : 0
Red Saturation : 0
Green Hue : 0
Green Saturation : 0
Blue Hue : 0
Blue Saturation : 0
Fill Light : 0
Highlight Recovery : 0
Clarity : 0
Defringe : 0
Gray Mixer Red : -8
Gray Mixer Orange : -19
Gray Mixer Yellow : -23
Gray Mixer Green : -28
Gray Mixer Aqua : -19
Gray Mixer Blue : +10
Gray Mixer Purple : +18
Gray Mixer Magenta : +7
Split Toning Shadow Hue : 0
Split Toning Shadow Saturation : 0
Split Toning Highlight Hue : 0
Split Toning Highlight Saturation : 0
Split Toning Balance : 0
Parametric Shadows : -29
Parametric Darks : 0
Parametric Lights : 0
Parametric Highlights : 0
Parametric Shadow Split : 25
Parametric Midtone Split : 50
Parametric Highlight Split : 75
Sharpen Radius : +1.0
Sharpen Detail : 25
Sharpen Edge Masking : 0
Post Crop Vignette Amount : 0
Grain Amount : 0
Convert To Grayscale : True
Tone Curve Name : Medium Contrast
Camera Profile : Adobe Standard
Has Settings : True
Crop Top : 0.469885
Crop Left : 0.198151
Crop Bottom : 0.854871
Crop Right : 0.5817
Crop Angle : 0
Crop Width : 2
Crop Height : 3
Crop Unit : Unknown (3)
Has Crop : True
Already Applied : True
Creator : {your name}
Rights : (C)2009 {your name}, all rights reserved
Flash Fired : True
Flash Return : Return detected
Flash Mode : On
Flash Function : False
Flash Red Eye Mode : False
Tone Curve : 0, 0, 32, 22, 64, 56, 128, 128, 192, 196, 255, 255
Usage Terms : For consideration only, no reproduction without prior permission
Image Width : 200
Image Height : 300
Bits Per Sample : 8
Color Components : 1
Aperture : 8.0
Image Size : 200x300
Megapixels : 0.060
Scale Factor To 35 mm Equivalent : 1.5
Shutter Speed : 1/60
Create Date : 2010:10:27 17:20:00.66
Date/Time Original : 2010:10:27 17:20:00.66
Flash : On, Return detected
Circle Of Confusion : 0.020 mm
Depth Of Field : 0.72 m (0.61 - 1.34 m)
Field Of View : 65.5 deg
Focal Length : 19.0 mm (35 mm equivalent: 28.0 mm)
Hyperfocal Distance : 2.21 m
Light Value : 10.9
Lens ID : AF-S DX Nikkor 10-24mm f/3.5-4.5G ED