Uber Exif Photo
By-line : peaceshooter
Copyright Notice : Dave L Hughes
Photometric Interpretation : RGB
Make : NIKON CORPORATION
Camera Model Name : NIKON D700
Orientation : Horizontal (normal)
Samples Per Pixel : 3
Software : Adobe Photoshop CS6 (Windows)
Modify Date : 2014:12:05 20:19:04
Artist : peaceshooter
Copyright : Dave L Hughes
Exposure Time : 1/80
F Number : 7.1
Exposure Program : Aperture-priority AE
ISO : 200
Date/Time Original : 2014:06:21 18:16:51
Create Date : 2014:06:21 18:16:51
Shutter Speed Value : 1/80
Aperture Value : 7.1
Exposure Compensation : -1/2
Max Aperture Value : 2.8
Metering Mode : Multi-segment
Light Source : Unknown
Flash : No Flash
Focal Length : 24.0 mm
Color Space : Uncalibrated
Exif Image Width : 3000
Exif Image Height : 1996
Sensing Method : One-chip color area
Scene Type : Directly photographed
CFA Pattern : [Red,Green][Green,Blue]
Custom Rendered : Normal
Exposure Mode : Auto
White Balance : Auto
Digital Zoom Ratio : 1
Focal Length In 35mm Format : 24 mm
Scene Capture Type : Standard
Gain Control : None
Contrast : Normal
Saturation : Normal
Sharpness : Normal
Subject Distance Range : Unknown
Serial Number : 2336527
Lens Info : 24mm f/2.8
Lens Model : 24.0 mm f/2.8
Creator Tool : Adobe Photoshop CS6 (Windows)
Rating : 0
Lens : 24.0 mm f/2.8
Image Number : 6107
Approximate Focus Distance : 0.42
Date Created : 2014:06:21 18:16:51.075+01:00
Color Mode : RGB
ICC Profile Name : Adobe RGB (1998)
Preserved File Name : _DSC6083.NEF
Format : image/jpeg
Raw File Name : _DSC6083.NEF
Version : 7.0
Process Version : 6.7
Color Temperature : 7800
Tint : +30
Exposure : 0.00
Shadows : 5
Brightness : +50
Luminance Smoothing : 0
Color Noise Reduction : 25
Vignette Amount : 0
Shadow Tint : 0
Red Hue : 0
Red Saturation : 0
Green Hue : 0
Green Saturation : 0
Blue Hue : 0
Blue Saturation : 0
Fill Light : 0
Vibrance : 0
Highlight Recovery : 0
Clarity : 0
Defringe : 0
Hue Adjustment Red : 0
Hue Adjustment Orange : 0
Hue Adjustment Yellow : 0
Hue Adjustment Green : 0
Hue Adjustment Aqua : 0
Hue Adjustment Blue : 0
Hue Adjustment Purple : 0
Hue Adjustment Magenta : 0
Saturation Adjustment Red : -100
Saturation Adjustment Orange : -100
Saturation Adjustment Yellow : -100
Saturation Adjustment Green : -100
Saturation Adjustment Aqua : -100
Saturation Adjustment Blue : -100
Saturation Adjustment Purple : -100
Saturation Adjustment Magenta : -100
Luminance Adjustment Red : +35
Luminance Adjustment Orange : +45
Luminance Adjustment Yellow : +14
Luminance Adjustment Green : -43
Luminance Adjustment Aqua : 0
Luminance Adjustment Blue : 0
Luminance Adjustment Purple : -25
Luminance Adjustment Magenta : -57
Split Toning Shadow Hue : 0
Split Toning Shadow Saturation : 0
Split Toning Highlight Hue : 0
Split Toning Highlight Saturation : 0
Split Toning Balance : 0
Parametric Shadows : 0
Parametric Darks : 0
Parametric Lights : 0
Parametric Highlights : 0
Parametric Shadow Split : 25
Parametric Midtone Split : 50
Parametric Highlight Split : 75
Sharpen Radius : +1.0
Sharpen Detail : 25
Sharpen Edge Masking : 0
Post Crop Vignette Amount : 0
Grain Amount : 0
Color Noise Reduction Detail : 50
Lens Profile Enable : 1
Lens Manual Distortion Amount : 0
Perspective Vertical : 0
Perspective Horizontal : 0
Perspective Rotate : 0.0
Perspective Scale : 100
Auto Lateral CA : 1
Exposure 2012 : 0.00
Contrast 2012 : +46
Highlights 2012 : -13
Shadows 2012 : +7
Whites 2012 : -13
Blacks 2012 : +8
Clarity 2012 : +40
Convert To Grayscale : False
Tone Curve Name : Medium Contrast
Tone Curve Name 2012 : Linear
Camera Profile : Adobe Standard
Lens Profile Setup : LensDefaults
Lens Profile Name : Adobe (Nikon AF NIKKOR 24mm f/2.8D)
Lens Profile Filename : NIKON D3X (Nikon AF NIKKOR 24mm f2.8D) - RAW.lcp
Lens Profile Distortion Scale : 100
Lens Profile Chromatic Aberration Scale : 100
Lens Profile Vignetting Scale : 100
Has Settings : True
Has Crop : False
Already Applied : True
Creator : peaceshooter
Rights : Dave L Hughes
Tone Curve : 0, 0, 32, 22, 64, 56, 128, 128, 192, 196, 255, 255
Tone Curve Red : 0, 0, 255, 255
Tone Curve Green : 0, 0, 255, 255
Tone Curve Blue : 0, 0, 255, 255
Tone Curve PV2012 : 0, 0, 255, 255
Tone Curve PV2012 Red : 0, 0, 255, 255
Tone Curve PV2012 Green : 0, 0, 255, 255
Tone Curve PV2012 Blue : 0, 0, 255, 255
Image Width : 300
Image Height : 200
Bits Per Sample : 8
Color Components : 1
Aperture : 7.1
Image Size : 300x200
Megapixels : 0.060
Scale Factor To 35 mm Equivalent : 1.0
Shutter Speed : 1/80
Create Date : 2014:06:21 18:16:51.75
Date/Time Original : 2014:06:21 18:16:51.75
Modify Date : 2014:12:05 20:19:04.75
Circle Of Confusion : 0.030 mm
Depth Of Field : 0.13 m (0.37 - 0.49 m)
Field Of View : 73.7 deg
Focal Length : 24.0 mm (35 mm equivalent: 24.0 mm)
Hyperfocal Distance : 2.70 m
Light Value : 11.0
Lens ID : AF Nikkor 24mm f/2.8D