Uber Exif Photo
By-line : Albert Johar
Copyright Notice : Albert Johar© 2010
Copyright Flag : True
Make : NIKON CORPORATION
Camera Model Name : NIKON D80
Software : Ver.1.11
Modify Date : 2010:10:23 10:54:35
Copyright : Albert Johar(C) 2010
Exposure Time : 1/400
F Number : 16.0
Exposure Program : Aperture-priority AE
ISO : 320
Date/Time Original : 2010:10:06 13:21:23
Create Date : 2010:10:06 13:21:23
Shutter Speed Value : 1/400
Aperture Value : 16.0
Exposure Compensation : 0
Max Aperture Value : 3.2
Metering Mode : Multi-segment
Light Source : Unknown
Focal Length : 60.0 mm
Sensing Method : One-chip color area
Scene Type : Directly photographed
CFA Pattern : [Green,Blue][Red,Green]
Custom Rendered : Normal
Exposure Mode : Auto
White Balance : Auto
Digital Zoom Ratio : 1
Focal Length In 35mm Format : 90 mm
Scene Capture Type : Standard
Gain Control : None
Contrast : Normal
Saturation : Normal
Sharpness : Normal
Subject Distance Range : Unknown
Profile Description : Adobe RGB (1998)
Date/Time Digitized : 2010:10:06 13:21:23.20+11:00
Exif Image Width : 2232
Exif Image Height : 2528
Creator Tool : Adobe Photoshop Lightroom
Serial Number : 6060030
Lens Info : 60mm f/2.8
Lens : 60.0 mm f/2.8
Image Number : 23190
Marked : True
Version : 5.5
Color Temperature : 4650
Tint : +5
Exposure : -0.10
Shadows : 14
Brightness : +50
Luminance Smoothing : 0
Color Noise Reduction : 25
Chromatic Aberration R : 0
Chromatic Aberration B : 0
Vignette Amount : 0
Shadow Tint : 0
Red Hue : 0
Red Saturation : 0
Green Hue : 0
Green Saturation : 0
Blue Hue : 0
Blue Saturation : 0
Fill Light : 0
Vibrance : 0
Highlight Recovery : 6
Clarity : +17
Defringe : 0
Hue Adjustment Red : 0
Hue Adjustment Orange : 0
Hue Adjustment Yellow : 0
Hue Adjustment Green : 0
Hue Adjustment Aqua : 0
Hue Adjustment Blue : 0
Hue Adjustment Purple : 0
Hue Adjustment Magenta : 0
Saturation Adjustment Red : 0
Saturation Adjustment Orange : 0
Saturation Adjustment Yellow : 0
Saturation Adjustment Green : 0
Saturation Adjustment Aqua : 0
Saturation Adjustment Blue : 0
Saturation Adjustment Purple : 0
Saturation Adjustment Magenta : 0
Luminance Adjustment Red : 0
Luminance Adjustment Orange : 0
Luminance Adjustment Yellow : 0
Luminance Adjustment Green : 0
Luminance Adjustment Aqua : 0
Luminance Adjustment Blue : 0
Luminance Adjustment Purple : 0
Luminance Adjustment Magenta : 0
Split Toning Shadow Hue : 0
Split Toning Shadow Saturation : 0
Split Toning Highlight Hue : 0
Split Toning Highlight Saturation : 0
Split Toning Balance : 0
Parametric Shadows : 0
Parametric Darks : 0
Parametric Lights : 0
Parametric Highlights : 0
Parametric Shadow Split : 25
Parametric Midtone Split : 50
Parametric Highlight Split : 75
Sharpen Radius : +0.8
Sharpen Detail : 50
Sharpen Edge Masking : 0
Post Crop Vignette Amount : 0
Convert To Grayscale : False
Tone Curve Name : Medium Contrast
Camera Profile : Adobe Standard
Has Settings : True
Crop Top : 0.02451
Crop Left : 0.210181
Crop Bottom : 1
Crop Right : 0.786536
Crop Angle : 0
Crop Width : 2232
Crop Height : 2528
Crop Unit : pixels
Has Crop : True
Already Applied : True
Flash Fired : False
Flash Return : No return detection
Flash Mode : Unknown
Flash Function : False
Flash Red Eye Mode : False
Usage Terms : No reproduction or usage of any kind without prior written
Creator Region : Victoria
Creator Country : Australia
Creator City : Melbourne
Creator Work Email : albert_johar@yahoo.com
Creator : Albert Johar
Rights : Albert Johar© 2010
Tone Curve : 0, 0, 32, 22, 64, 56, 128, 128, 192, 196, 255, 255
Image Width : 265
Image Height : 300
Bits Per Sample : 8
Color Components : 3
Aperture : 16.0
Image Size : 265x300
Megapixels : 0.080
Scale Factor To 35 mm Equivalent : 1.5
Shutter Speed : 1/400
Create Date : 2010:10:06 13:21:23.20
Date/Time Original : 2010:10:06 13:21:23.20
Flash : No Flash
Circle Of Confusion : 0.020 mm
Field Of View : 22.6 deg
Focal Length : 60.0 mm (35 mm equivalent: 90.0 mm)
Hyperfocal Distance : 11.23 m
Light Value : 15.0
Lens ID : 60.0mm f/2.8