Uber Exif Photo
Make : NIKON CORPORATION
Camera Model Name : NIKON Z 9
Software : Topaz Photo AI 1.5.0
Modify Date : 2023:08:05 15:58:31
Artist : JOAKIM WIHLSSON
Copyright : joakim@wihlsson.se
Exposure Time : 1/250
F Number : 8.0
Exposure Program : Aperture-priority AE
ISO : 100
Sensitivity Type : Recommended Exposure Index
Recommended Exposure Index : 100
Date/Time Original : 2023:08:05 14:18:01
Create Date : 2023:08:05 14:18:01
Shutter Speed Value : 1/250
Aperture Value : 8.0
Exposure Compensation : 0
Metering Mode : Multi-segment
Light Source : Unknown
Focal Length : 27.5 mm
Image Number : 14983
Color Space : Uncalibrated
Sensing Method : One-chip color area
Scene Type : Directly photographed
CFA Pattern : [Red,Green][Green,Blue]
Custom Rendered : Custom
Exposure Mode : Auto
White Balance : Auto
Focal Length In 35mm Format : 41 mm
Scene Capture Type : Standard
Gain Control : None
Contrast : Normal
Saturation : Normal
Sharpness : Normal
Subject Distance Range : Unknown
Serial Number : 6002835
Lens Info : 24-70mm f/2.8
Lens Make : NIKON
Lens Model : NIKKOR Z 24-70mm f/2.8 S
Lens Serial Number : 20053424
GPS Version ID : 2.3.0.0
GPS Latitude Ref : North
GPS Longitude Ref : East
GPS Altitude Ref : Above Sea Level
GPS Time Stamp : 13:18:00
GPS Satellites : 11
GPS Date Stamp : 2023:08:05
Date Created : 2023:08:05
By-line : JOAKIM WIHLSSON
Copyright Notice : joakim@wihlsson.se
Distortion Correction Already Applied : True
Lateral Chromatic Aberration Correction Already Applied : True
Lens : NIKKOR Z 24-70mm f/2.8 S
Vignette Correction Already Applied : True
Creator : JOAKIM WIHLSSON
Format : image/jpeg
Rights : joakim@wihlsson.se
Flash Fired : False
Flash Function : False
Flash Mode : Unknown
Flash Red Eye Mode : False
Flash Return : No return detection
Camera Profiles Perspective Model Image X Center : 0.489898
Camera Profiles Perspective Model Image Y Center : 0.500971
Camera Profiles Perspective Model Radial Distort Param 1 : -0.119805
Camera Profiles Perspective Model Radial Distort Param 2 : 0.111865
Camera Profiles Perspective Model Radial Distort Param 3 : -0.018653
Camera Profiles Perspective Model Scale Factor : 1.00877
Camera Profiles Perspective Model Version : 2
Camera Profiles Aperture Value : 6
Camera Profiles Author : Adobe
Camera Profiles Auto Scale : False
Camera Profiles Camera Pretty Name : Nikon Z 9
Camera Profiles Camera Raw Profile : True
Camera Profiles Focal Length : 27.5
Camera Profiles Focus Distance : 10000
Camera Profiles Lens : NIKKOR Z 24-70mm f/2.8 S
Camera Profiles Lens Pretty Name : NIKKOR Z 24-70mm f/2.8 S
Camera Profiles Make : NIKON CORPORATION
Camera Profiles Model : NIKON Z 9
Camera Profiles Profile Name : Camera Settings
Camera Profiles Sensor Format Factor : 1.536843
Camera Profiles Unique Camera Model : Nikon Z 9
Creator Tool : Adobe Photoshop Camera Raw 15.4.1 (Macintosh)
Already Applied : True
Auto Lateral CA : 0
Blacks 2012 : -19
Blue Hue : 0
Blue Saturation : 0
Camera Profile : Adobe Standard
Clarity 2012 : +17
Color Grade Blending : 50
Color Grade Global Hue : 0
Color Grade Global Lum : 0
Color Grade Global Sat : 0
Color Grade Highlight Lum : 0
Color Grade Midtone Hue : 0
Color Grade Midtone Lum : 0
Color Grade Midtone Sat : 0
Color Grade Shadow Lum : 0
Color Noise Reduction : 25
Color Noise Reduction Detail : 50
Color Noise Reduction Smoothness : 50
Contrast 2012 : +7
Crop Angle : 0
Crop Constrain To Warp : 0
Defringe Green Amount : 0
Defringe Green Hue Hi : 60
Defringe Green Hue Lo : 40
Defringe Purple Amount : 0
Defringe Purple Hue Hi : 70
Defringe Purple Hue Lo : 30
Dehaze : 0
Exposure 2012 : +0.14
Grain Amount : 0
Green Hue : 0
Green Saturation : 0
Has Crop : False
Has Settings : True
Highlights 2012 : -25
Hue Adjustment Aqua : 0
Hue Adjustment Blue : 0
Hue Adjustment Green : 0
Hue Adjustment Magenta : 0
Hue Adjustment Orange : 0
Hue Adjustment Purple : 0
Hue Adjustment Red : 0
Hue Adjustment Yellow : 0
Lens Manual Distortion Amount : 0
Lens Profile Distortion Scale : 100
Lens Profile Enable : 1
Lens Profile Is Embedded : True
Lens Profile Name : Camera Settings
Lens Profile Setup : LensDefaults
Lens Profile Vignetting Scale : 100
Look Amount : 1
Look Copyright : © 2018 Adobe Systems, Inc.
Look Group : Profiles
Look Name : Adobe Color
Look Parameters Camera Profile : Adobe Standard
Look Parameters Convert To Grayscale : False
Look Parameters Look Table : E1095149FDB39D7A057BAB208837E2E1
Look Parameters Process Version : 15.4
Look Parameters Tone Curve PV2012 : 0, 0, 22, 16, 40, 35, 127, 127, 224, 230, 240, 246, 255, 255
Look Parameters Tone Curve PV2012 Blue : 0, 0, 255, 255
Look Parameters Tone Curve PV2012 Green : 0, 0, 255, 255
Look Parameters Tone Curve PV2012 Red : 0, 0, 255, 255
Look Parameters Version : 15.4.1
Look Supports Amount : false
Look Supports Monochrome : false
Look Supports Output Referred : false
Luminance Adjustment Aqua : 0
Luminance Adjustment Blue : 0
Luminance Adjustment Green : 0
Luminance Adjustment Magenta : 0
Luminance Adjustment Orange : 0
Luminance Adjustment Purple : 0
Luminance Adjustment Red : 0
Luminance Adjustment Yellow : 0
Luminance Smoothing : 0
Override Look Vignette : False
Parametric Darks : 0
Parametric Highlight Split : 75
Parametric Highlights : 0
Parametric Lights : 0
Parametric Midtone Split : 50
Parametric Shadow Split : 25
Parametric Shadows : 0
Perspective Aspect : 0
Perspective Horizontal : 0
Perspective Rotate : 0.0
Perspective Scale : 100
Perspective Upright : Off
Perspective Vertical : 0
Perspective X : 0.00
Perspective Y : 0.00
Post Crop Vignette Amount : 0
Process Version : 15.4
Raw File Name : JZ9_5048.NEF
Red Hue : 0
Red Saturation : 0
Saturation Adjustment Aqua : 0
Saturation Adjustment Blue : 0
Saturation Adjustment Green : 0
Saturation Adjustment Magenta : 0
Saturation Adjustment Orange : 0
Saturation Adjustment Purple : 0
Saturation Adjustment Red : 0
Saturation Adjustment Yellow : 0
Shadow Tint : 0
Shadows 2012 : +54
Sharpen Detail : 25
Sharpen Edge Masking : 0
Sharpen Radius : +1.0
Split Toning Balance : 0
Split Toning Highlight Hue : 0
Split Toning Highlight Saturation : 0
Split Toning Shadow Hue : 0
Split Toning Shadow Saturation : 0
Color Temperature : 4600
Texture : +57
Tint : +21
Tone Curve Name 2012 : Linear
Tone Curve PV2012 : 0, 0, 255, 255
Tone Curve PV2012 Blue : 0, 0, 255, 255
Tone Curve PV2012 Green : 0, 0, 255, 255
Tone Curve PV2012 Red : 0, 0, 255, 255
Version : 15.4.1
Vibrance : +14
Vignette Amount : 0
Whites 2012 : +15
Profile Description : Adobe RGB (1998)
Image Width : 400
Image Height : 266
Bits Per Sample : 8
Color Components : 3
Aperture : 8.0
Image Size : 400x266
Megapixels : 0.106
Scale Factor To 35 mm Equivalent : 1.5
Shutter Speed : 1/250
Create Date : 2023:08:05 14:18:01.14+01:00
Date/Time Original : 2023:08:05 14:18:01.14+01:00
Modify Date : 2023:08:05 15:58:31+02:00
GPS Altitude : 39 m Above Sea Level
GPS Date/Time : 2023:08:05 13:18:00Z
GPS Latitude : 58 deg 57' 25.04" N
GPS Longitude : 16 deg 22' 6.61" E
Flash : No Flash
Circle Of Confusion : 0.020 mm
Field Of View : 47.4 deg
Focal Length : 27.5 mm (35 mm equivalent: 41.0 mm)
GPS Position : 58 deg 57' 25.04" N, 16 deg 22' 6.61" E
Hyperfocal Distance : 4.69 m
Light Value : 14.0
Lens ID : NIKKOR Z 24-70mm f/2.8 S