Uber Exif Photo
Make : NIKON CORPORATION
Camera Model Name : NIKON D90
Orientation : Horizontal (normal)
Software : ViewNX 2.0 W
Modify Date : 2011:05:03 20:55:40
Exposure Time : 1/200
F Number : 16.0
Exposure Program : Aperture-priority AE
ISO : 800
Sensitivity Type : Unknown
Date/Time Original : 2011:04:30 18:41:39
Create Date : 2011:04:30 18:41:39
Shutter Speed Value : 2.7
Aperture Value : 16.0
Exposure Compensation : 0
Max Aperture Value : 5.7
Subject Distance : 0.4 m
Metering Mode : Spot
Light Source : Fine Weather
Focal Length : 150.0 mm
Maker Note Version : 2.10
Image Data Size : 93953
Nikon Capture Version : ViewNX 2.0 W
IFD0 Offset : 1207
Preview IFD Offset : 1107
NEF Bit Depth : 16 x 3
Color Space : Uncalibrated
Exif Image Width : 1024
Exif Image Height : 680
Sensing Method : One-chip color area
Scene Type : Directly photographed
CFA Pattern : [Green,Blue][Red,Green]
Custom Rendered : Normal
Exposure Mode : Auto
White Balance : Manual
Digital Zoom Ratio : 1
Focal Length In 35mm Format : 225 mm
Scene Capture Type : Standard
Gain Control : Low gain up
Contrast : Normal
Saturation : Normal
Sharpness : Normal
Subject Distance Range : Unknown
Serial Number : 6295503
Lens Info : 150mm f/2.8
Lens Model : 150.0 mm f/2.8
Profile Description : Nikon sRGB 4.0.0.3002
Rating Percent : 0
Photometric Interpretation : RGB
Samples Per Pixel : 3
Planar Configuration : Chunky
Flash Fired : False
Flash Return : No return detection
Flash Mode : Unknown
Flash Function : False
Flash Red Eye Mode : False
Date/Time Digitized : 2011:04:30 18:41:39+02:00
Creator Tool : Nikon Transfer 1.1 W
Rating : 0
Lens : 150.0 mm f/2.8
Image Number : 6038
Approximate Focus Distance : 0.4
Raw File Name : DSC_5765.NEF
Version : 6.3
Process Version : 5.7
Color Temperature : 4650
Tint : 0
Exposure : -0.30
Shadows : 11
Brightness : +40
Luminance Smoothing : 0
Color Noise Reduction : 25
Chromatic Aberration R : 0
Chromatic Aberration B : 0
Vignette Amount : 0
Shadow Tint : 0
Red Hue : 0
Red Saturation : 0
Green Hue : 0
Green Saturation : 0
Blue Hue : 0
Blue Saturation : 0
Fill Light : 0
Vibrance : 0
Highlight Recovery : 5
Clarity : +33
Defringe : 0
Hue Adjustment Red : 0
Hue Adjustment Orange : 0
Hue Adjustment Yellow : 0
Hue Adjustment Green : 0
Hue Adjustment Aqua : 0
Hue Adjustment Blue : 0
Hue Adjustment Purple : 0
Hue Adjustment Magenta : 0
Saturation Adjustment Red : 0
Saturation Adjustment Orange : 0
Saturation Adjustment Yellow : 0
Saturation Adjustment Green : 0
Saturation Adjustment Aqua : 0
Saturation Adjustment Blue : 0
Saturation Adjustment Purple : 0
Saturation Adjustment Magenta : 0
Luminance Adjustment Red : 0
Luminance Adjustment Orange : 0
Luminance Adjustment Yellow : 0
Luminance Adjustment Green : 0
Luminance Adjustment Aqua : 0
Luminance Adjustment Blue : 0
Luminance Adjustment Purple : 0
Luminance Adjustment Magenta : 0
Split Toning Shadow Hue : 0
Split Toning Shadow Saturation : 0
Split Toning Highlight Hue : 0
Split Toning Highlight Saturation : 0
Split Toning Balance : 0
Parametric Shadows : 0
Parametric Darks : 0
Parametric Lights : 0
Parametric Highlights : 0
Parametric Shadow Split : 25
Parametric Midtone Split : 50
Parametric Highlight Split : 75
Sharpen Radius : +1.5
Sharpen Detail : 25
Sharpen Edge Masking : 70
Post Crop Vignette Amount : 0
Grain Amount : 0
Color Noise Reduction Detail : 50
Lens Profile Enable : 0
Lens Manual Distortion Amount : 0
Perspective Vertical : 0
Perspective Horizontal : 0
Perspective Rotate : 0.0
Perspective Scale : 100
Convert To Grayscale : False
Tone Curve Name : Medium Contrast
Tone Curve : 0, 0, 32, 22, 64, 56, 128, 128, 192, 196, 255, 255
Camera Profile : Adobe Standard
Lens Profile Setup : LensDefaults
Has Settings : True
Has Crop : False
Already Applied : True
Format : image/tiff
Color Mode : RGB
ICC Profile Name : sRGB IEC61966-2.1
Image Width : 300
Image Height : 199
Bits Per Sample : 8
Color Components : 3
Aperture : 16.0
Image Size : 300x199
Megapixels : 0.060
Scale Factor To 35 mm Equivalent : 1.5
Shutter Speed : 1/200
Create Date : 2011:04:30 18:41:39.00
Date/Time Original : 2011:04:30 18:41:39.00
Modify Date : 2011:05:03 20:55:40.00
Flash : No Flash
Circle Of Confusion : 0.020 mm
Depth Of Field : 0.003 m (0.399 - 0.401 m)
Field Of View : 9.1 deg
Focal Length : 150.0 mm (35 mm equivalent: 225.0 mm)
Hyperfocal Distance : 70.20 m
Light Value : 12.6
Lens ID : Sigma APO Macro 150mm F2.8 EX DG HSM