Uber Exif Photo
By-line : Bjorn Olsson, bjornsphoto@gmail.
Copyright Notice : Bjorn Olsson
Photometric Interpretation : RGB
Make : NIKON CORPORATION
Camera Model Name : NIKON D7100
Orientation : Horizontal (normal)
Samples Per Pixel : 3
Software : Adobe Photoshop CC (Windows)
Modify Date : 2014:10:16 00:08:49
Artist : Bjorn Olsson, bjornsphoto@gmail.com
Copyright : Bjorn Olsson
Exposure Time : 1/160
F Number : 2.8
Exposure Program : Manual
ISO : 2000
Sensitivity Type : Recommended Exposure Index
Date/Time Original : 2014:10:14 21:52:58
Create Date : 2014:10:14 21:52:58
Shutter Speed Value : 1/160
Aperture Value : 2.8
Exposure Compensation : 0
Max Aperture Value : 2.8
Metering Mode : Spot
Light Source : Unknown
Flash : Off, Did not fire
Focal Length : 34.0 mm
User Comment : (c) Bjorn Olsson
Color Space : Uncalibrated
Exif Image Width : 1267
Exif Image Height : 1900
Sensing Method : One-chip color area
Scene Type : Directly photographed
CFA Pattern : [Red,Green][Green,Blue]
Custom Rendered : Normal
Exposure Mode : Manual
White Balance : Auto
Digital Zoom Ratio : 1
Focal Length In 35mm Format : 51 mm
Scene Capture Type : Standard
Gain Control : High gain up
Contrast : Normal
Saturation : Normal
Sharpness : Hard
Subject Distance Range : Unknown
Serial Number : 4369810
Lens Info : 17-50mm f/2.8
Lens Model : 17.0-50.0 mm f/2.8
Profile Description : Adobe RGB (1998)
Format : image/jpeg
Creator Tool : Adobe Photoshop CC (Windows)
Rating : 0
Lens : 17.0-50.0 mm f/2.8
Image Number : 97897
Approximate Focus Distance : 1.78
Date Created : 2014:10:14 21:52:58.007
Color Mode : RGB
ICC Profile Name : Adobe RGB (1998)
Raw File Name : _BEO7648.NEF
Version : 8.0
Process Version : 6.7
Color Temperature : 2000
Tint : +6
Luminance Smoothing : 23
Color Noise Reduction : 25
Vignette Amount : 0
Shadow Tint : 0
Red Hue : -16
Red Saturation : -43
Green Hue : 0
Green Saturation : 0
Blue Hue : 0
Blue Saturation : 0
Vibrance : -1
Hue Adjustment Red : 0
Hue Adjustment Orange : 0
Hue Adjustment Yellow : 0
Hue Adjustment Green : 0
Hue Adjustment Aqua : 0
Hue Adjustment Blue : 0
Hue Adjustment Purple : 0
Hue Adjustment Magenta : 0
Saturation Adjustment Red : 0
Saturation Adjustment Orange : 0
Saturation Adjustment Yellow : 0
Saturation Adjustment Green : 0
Saturation Adjustment Aqua : 0
Saturation Adjustment Blue : 0
Saturation Adjustment Purple : 0
Saturation Adjustment Magenta : 0
Luminance Adjustment Red : 0
Luminance Adjustment Orange : 0
Luminance Adjustment Yellow : 0
Luminance Adjustment Green : 0
Luminance Adjustment Aqua : 0
Luminance Adjustment Blue : 0
Luminance Adjustment Purple : 0
Luminance Adjustment Magenta : 0
Split Toning Shadow Hue : 0
Split Toning Shadow Saturation : 0
Split Toning Highlight Hue : 0
Split Toning Highlight Saturation : 0
Split Toning Balance : 0
Parametric Shadows : -8
Parametric Darks : +28
Parametric Lights : +53
Parametric Highlights : +18
Parametric Shadow Split : 25
Parametric Midtone Split : 50
Parametric Highlight Split : 75
Sharpen Radius : +1.4
Sharpen Detail : 25
Sharpen Edge Masking : 52
Post Crop Vignette Amount : 0
Grain Amount : 0
Luminance Noise Reduction Detail : 50
Color Noise Reduction Detail : 50
Luminance Noise Reduction Contrast : 0
Lens Profile Enable : 0
Lens Manual Distortion Amount : 0
Perspective Vertical : 0
Perspective Horizontal : 0
Perspective Rotate : 0.0
Perspective Scale : 100
Perspective Aspect : 0
Perspective Upright : Off
Auto Lateral CA : 0
Exposure 2012 : +1.95
Contrast 2012 : 0
Highlights 2012 : -47
Shadows 2012 : +28
Whites 2012 : +25
Blacks 2012 : -22
Clarity 2012 : +43
Defringe Purple Amount : 0
Defringe Purple Hue Lo : 30
Defringe Purple Hue Hi : 70
Defringe Green Amount : 0
Defringe Green Hue Lo : 40
Defringe Green Hue Hi : 60
Convert To Grayscale : False
Tone Curve Name 2012 : Linear
Camera Profile : Adobe Standard
Lens Profile Setup : LensDefaults
Has Settings : True
Has Crop : False
Already Applied : True
Creator : Bjorn Olsson, bjornsphoto@gmail.com
Rights : Bjorn Olsson
Tone Curve PV2012 : 0, 0, 255, 255
Tone Curve PV2012 Red : 0, 0, 255, 255
Tone Curve PV2012 Green : 0, 0, 255, 255
Tone Curve PV2012 Blue : 0, 0, 255, 255
Image Width : 200
Image Height : 300
Bits Per Sample : 8
Color Components : 3
Aperture : 2.8
Image Size : 200x300
Megapixels : 0.060
Scale Factor To 35 mm Equivalent : 1.5
Shutter Speed : 1/160
Create Date : 2014:10:14 21:52:58.70
Date/Time Original : 2014:10:14 21:52:58.70
Modify Date : 2014:10:16 00:08:49.70
Circle Of Confusion : 0.020 mm
Depth Of Field : 0.30 m (1.64 - 1.94 m)
Field Of View : 38.9 deg
Focal Length : 34.0 mm (35 mm equivalent: 51.0 mm)
Hyperfocal Distance : 20.61 m
Light Value : 6.0
Lens ID : Tamron SP AF 17-50mm f/2.8 XR Di II VC LD Aspherical (IF) (B005)