Uber Exif Photo
By-line : Bjorn Olsson, bjornsphoto@gmail.
Copyright Notice : Bjorn Olsson
Make : NIKON CORPORATION
Camera Model Name : NIKON D7000
Orientation : Horizontal (normal)
Software : Adobe Photoshop CS5 Windows
Modify Date : 2011:12:06 19:02:42
Artist : Bjorn Olsson, bjornsphoto@gmail.com
Copyright : Bjorn Olsson
Exposure Time : 1/60
F Number : 13.0
Exposure Program : Aperture-priority AE
ISO : 100
Sensitivity Type : Recommended Exposure Index
Date/Time Original : 2011:12:04 12:09:00
Create Date : 2011:12:04 12:09:00
Shutter Speed Value : 1/60
Aperture Value : 13.0
Exposure Compensation : 0
Max Aperture Value : 2.8
Subject Distance : 4294967295 m
Metering Mode : Multi-segment
Light Source : Cloudy
Flash : Off, Did not fire
Focal Length : 17.0 mm
Color Space : Uncalibrated
Exif Image Width : 1024
Exif Image Height : 678
Sensing Method : One-chip color area
Scene Type : Directly photographed
CFA Pattern : [Red,Green][Green,Blue]
Custom Rendered : Normal
Exposure Mode : Auto
White Balance : Manual
Digital Zoom Ratio : 1
Focal Length In 35mm Format : 25 mm
Scene Capture Type : Standard
Gain Control : None
Contrast : Normal
Saturation : Normal
Sharpness : Hard
Subject Distance Range : Unknown
Serial Number : 6004008
Lens Info : 17-70mm f/2.8-4
Lens Model : 17.0-70.0 mm f/2.8-4.0
Profile Description : ProPhoto RGB
Rating : 0
Label : Creator Tool : Ver.1.02
Format : image/jpeg
Approximate Focus Distance : 4294967295
Image Number : 1183
Lens : 17.0-70.0 mm f/2.8-4.0
Date Created : 2011:12:04 12:09:00.006+01:00
Color Mode : RGB
ICC Profile Name : ProPhoto RGB
Raw File Name : _BEO2298.NEF
Version : 6.4.1
Process Version : 5.7
Color Temperature : 6000
Tint : +8
Exposure : -2.51
Shadows : 20
Brightness : +97
Luminance Smoothing : 57
Color Noise Reduction : 25
Chromatic Aberration R : 0
Chromatic Aberration B : 0
Vignette Amount : 0
Shadow Tint : 0
Red Hue : 0
Red Saturation : 0
Green Hue : 0
Green Saturation : 0
Blue Hue : 0
Blue Saturation : 0
Fill Light : 71
Vibrance : 0
Highlight Recovery : 0
Clarity : +68
Defringe : 0
Hue Adjustment Red : 0
Hue Adjustment Orange : 0
Hue Adjustment Yellow : 0
Hue Adjustment Green : 0
Hue Adjustment Aqua : 0
Hue Adjustment Blue : 0
Hue Adjustment Purple : 0
Hue Adjustment Magenta : 0
Saturation Adjustment Red : 0
Saturation Adjustment Orange : 0
Saturation Adjustment Yellow : 0
Saturation Adjustment Green : 0
Saturation Adjustment Aqua : 0
Saturation Adjustment Blue : 0
Saturation Adjustment Purple : 0
Saturation Adjustment Magenta : 0
Luminance Adjustment Red : 0
Luminance Adjustment Orange : 0
Luminance Adjustment Yellow : 0
Luminance Adjustment Green : 0
Luminance Adjustment Aqua : 0
Luminance Adjustment Blue : 0
Luminance Adjustment Purple : 0
Luminance Adjustment Magenta : 0
Split Toning Shadow Hue : 0
Split Toning Shadow Saturation : 0
Split Toning Highlight Hue : 57
Split Toning Highlight Saturation : 36
Split Toning Balance : 0
Parametric Shadows : +28
Parametric Darks : -9
Parametric Lights : -22
Parametric Highlights : +81
Parametric Shadow Split : 25
Parametric Midtone Split : 50
Parametric Highlight Split : 75
Sharpen Radius : +1.0
Sharpen Detail : 25
Sharpen Edge Masking : 0
Post Crop Vignette Amount : -42
Post Crop Vignette Midpoint : 50
Post Crop Vignette Feather : 50
Post Crop Vignette Roundness : 0
Post Crop Vignette Style : Highlight Priority
Post Crop Vignette Highlight Contrast : 0
Grain Amount : 0
Luminance Noise Reduction Detail : 50
Color Noise Reduction Detail : 50
Luminance Noise Reduction Contrast : 0
Lens Profile Enable : 1
Lens Manual Distortion Amount : 0
Perspective Vertical : 0
Perspective Horizontal : 0
Perspective Rotate : +0.1
Perspective Scale : 100
Convert To Grayscale : False
Tone Curve Name : Medium Contrast
Camera Profile : Adobe Standard
Lens Profile Setup : LensDefaults
Lens Profile Name : Adobe (SIGMA 17-70mm F2.8-4 DC MACRO OS HSM, NIKON CORPORATION)
Lens Profile Filename : NIKON CORPORATION (Sigma_17-70mm_F2.8-4_DC_MACRO_OS_HSM ) - RAW.lcp
Lens Profile Distortion Scale : 100
Lens Profile Chromatic Aberration Scale : 100
Lens Profile Vignetting Scale : 100
Has Settings : True
Crop Top : 0.03078
Crop Left : 0.030806
Crop Bottom : 0.969183
Crop Right : 0.969208
Crop Angle : 0
Crop Constrain To Warp : 1
Has Crop : True
Already Applied : True
Rights : Bjorn Olsson
Creator : Bjorn Olsson, bjornsphoto@gmail.com
Tone Curve : 0, 0, 32, 22, 64, 56, 128, 128, 192, 196, 255, 255
Image Width : 300
Image Height : 199
Bits Per Sample : 8
Color Components : 3
Aperture : 13.0
Image Size : 300x199
Megapixels : 0.060
Scale Factor To 35 mm Equivalent : 1.5
Shutter Speed : 1/60
Create Date : 2011:12:04 12:09:00.60
Date/Time Original : 2011:12:04 12:09:00.60
Modify Date : 2011:12:06 19:02:42.60
Circle Of Confusion : 0.020 mm
Depth Of Field : inf (1.09 m - inf)
Field Of View : 71.5 deg
Focal Length : 17.0 mm (35 mm equivalent: 25.0 mm)
Hyperfocal Distance : 1.09 m
Light Value : 13.3
Lens ID : Sigma 17-70mm F2.8-4 DC Macro OS HSM