Uber Exif Photo
Keywords : André Bonnano, Bonnano Studio, Estúdio de Fotografia, Fotografia Profissional, Pessoas
By-line : André Bonnano
By-line Title : Fotógrafo
Copyright Notice : © 2012 André Bonnano / Bonnano Studio - Todos os Direitos Reservados
Copyright Flag : True
URL : www.bonnanostudio.com.br
Make : NIKON CORPORATION
Camera Model Name : NIKON D7000
Software : Adobe Photoshop Lightroom 4.4 (Windows)
Modify Date : 2013:06:04 11:08:31
Artist : André Bonnano
Copyright : © 2012 André Bonnano / Bonnano Studio - Todos os Direitos Reservados
Exposure Time : 1/125
F Number : 3.5
Exposure Program : Manual
ISO : 200
Sensitivity Type : Recommended Exposure Index
Date/Time Original : 2012:09:23 12:48:00
Create Date : 2012:09:23 12:48:00
Shutter Speed Value : 1/125
Aperture Value : 3.5
Exposure Compensation : 0
Max Aperture Value : 2.8
Metering Mode : Center-weighted average
Light Source : Unknown
Flash : On, Return not detected
Focal Length : 60.0 mm
User Comment : Bonnano Studio - Rimele
Sensing Method : One-chip color area
Scene Type : Directly photographed
CFA Pattern : [Red,Green][Green,Blue]
Custom Rendered : Normal
Exposure Mode : Manual
White Balance : Auto
Digital Zoom Ratio : 1
Focal Length In 35mm Format : 90 mm
Scene Capture Type : Standard
Gain Control : None
Contrast : Normal
Saturation : Normal
Sharpness : Normal
Subject Distance Range : Unknown
Serial Number : 3071068
Lens Info : 60mm f/2.8
Lens Model : 60.0 mm f/2.8
Profile Description : sRGB IEC61966-2.1
Format : image/jpeg
Creator Tool : Adobe Photoshop Lightroom 4.4 (Windows)
Rating : 3
Lens : 60.0 mm f/2.8
Image Number : 23223
Approximate Focus Distance : 4294967295
Date Created : 2012:09:23 12:48:00.90
Authors Position : Fotógrafo
Marked : True
Web Statement : www.bonnanostudio.com.br
Version : 7.4
Process Version : 6.7
Incremental Temperature : +1
Incremental Tint : +19
Luminance Smoothing : 0
Color Noise Reduction : 0
Vignette Amount : -69
Vignette Midpoint : 17
Shadow Tint : 0
Red Hue : +49
Red Saturation : 0
Green Hue : +46
Green Saturation : 0
Blue Hue : -44
Blue Saturation : +33
Vibrance : +21
Hue Adjustment Red : 0
Hue Adjustment Orange : 0
Hue Adjustment Yellow : 0
Hue Adjustment Green : 0
Hue Adjustment Aqua : 0
Hue Adjustment Blue : 0
Hue Adjustment Purple : 0
Hue Adjustment Magenta : 0
Saturation Adjustment Red : -12
Saturation Adjustment Orange : -12
Saturation Adjustment Yellow : -13
Saturation Adjustment Green : -14
Saturation Adjustment Aqua : -14
Saturation Adjustment Blue : -14
Saturation Adjustment Purple : -14
Saturation Adjustment Magenta : -14
Luminance Adjustment Red : 0
Luminance Adjustment Orange : 0
Luminance Adjustment Yellow : 0
Luminance Adjustment Green : 0
Luminance Adjustment Aqua : 0
Luminance Adjustment Blue : 0
Luminance Adjustment Purple : 0
Luminance Adjustment Magenta : 0
Split Toning Shadow Hue : 236
Split Toning Shadow Saturation : 20
Split Toning Highlight Hue : 78
Split Toning Highlight Saturation : 28
Split Toning Balance : 0
Parametric Shadows : 0
Parametric Darks : +52
Parametric Lights : 0
Parametric Highlights : 0
Parametric Shadow Split : 10
Parametric Midtone Split : 59
Parametric Highlight Split : 90
Sharpen Radius : +1.0
Sharpen Detail : 25
Sharpen Edge Masking : 0
Post Crop Vignette Amount : -7
Post Crop Vignette Midpoint : 50
Post Crop Vignette Feather : 50
Post Crop Vignette Roundness : 0
Post Crop Vignette Style : Highlight Priority
Post Crop Vignette Highlight Contrast : 0
Grain Amount : 0
Lens Profile Enable : 0
Lens Manual Distortion Amount : 0
Perspective Vertical : 0
Perspective Horizontal : 0
Perspective Rotate : 0.0
Perspective Scale : 100
Auto Lateral CA : 0
Exposure 2012 : +1.31
Contrast 2012 : 0
Highlights 2012 : 0
Shadows 2012 : -24
Whites 2012 : -60
Blacks 2012 : +17
Clarity 2012 : 0
Defringe Purple Amount : 0
Defringe Purple Hue Lo : 30
Defringe Purple Hue Hi : 70
Defringe Green Amount : 0
Defringe Green Hue Lo : 40
Defringe Green Hue Hi : 60
Convert To Grayscale : False
Tone Curve Name 2012 : Linear
Camera Profile : Embedded
Lens Profile Setup : LensDefaults
Has Settings : True
Crop Top : 0.066035
Crop Left : 0.113386
Crop Bottom : 0.963563
Crop Right : 0.993056
Crop Angle : 0.532144
Crop Constrain To Warp : 0
Crop Width : 1024
Crop Height : 678
Crop Unit : pixels
Has Crop : True
Already Applied : True
Creator : André Bonnano
Rights : © 2012 André Bonnano / Bonnano Studio - Todos os Direitos Reservados
Subject : André Bonnano, Bonnano Studio, Estúdio de Fotografia, Fotografia Profissional, Pessoas
Usage Terms : Essas imagens estão protegidas pela Lei n.º 9.610 de 19/02/98. Proibida a cópia ou reprodução sem autorização prévia.
Creator Work Telephone : +55 11 99598-3188
Creator Region : São Paulo
Creator Country : Brasil
Creator City : São Paulo
Creator Work Email : andre@bonnanostudio.com.br
Creator Work URL : www.bonnanostudio.com.br
Tone Curve PV2012 : 0, 0, 255, 255
Tone Curve PV2012 Red : 0, 0, 255, 255
Tone Curve PV2012 Green : 0, 0, 255, 255
Tone Curve PV2012 Blue : 0, 0, 255, 255
Image Width : 199
Image Height : 300
Bits Per Sample : 8
Color Components : 3
Aperture : 3.5
Image Size : 199x300
Megapixels : 0.060
Scale Factor To 35 mm Equivalent : 1.5
Shutter Speed : 1/125
Create Date : 2012:09:23 12:48:00.90
Date/Time Original : 2012:09:23 12:48:00.9
Circle Of Confusion : 0.020 mm
Depth Of Field : inf (51.35 m - inf)
Field Of View : 22.6 deg
Focal Length : 60.0 mm (35 mm equivalent: 90.0 mm)
Hyperfocal Distance : 51.35 m
Light Value : 9.6
Lens ID : AF-S Micro Nikkor 60mm f/2.8G ED