Uber Exif Photo
By-line : JOHAN YLITALO
Copyright Notice : JOHAN YLITALO
Make : NIKON CORPORATION
Camera Model Name : NIKON D300
Orientation : Horizontal (normal)
Software : Adobe Photoshop CS4 Windows
Modify Date : 2010:11:27 20:47:29
Artist : JOHAN YLITALO
Copyright : JOHAN YLITALO
Exposure Time : 1/50
F Number : 1.8
Exposure Program : Aperture-priority AE
ISO : 1600
Date/Time Original : 2010:11:27 14:57:13
Create Date : 2010:11:27 14:57:13
Shutter Speed Value : 1/50
Aperture Value : 1.8
Exposure Compensation : -1/3
Max Aperture Value : 1.7
Metering Mode : Multi-segment
Light Source : Unknown
Focal Length : 35.0 mm
Color Space : Uncalibrated
Exif Image Width : 800
Exif Image Height : 549
Sensing Method : One-chip color area
Scene Type : Directly photographed
CFA Pattern : [Red,Green][Green,Blue]
Custom Rendered : Normal
Exposure Mode : Auto
White Balance : Auto
Digital Zoom Ratio : 1
Focal Length In 35mm Format : 52 mm
Scene Capture Type : Standard
Gain Control : High gain up
Contrast : Normal
Saturation : Normal
Sharpness : Normal
Subject Distance Range : Unknown
Profile Description : Adobe RGB (1998)
Date/Time Digitized : 2010:11:27 14:57:13.43+01:00
Creator Tool : Ver.1.10
Rating : 0
Format : image/jpeg
Serial Number : 4114464
Lens Info : 35mm f/1.8
Lens : 35.0 mm f/1.8
Image Number : 44541
Raw File Name : _DSC4534.NEF
Version : 5.0
Color Temperature : 4150
Tint : +14
Exposure : -0.45
Shadows : 5
Brightness : +50
Luminance Smoothing : 0
Color Noise Reduction : 25
Chromatic Aberration R : 0
Chromatic Aberration B : 0
Vignette Amount : 0
Shadow Tint : 0
Red Hue : 0
Red Saturation : 0
Green Hue : 0
Green Saturation : 0
Blue Hue : 0
Blue Saturation : 0
Fill Light : 30
Vibrance : 0
Highlight Recovery : 0
Clarity : +99
Defringe : 0
Hue Adjustment Red : 0
Hue Adjustment Orange : 0
Hue Adjustment Yellow : 0
Hue Adjustment Green : 0
Hue Adjustment Aqua : 0
Hue Adjustment Blue : 0
Hue Adjustment Purple : 0
Hue Adjustment Magenta : 0
Saturation Adjustment Red : 0
Saturation Adjustment Orange : 0
Saturation Adjustment Yellow : 0
Saturation Adjustment Green : 0
Saturation Adjustment Aqua : 0
Saturation Adjustment Blue : 0
Saturation Adjustment Purple : 0
Saturation Adjustment Magenta : 0
Luminance Adjustment Red : 0
Luminance Adjustment Orange : 0
Luminance Adjustment Yellow : 0
Luminance Adjustment Green : 0
Luminance Adjustment Aqua : 0
Luminance Adjustment Blue : 0
Luminance Adjustment Purple : 0
Luminance Adjustment Magenta : 0
Split Toning Shadow Hue : 0
Split Toning Shadow Saturation : 0
Split Toning Highlight Hue : 0
Split Toning Highlight Saturation : 0
Split Toning Balance : 0
Parametric Shadows : 0
Parametric Darks : 0
Parametric Lights : 0
Parametric Highlights : 0
Parametric Shadow Split : 25
Parametric Midtone Split : 50
Parametric Highlight Split : 75
Sharpen Radius : +1.0
Sharpen Detail : 25
Sharpen Edge Masking : 0
Post Crop Vignette Amount : 0
Convert To Grayscale : False
Tone Curve Name : Medium Contrast
Camera Profile : ACR 4.4
Has Settings : True
Has Crop : False
Already Applied : True
Sidecar For Extension : NEF
Color Mode : RGB
ICC Profile Name : Adobe RGB (1998)
Flash Fired : False
Flash Return : No return detection
Flash Mode : Unknown
Flash Function : False
Flash Red Eye Mode : False
Creator : JOHAN YLITALO
Rights : JOHAN YLITALO
Tone Curve : 0, 0, 32, 22, 64, 56, 128, 128, 192, 196, 255, 255
Image Width : 300
Image Height : 206
Bits Per Sample : 8
Color Components : 3
Aperture : 1.8
Image Size : 300x206
Megapixels : 0.062
Scale Factor To 35 mm Equivalent : 1.5
Shutter Speed : 1/50
Create Date : 2010:11:27 14:57:13.43
Date/Time Original : 2010:11:27 14:57:13.43
Modify Date : 2010:11:27 20:47:29.43
Flash : No Flash
Circle Of Confusion : 0.020 mm
Field Of View : 38.2 deg
Focal Length : 35.0 mm (35 mm equivalent: 52.0 mm)
Hyperfocal Distance : 33.65 m
Light Value : 3.3
Lens ID : 35.0mm f/1.8