Uber Exif Photo
Object Name : Svendeprøvebilleder august 2010
By-line : Søren Palmelund
By-line Title : Fotografelev
Copyright Flag : False
Make : NIKON CORPORATION
Camera Model Name : NIKON D700
Orientation : Horizontal (normal)
Software : Adobe Photoshop CS5 Windows
Modify Date : 2010:08:01 20:30:42
Exposure Time : 1/250
F Number : 5.6
Exposure Program : Manual
ISO : 100
Date/Time Original : 2010:07:02 21:17:46
Create Date : 2010:07:02 21:17:46
Shutter Speed Value : 1/250
Aperture Value : 5.6
Exposure Compensation : +2/3
Max Aperture Value : 2.8
Subject Distance : 7.08 m
Metering Mode : Multi-segment
Light Source : Unknown
Focal Length : 130.0 mm
Color Space : Uncalibrated
Exif Image Width : 1417
Exif Image Height : 1890
Sensing Method : One-chip color area
Scene Type : Directly photographed
CFA Pattern : [Red,Green][Green,Blue]
Custom Rendered : Normal
Exposure Mode : Manual
White Balance : Manual
Digital Zoom Ratio : 1
Focal Length In 35mm Format : 130 mm
Scene Capture Type : Standard
Gain Control : None
Contrast : Normal
Saturation : Normal
Sharpness : Normal
Subject Distance Range : Unknown
Profile Description : Adobe RGB (1998)
Creator Tool : Adobe Photoshop CS5 Windows
Label : Approved
Rating : 0
Serial Number : 2029716
Lens Info : 70-200mm f/2.8
Lens : 70.0-200.0 mm f/2.8
Image Number : 62263
Raw File Name : 100702_SPP_3247.NEF
Version : 6.1
Process Version : 5.7
Color Temperature : 4850
Tint : -2
Exposure : -0.75
Shadows : 5
Brightness : +74
Luminance Smoothing : 0
Color Noise Reduction : 0
Chromatic Aberration R : 0
Chromatic Aberration B : 0
Vignette Amount : 0
Shadow Tint : 0
Red Hue : 0
Red Saturation : 0
Green Hue : 0
Green Saturation : 0
Blue Hue : 0
Blue Saturation : 0
Fill Light : 0
Vibrance : 0
Highlight Recovery : 0
Clarity : +1
Defringe : 0
Hue Adjustment Red : 0
Hue Adjustment Orange : 0
Hue Adjustment Yellow : 0
Hue Adjustment Green : 0
Hue Adjustment Aqua : 0
Hue Adjustment Blue : 0
Hue Adjustment Purple : 0
Hue Adjustment Magenta : 0
Saturation Adjustment Red : 0
Saturation Adjustment Orange : -10
Saturation Adjustment Yellow : 0
Saturation Adjustment Green : 0
Saturation Adjustment Aqua : 0
Saturation Adjustment Blue : 0
Saturation Adjustment Purple : 0
Saturation Adjustment Magenta : 0
Luminance Adjustment Red : 0
Luminance Adjustment Orange : 0
Luminance Adjustment Yellow : 0
Luminance Adjustment Green : 0
Luminance Adjustment Aqua : 0
Luminance Adjustment Blue : 0
Luminance Adjustment Purple : 0
Luminance Adjustment Magenta : 0
Split Toning Shadow Hue : 0
Split Toning Shadow Saturation : 0
Split Toning Highlight Hue : 0
Split Toning Highlight Saturation : 0
Split Toning Balance : 0
Parametric Shadows : 0
Parametric Darks : 0
Parametric Lights : 0
Parametric Highlights : 0
Parametric Shadow Split : 25
Parametric Midtone Split : 50
Parametric Highlight Split : 75
Sharpen Radius : +1.0
Sharpen Detail : 25
Sharpen Edge Masking : 0
Post Crop Vignette Amount : 0
Grain Amount : 0
Lens Profile Enable : 0
Lens Manual Distortion Amount : 0
Perspective Vertical : 0
Perspective Horizontal : 0
Perspective Rotate : 0.0
Perspective Scale : 100
Convert To Grayscale : False
Tone Curve Name : Custom
Camera Profile : Camera Neutral v2
Lens Profile Setup : LensDefaults
Has Settings : True
Has Crop : False
Already Applied : True
Format : image/jpeg
Date Created : 2010:07:02 21:17:46.097
Color Mode : RGB
ICC Profile Name : Adobe RGB (1998)
Authors Position : Fotografelev
Marked : False
Photometric Interpretation : RGB
Samples Per Pixel : 3
Date/Time Digitized : 2010:07:02 21:17:46.97+02:00
Tone Curve : 0, 0, 60, 59, 127, 130, 255, 255
Title : Svendeprøvebilleder august 2010
Creator : Søren Palmelund
Flash Fired : False
Flash Return : No return detection
Flash Mode : Unknown
Flash Function : False
Flash Red Eye Mode : False
Image Width : 225
Image Height : 300
Bits Per Sample : 8
Color Components : 3
Aperture : 5.6
Image Size : 225x300
Megapixels : 0.068
Scale Factor To 35 mm Equivalent : 1.0
Shutter Speed : 1/250
Create Date : 2010:07:02 21:17:46.97
Date/Time Original : 2010:07:02 21:17:46.97
Flash : No Flash
Circle Of Confusion : 0.030 mm
Depth Of Field : 0.98 m (6.62 - 7.61 m)
Field Of View : 15.8 deg
Focal Length : 130.0 mm (35 mm equivalent: 130.0 mm)
Hyperfocal Distance : 100.44 m
Light Value : 12.9
Lens ID : AF-S VR Zoom-Nikkor 70-200mm f/2.8G IF-ED