Uber Exif Photo
Object Name : Svendeprøvebilleder august 2010
By-line : Søren Palmelund
By-line Title : Fotografelev
Photometric Interpretation : RGB
Make : NIKON CORPORATION
Camera Model Name : NIKON D700
Orientation : Horizontal (normal)
Samples Per Pixel : 3
Software : Adobe Photoshop CS5 Windows
Modify Date : 2010:08:01 20:31:31
Exposure Time : 1/1000
F Number : 5.0
Exposure Program : Aperture-priority AE
ISO : 200
Date/Time Original : 2010:07:06 20:58:01
Create Date : 2010:07:06 20:58:01
Shutter Speed Value : 1/1000
Aperture Value : 5.0
Exposure Compensation : 0
Max Aperture Value : 2.8
Subject Distance : 20 m
Metering Mode : Multi-segment
Light Source : Unknown
Focal Length : 120.0 mm
Color Space : Uncalibrated
Exif Image Width : 1890
Exif Image Height : 1052
Sensing Method : One-chip color area
Scene Type : Directly photographed
CFA Pattern : [Red,Green][Green,Blue]
Custom Rendered : Normal
Exposure Mode : Auto
White Balance : Manual
Digital Zoom Ratio : 1
Focal Length In 35mm Format : 120 mm
Scene Capture Type : Standard
Gain Control : None
Contrast : Normal
Saturation : Normal
Sharpness : Normal
Subject Distance Range : Unknown
Creator Tool : Adobe Photoshop CS5 Windows
Rating : 0
Label : Approved
Serial Number : 2029716
Lens Info : 70-200mm f/2.8
Lens : 70.0-200.0 mm f/2.8
Image Number : 63239
Raw File Name : 100706_SPP_4217.NEF
Version : 6.1
Process Version : 5.7
Color Temperature : 5150
Tint : -9
Exposure : -0.80
Shadows : 4
Brightness : +84
Luminance Smoothing : 0
Color Noise Reduction : 0
Chromatic Aberration R : 0
Chromatic Aberration B : 0
Vignette Amount : 0
Shadow Tint : 0
Red Hue : 0
Red Saturation : 0
Green Hue : 0
Green Saturation : 0
Blue Hue : 0
Blue Saturation : 0
Fill Light : 0
Vibrance : 0
Highlight Recovery : 0
Clarity : +6
Defringe : 0
Hue Adjustment Red : +9
Hue Adjustment Orange : 0
Hue Adjustment Yellow : 0
Hue Adjustment Green : 0
Hue Adjustment Aqua : +3
Hue Adjustment Blue : 0
Hue Adjustment Purple : 0
Hue Adjustment Magenta : 0
Saturation Adjustment Red : -3
Saturation Adjustment Orange : -6
Saturation Adjustment Yellow : 0
Saturation Adjustment Green : 0
Saturation Adjustment Aqua : 0
Saturation Adjustment Blue : +10
Saturation Adjustment Purple : 0
Saturation Adjustment Magenta : 0
Luminance Adjustment Red : 0
Luminance Adjustment Orange : 0
Luminance Adjustment Yellow : 0
Luminance Adjustment Green : 0
Luminance Adjustment Aqua : 0
Luminance Adjustment Blue : 0
Luminance Adjustment Purple : 0
Luminance Adjustment Magenta : 0
Split Toning Shadow Hue : 0
Split Toning Shadow Saturation : 0
Split Toning Highlight Hue : 0
Split Toning Highlight Saturation : 0
Split Toning Balance : 0
Parametric Shadows : 0
Parametric Darks : 0
Parametric Lights : 0
Parametric Highlights : 0
Parametric Shadow Split : 25
Parametric Midtone Split : 50
Parametric Highlight Split : 75
Sharpen Radius : +1.0
Sharpen Detail : 25
Sharpen Edge Masking : 0
Post Crop Vignette Amount : 0
Grain Amount : 0
Lens Profile Enable : 0
Lens Manual Distortion Amount : 0
Perspective Vertical : 0
Perspective Horizontal : 0
Perspective Rotate : 0.0
Perspective Scale : 100
Convert To Grayscale : False
Tone Curve Name : Linear
Camera Profile : Camera Neutral v2
Lens Profile Setup : LensDefaults
Has Settings : True
Has Crop : False
Already Applied : True
Format : image/jpeg
Date Created : 2010:07:06 20:58:01.073
Color Mode : RGB
ICC Profile Name : Adobe RGB (1998)
Authors Position : Fotografelev
Date/Time Digitized : 2010:07:06 20:58:01.73+02:00
Tone Curve : 0, 0, 255, 255
Title : Svendeprøvebilleder august 2010
Creator : Søren Palmelund
Flash Fired : False
Flash Return : No return detection
Flash Mode : Unknown
Flash Function : False
Flash Red Eye Mode : False
Image Width : 300
Image Height : 167
Bits Per Sample : 8
Color Components : 1
Aperture : 5.0
Image Size : 300x167
Megapixels : 0.050
Scale Factor To 35 mm Equivalent : 1.0
Shutter Speed : 1/1000
Create Date : 2010:07:06 20:58:01.73
Date/Time Original : 2010:07:06 20:58:01.73
Modify Date : 2010:08:01 20:31:31.73
Flash : No Flash
Circle Of Confusion : 0.030 mm
Depth Of Field : 8.67 m (16.56 - 25.23 m)
Field Of View : 17.1 deg
Focal Length : 120.0 mm (35 mm equivalent: 120.0 mm)
Hyperfocal Distance : 95.85 m
Light Value : 13.6
Lens ID : AF-S VR Zoom-Nikkor 70-200mm f/2.8G IF-ED