Uber Exif Photo
By-line : Tomas Eriksson / IBL BildbyrŒ
Copyright Notice : Copyright © Tomas Eriksson. All rights reserved. Detta fŠlt fŒr inte Šndras eller raderas enligt 6 kap enligt lag (1960:729)
Writer-Editor : Tomas Eriksson / IBL BildbyrŒ
Copyright Flag : True
URL : www.tomasfoto.se
Make : NIKON CORPORATION
Camera Model Name : NIKON D700
Software : Ver.1.02
Modify Date : 2010:11:11 19:00:39
Artist : Tomas Eriksson
Copyright : Copyright (C) Tomas Eriksson. All rights reserved. Detta falt far inte andras eller raderas enligt 6 kap enligt lag (1960:729)
Exposure Time : 1/1600
F Number : 4.0
Exposure Program : Aperture-priority AE
ISO : 200
Sensitivity Type : Unknown
Date/Time Original : 2010:07:17 15:58:30
Create Date : 2010:07:17 15:58:30
Shutter Speed Value : 1/1600
Aperture Value : 4.0
Exposure Compensation : 0
Max Aperture Value : 2.8
Subject Distance : 10 m
Metering Mode : Multi-segment
Light Source : Fine Weather
Focal Length : 200.0 mm
Sensing Method : One-chip color area
Scene Type : Directly photographed
CFA Pattern : [Red,Green][Green,Blue]
Custom Rendered : Normal
Exposure Mode : Auto
White Balance : Manual
Digital Zoom Ratio : 1
Focal Length In 35mm Format : 200 mm
Scene Capture Type : Standard
Gain Control : None
Contrast : Normal
Saturation : Normal
Sharpness : Normal
Subject Distance Range : Unknown
Serial Number : 2335916
Lens Info : 70-200mm f/2.8
Lens Model : 70.0-200.0 mm f/2.8
Profile Description : sRGB IEC61966-2.1
Date/Time Digitized : 2010:07:17 15:58:30.91+02:00
Exif Image Width : 599
Exif Image Height : 900
Creator Tool : Adobe Photoshop Lightroom
Lens : 70.0-200.0 mm f/2.8
Image Number : 56
Approximate Focus Distance : 10
Web Statement : www.tomasfoto.se
Marked : True
Caption Writer : Tomas Eriksson / IBL Bildbyrå
Version : 6.2
Process Version : 5.7
Color Temperature : 4614
Tint : -6
Exposure : +0.25
Shadows : 5
Brightness : +50
Luminance Smoothing : 0
Color Noise Reduction : 25
Chromatic Aberration R : 0
Chromatic Aberration B : 0
Vignette Amount : 0
Shadow Tint : 0
Red Hue : 0
Red Saturation : 0
Green Hue : 0
Green Saturation : 0
Blue Hue : 0
Blue Saturation : 0
Fill Light : 9
Vibrance : +34
Highlight Recovery : 0
Clarity : 0
Defringe : 0
Hue Adjustment Red : 0
Hue Adjustment Orange : 0
Hue Adjustment Yellow : 0
Hue Adjustment Green : 0
Hue Adjustment Aqua : 0
Hue Adjustment Blue : 0
Hue Adjustment Purple : 0
Hue Adjustment Magenta : 0
Saturation Adjustment Red : 0
Saturation Adjustment Orange : 0
Saturation Adjustment Yellow : 0
Saturation Adjustment Green : 0
Saturation Adjustment Aqua : 0
Saturation Adjustment Blue : 0
Saturation Adjustment Purple : 0
Saturation Adjustment Magenta : 0
Luminance Adjustment Red : 0
Luminance Adjustment Orange : 0
Luminance Adjustment Yellow : 0
Luminance Adjustment Green : 0
Luminance Adjustment Aqua : 0
Luminance Adjustment Blue : 0
Luminance Adjustment Purple : 0
Luminance Adjustment Magenta : 0
Split Toning Shadow Hue : 0
Split Toning Shadow Saturation : 0
Split Toning Highlight Hue : 0
Split Toning Highlight Saturation : 0
Split Toning Balance : 0
Parametric Shadows : 0
Parametric Darks : 0
Parametric Lights : 0
Parametric Highlights : 0
Parametric Shadow Split : 25
Parametric Midtone Split : 50
Parametric Highlight Split : 75
Sharpen Radius : +1.0
Sharpen Detail : 25
Sharpen Edge Masking : 0
Post Crop Vignette Amount : 0
Grain Amount : 0
Color Noise Reduction Detail : 50
Lens Profile Enable : 0
Lens Manual Distortion Amount : 0
Perspective Vertical : 0
Perspective Horizontal : 0
Perspective Rotate : 0.0
Perspective Scale : 100
Convert To Grayscale : False
Tone Curve Name : Medium Contrast
Camera Profile : Adobe Standard
Lens Profile Setup : LensDefaults
Has Settings : True
Has Crop : False
Already Applied : True
Flash Fired : False
Flash Return : No return detection
Flash Mode : Unknown
Flash Function : False
Flash Red Eye Mode : False
Creator : Tomas Eriksson / IBL Bildbyrå
Rights : Copyright © Tomas Eriksson. All rights reserved. Detta fält får inte ändras eller raderas enligt 6 kap enligt lag (1960:729)
Usage Terms : All rights reserved
Tone Curve : 0, 0, 32, 22, 64, 56, 128, 128, 192, 196, 255, 255
Image Width : 200
Image Height : 300
Bits Per Sample : 8
Color Components : 3
Aperture : 4.0
Image Size : 200x300
Megapixels : 0.060
Scale Factor To 35 mm Equivalent : 1.0
Shutter Speed : 1/1600
Create Date : 2010:07:17 15:58:30.91
Date/Time Original : 2010:07:17 15:58:30.91
Flash : No Flash
Circle Of Confusion : 0.030 mm
Depth Of Field : 0.59 m (9.71 - 10.30 m)
Field Of View : 10.3 deg
Focal Length : 200.0 mm (35 mm equivalent: 200.0 mm)
Hyperfocal Distance : 332.82 m
Light Value : 13.6
Lens ID : AF-S VR Zoom-Nikkor 70-200mm f/2.8G IF-ED