Uber Exif Photo
Photometric Interpretation : RGB
Make : NIKON CORPORATION
Camera Model Name : NIKON D5000
Orientation : Horizontal (normal)
Samples Per Pixel : 3
Software : Adobe Photoshop CS5 Windows
Modify Date : 2010:11:19 13:27:45
Exposure Time : 1/200
F Number : 10.0
Exposure Program : Not Defined
ISO : 200
Sensitivity Type : Unknown
Date/Time Original : 2010:06:12 16:32:53
Create Date : 2010:06:12 16:32:53
Shutter Speed Value : 1/200
Aperture Value : 10.0
Exposure Compensation : 0
Max Aperture Value : 5.1
Subject Distance : 1.12 m
Metering Mode : Multi-segment
Light Source : Unknown
Flash : Auto, Fired, Return detected
Focal Length : 36.0 mm
Color Space : Uncalibrated
Exif Image Width : 2848
Exif Image Height : 1899
Sensing Method : One-chip color area
Scene Type : Directly photographed
CFA Pattern : [Green,Blue][Red,Green]
Custom Rendered : Normal
Exposure Mode : Auto
White Balance : Auto
Digital Zoom Ratio : 1
Focal Length In 35mm Format : 54 mm
Scene Capture Type : Standard
Gain Control : None
Contrast : Normal
Saturation : Normal
Sharpness : Normal
Subject Distance Range : Unknown
Serial Number : 6183606
Lens Info : 18-55mm f/3.5-5.6
Lens Model : 18.0-55.0 mm f/3.5-5.6
Profile Description : Adobe RGB (1998)
Creator Tool : Adobe Photoshop CS5 Windows
Rating : 0
Lens : 18.0-55.0 mm f/3.5-5.6
Image Number : 12893
Approximate Focus Distance : 1.12
Raw File Name : _DSC1639.JPG
Version : 6.2
Process Version : 5.7
Incremental Temperature : -13
Incremental Tint : -25
Exposure : -0.20
Shadows : 0
Brightness : 0
Luminance Smoothing : 25
Color Noise Reduction : 0
Chromatic Aberration R : 0
Chromatic Aberration B : 0
Vignette Amount : 0
Shadow Tint : 0
Red Hue : 0
Red Saturation : 0
Green Hue : 0
Green Saturation : 0
Blue Hue : 0
Blue Saturation : 0
Fill Light : 10
Vibrance : 0
Highlight Recovery : 32
Clarity : +27
Defringe : 0
Hue Adjustment Red : 0
Hue Adjustment Orange : 0
Hue Adjustment Yellow : 0
Hue Adjustment Green : 0
Hue Adjustment Aqua : 0
Hue Adjustment Blue : 0
Hue Adjustment Purple : 0
Hue Adjustment Magenta : 0
Saturation Adjustment Red : 0
Saturation Adjustment Orange : 0
Saturation Adjustment Yellow : 0
Saturation Adjustment Green : 0
Saturation Adjustment Aqua : 0
Saturation Adjustment Blue : 0
Saturation Adjustment Purple : 0
Saturation Adjustment Magenta : 0
Luminance Adjustment Red : 0
Luminance Adjustment Orange : 0
Luminance Adjustment Yellow : 0
Luminance Adjustment Green : 0
Luminance Adjustment Aqua : 0
Luminance Adjustment Blue : 0
Luminance Adjustment Purple : 0
Luminance Adjustment Magenta : 0
Split Toning Shadow Hue : 0
Split Toning Shadow Saturation : 0
Split Toning Highlight Hue : 0
Split Toning Highlight Saturation : 0
Split Toning Balance : 0
Parametric Shadows : 0
Parametric Darks : 0
Parametric Lights : 0
Parametric Highlights : 0
Parametric Shadow Split : 25
Parametric Midtone Split : 50
Parametric Highlight Split : 75
Sharpen Radius : +1.0
Sharpen Detail : 25
Sharpen Edge Masking : 0
Post Crop Vignette Amount : 0
Grain Amount : 0
Luminance Noise Reduction Detail : 50
Luminance Noise Reduction Contrast : 0
Lens Profile Enable : 0
Lens Manual Distortion Amount : 0
Perspective Vertical : 0
Perspective Horizontal : 0
Perspective Rotate : 0.0
Perspective Scale : 100
Convert To Grayscale : False
Tone Curve Name : Linear
Camera Profile : Embedded
Lens Profile Setup : LensDefaults
Has Settings : True
Crop Top : 0.076285
Crop Left : 0.194152
Crop Bottom : 0.856685
Crop Right : 1
Crop Angle : -0.940767
Crop Constrain To Warp : 1
Crop Width : 10
Crop Height : 15
Crop Unit : Unknown (3)
Has Crop : True
Already Applied : True
Format : image/jpeg
Date Created : 2010:06:12 16:32:53.005
Color Mode : RGB
ICC Profile Name : Adobe RGB (1998)
Tone Curve : 0, 0, 255, 255
Derived From : Image Width : 300
Image Height : 200
Bits Per Sample : 8
Color Components : 3
Aperture : 10.0
Image Size : 300x200
Megapixels : 0.060
Scale Factor To 35 mm Equivalent : 1.5
Shutter Speed : 1/200
Create Date : 2010:06:12 16:32:53.50
Date/Time Original : 2010:06:12 16:32:53.50
Modify Date : 2010:11:19 13:27:45.50
Circle Of Confusion : 0.020 mm
Depth Of Field : 0.39 m (0.96 - 1.35 m)
Field Of View : 36.9 deg
Focal Length : 36.0 mm (35 mm equivalent: 54.0 mm)
Hyperfocal Distance : 6.47 m
Light Value : 13.3
Lens ID : AF-S DX VR Zoom-Nikkor 18-55mm f/3.5-5.6G