Uber Exif Photo
By-line : Andrew Hazen
Copyright Notice : (C)2012 Andrew T Hazen, all rights reserved
Make : NIKON CORPORATION
Camera Model Name : NIKON D300
Software : Adobe Photoshop Lightroom 4.1 (Windows)
Modify Date : 2012:06:20 11:08:38
Artist : Andrew Hazen
Copyright : (C)2012 Andrew T Hazen, all rights reserved
Exposure Time : 1/1000
F Number : 9.0
Exposure Program : Manual
ISO : 160
Date/Time Original : 2012:06:19 13:52:28
Create Date : 2012:06:19 13:52:28
Shutter Speed Value : 1/1000
Aperture Value : 9.0
Exposure Compensation : 0
Max Aperture Value : 5.7
Metering Mode : Multi-segment
Light Source : Fine Weather
Flash : No Flash
Focal Length : 400.0 mm
Sensing Method : One-chip color area
Scene Type : Directly photographed
CFA Pattern : [Red,Green][Green,Blue]
Custom Rendered : Normal
Exposure Mode : Manual
White Balance : Manual
Digital Zoom Ratio : 1
Focal Length In 35mm Format : 600 mm
Scene Capture Type : Standard
Gain Control : None
Contrast : Normal
Saturation : Normal
Sharpness : Normal
Subject Distance Range : Unknown
Serial Number : 3001013
Lens Info : 80-400mm f/4.5-5.6
Lens Model : 80.0-400.0 mm f/4.5-5.6
Profile Description : sRGB IEC61966-2.1
Format : image/jpeg
Rating Percent : 0
Date Created : 2012:06:19 13:52:28.60
Creator Tool : Adobe Photoshop Lightroom 4.1 (Windows)
Lens : 80.0-400.0 mm f/4.5-5.6
Image Number : 143765
Approximate Focus Distance : 4294967295
Version : 7.1
Process Version : 6.7
Incremental Temperature : 0
Incremental Tint : 0
Luminance Smoothing : 0
Color Noise Reduction : 0
Vignette Amount : 0
Shadow Tint : 0
Red Hue : 0
Red Saturation : 0
Green Hue : 0
Green Saturation : 0
Blue Hue : 0
Blue Saturation : 0
Vibrance : 0
Hue Adjustment Red : 0
Hue Adjustment Orange : 0
Hue Adjustment Yellow : 0
Hue Adjustment Green : 0
Hue Adjustment Aqua : 0
Hue Adjustment Blue : 0
Hue Adjustment Purple : 0
Hue Adjustment Magenta : 0
Saturation Adjustment Red : 0
Saturation Adjustment Orange : 0
Saturation Adjustment Yellow : 0
Saturation Adjustment Green : 0
Saturation Adjustment Aqua : 0
Saturation Adjustment Blue : 0
Saturation Adjustment Purple : 0
Saturation Adjustment Magenta : 0
Luminance Adjustment Red : 0
Luminance Adjustment Orange : 0
Luminance Adjustment Yellow : 0
Luminance Adjustment Green : 0
Luminance Adjustment Aqua : 0
Luminance Adjustment Blue : 0
Luminance Adjustment Purple : 0
Luminance Adjustment Magenta : 0
Split Toning Shadow Hue : 0
Split Toning Shadow Saturation : 0
Split Toning Highlight Hue : 0
Split Toning Highlight Saturation : 0
Split Toning Balance : 0
Parametric Shadows : 0
Parametric Darks : 0
Parametric Lights : 0
Parametric Highlights : 0
Parametric Shadow Split : 25
Parametric Midtone Split : 50
Parametric Highlight Split : 75
Sharpen Radius : +1.0
Sharpen Detail : 25
Sharpen Edge Masking : 0
Post Crop Vignette Amount : 0
Grain Amount : 0
Lens Profile Enable : 0
Lens Manual Distortion Amount : 0
Perspective Vertical : 0
Perspective Horizontal : 0
Perspective Rotate : 0.0
Perspective Scale : 100
Auto Lateral CA : 0
Exposure 2012 : -0.50
Contrast 2012 : +24
Highlights 2012 : 0
Shadows 2012 : 0
Whites 2012 : +56
Blacks 2012 : +1
Clarity 2012 : 0
Defringe Purple Amount : 0
Defringe Purple Hue Lo : 30
Defringe Purple Hue Hi : 70
Defringe Green Amount : 0
Defringe Green Hue Lo : 40
Defringe Green Hue Hi : 60
Convert To Grayscale : False
Tone Curve Name 2012 : Linear
Camera Profile : Embedded
Lens Profile Setup : LensDefaults
Has Settings : True
Has Crop : False
Already Applied : True
Creator : Andrew Hazen
Rights : (C)2012 Andrew T Hazen, all rights reserved
Creator Work Email : Athazen@gmail.com
Usage Terms : For consideration only, no reproduction without prior permission
Tone Curve PV2012 : 0, 0, 255, 255
Tone Curve PV2012 Red : 0, 0, 255, 255
Tone Curve PV2012 Green : 0, 0, 255, 255
Tone Curve PV2012 Blue : 0, 0, 255, 255
Image Width : 300
Image Height : 199
Bits Per Sample : 8
Color Components : 3
Aperture : 9.0
Image Size : 300x199
Megapixels : 0.060
Scale Factor To 35 mm Equivalent : 1.5
Shutter Speed : 1/1000
Create Date : 2012:06:19 13:52:28.60
Date/Time Original : 2012:06:19 13:52:28.60
Circle Of Confusion : 0.020 mm
Depth Of Field : inf (887.52 m - inf)
Field Of View : 3.4 deg
Focal Length : 400.0 mm (35 mm equivalent: 600.0 mm)
Hyperfocal Distance : 887.52 m
Light Value : 15.6
Lens ID : AF VR Zoom-Nikkor 80-400mm f/4.5-5.6D ED