Uber Exif Photo
Keywords : stad, storm
Copyright Flag : False
Make : NIKON CORPORATION
Camera Model Name : NIKON D200
Software : Adobe Photoshop Lightroom
Modify Date : 2010:10:31 23:09:08
Exposure Time : 1/750
F Number : 10.0
Exposure Program : Aperture-priority AE
ISO : 320
Sensitivity Type : Unknown
Date/Time Original : 2010:10:27 14:41:36
Create Date : 2010:10:27 14:41:36
Shutter Speed Value : 1/750
Aperture Value : 10.0
Exposure Compensation : -1/3
Max Aperture Value : 5.7
Subject Distance : 4294967295 m
Metering Mode : Spot
Light Source : Unknown
Focal Length : 20.0 mm
Sensing Method : One-chip color area
Scene Type : Directly photographed
CFA Pattern : [Green,Red][Blue,Green]
Custom Rendered : Normal
Exposure Mode : Auto
White Balance : Auto
Digital Zoom Ratio : 1
Focal Length In 35mm Format : 30 mm
Scene Capture Type : Standard
Gain Control : None
Contrast : Normal
Saturation : Normal
Sharpness : Normal
Subject Distance Range : Unknown
Lens Info : 10-20mm f/4-5.6
Lens Model : 10.0-20.0 mm f/4.0-5.6
Exif Image Height : 500
Exif Image Width : 904
Date/Time Digitized : 2010:10:27 14:41:36.24+02:00
Creator Tool : Adobe Photoshop Lightroom
Approximate Focus Distance : 4294967295
Image Number : 64527
Lens : 10.0-20.0 mm f/4.0-5.6
Already Applied : True
Has Crop : True
Crop Unit : pixels
Crop Height : 500
Crop Width : 904
Crop Constrain To Warp : 0
Crop Angle : -1.00701
Crop Right : 0.992719
Crop Bottom : 0.809619
Crop Left : 0.002863
Crop Top : 0.025741
Has Settings : True
Lens Profile Setup : LensDefaults
Camera Profile : Adobe Standard
Tone Curve Name : Medium Contrast
Convert To Grayscale : True
Perspective Scale : 100
Perspective Rotate : 0.0
Perspective Horizontal : 0
Perspective Vertical : 0
Lens Manual Distortion Amount : 0
Lens Profile Enable : 0
Luminance Noise Reduction Contrast : 0
Color Noise Reduction Detail : 50
Luminance Noise Reduction Detail : 50
Grain Amount : 0
Post Crop Vignette Amount : 0
Sharpen Edge Masking : 0
Sharpen Detail : 25
Sharpen Radius : +1.0
Parametric Highlight Split : 75
Parametric Midtone Split : 50
Parametric Shadow Split : 25
Parametric Highlights : +33
Parametric Lights : +22
Parametric Darks : 0
Parametric Shadows : -20
Split Toning Balance : 0
Split Toning Highlight Saturation : 0
Split Toning Highlight Hue : 0
Split Toning Shadow Saturation : 0
Split Toning Shadow Hue : 0
Gray Mixer Magenta : +4
Gray Mixer Purple : +14
Gray Mixer Blue : +7
Gray Mixer Aqua : -19
Gray Mixer Green : -25
Gray Mixer Yellow : -20
Gray Mixer Orange : -16
Gray Mixer Red : -8
Defringe : 0
Clarity : +22
Highlight Recovery : 0
Fill Light : 0
Blue Saturation : 0
Blue Hue : 0
Green Saturation : 0
Green Hue : 0
Red Saturation : 0
Red Hue : 0
Shadow Tint : 0
Vignette Amount : 0
Chromatic Aberration B : 0
Chromatic Aberration R : 0
Color Noise Reduction : 25
Luminance Smoothing : 33
Brightness : +50
Shadows : 5
Exposure : -0.41
Tint : -5
Color Temperature : 5000
Process Version : 5.7
Version : 6.2
Video Pixel Aspect Ratio : 1
Video Field Order : Progressive
Video Alpha Mode : Straight
Video Frame Rate : 0.000000
CFA Pattern Columns : 2
CFA Pattern Rows : 2
CFA Pattern Values : 1, 0, 2, 1
Flash Fired : False
Flash Return : No return detection
Flash Mode : Unknown
Flash Function : False
Flash Red Eye Mode : False
Tone Curve : 0, 0, 32, 22, 64, 56, 128, 128, 192, 196, 255, 255
Hierarchical Subject : stad, storm
Subject : stad, storm
Video Frame Size W : 904
Video Frame Size H : 500
Video Frame Size Unit : pixel
Image Width : 300
Image Height : 166
Bits Per Sample : 8
Color Components : 1
Aperture : 10.0
Image Size : 300x166
Megapixels : 0.050
Scale Factor To 35 mm Equivalent : 1.5
Shutter Speed : 1/750
Create Date : 2010:10:27 14:41:36.24
Date/Time Original : 2010:10:27 14:41:36.24
Flash : No Flash
Circle Of Confusion : 0.020 mm
Depth Of Field : inf (2.00 m - inf)
Field Of View : 61.9 deg
Focal Length : 20.0 mm (35 mm equivalent: 30.0 mm)
Hyperfocal Distance : 2.00 m
Light Value : 14.5
Lens ID : Sigma 10-20mm F4-5.6 EX DC HSM