Uber Exif Photo
Copyright Flag : False
Camera Model Name : NIKON D60
Orientation : Horizontal (normal)
Software : Adobe Photoshop Elements 7.0 Windows
Modify Date : 2010:11:01 22:07:57
Exposure Time : 1/250
F Number : 8.0
ISO : 400
Date/Time Original : 2010:10:31 18:01:45
Shutter Speed Value : 1/250
Aperture Value : 8.0
Focal Length : 18.0 mm
Color Space : Uncalibrated
Exif Image Width : 3835
Exif Image Height : 2564
Profile Description : Adobe RGB (1998)
Method : Details Enhancer
Strength : 76.0
Color Saturation : 82.0
Luminosity : 2.0
White Clip : 0.249550
Black Clip : 0.000000
Smoothing : Very High
Microcontrast : 2.0
Microsmoothing : 2.0
Gamma : 1.0
Highlights Smoothing : 0.0
Shadows Smoothing : 0.0
Shadows Clipping : 0.0
Color Temperature : 1.0
Saturation Highlights : 3.0
Saturation Shadows : 0.0
Create Date : 2010:11:01 22:07:57+08:00
Rating : 0
Creator Tool : Adobe Photoshop Elements 7.0 Windows
Raw File Name : DSC_1701_698_699_700_702_tonemapped.tif
Version : 4.5
White Balance : Custom
Incremental Temperature : +8
Incremental Tint : 0
Exposure : +0.45
Shadows : 19
Brightness : +25
Contrast : +6
Saturation : 0
Sharpness : 0
Luminance Smoothing : 0
Color Noise Reduction : 0
Chromatic Aberration R : 0
Chromatic Aberration B : 0
Vignette Amount : 0
Shadow Tint : 0
Red Hue : 0
Red Saturation : 0
Green Hue : 0
Green Saturation : 0
Blue Hue : 0
Blue Saturation : 0
Fill Light : 35
Vibrance : 0
Highlight Recovery : 20
Clarity : +100
Defringe : 0
Hue Adjustment Red : 0
Hue Adjustment Orange : 0
Hue Adjustment Yellow : 0
Hue Adjustment Green : 0
Hue Adjustment Aqua : 0
Hue Adjustment Blue : 0
Hue Adjustment Purple : 0
Hue Adjustment Magenta : 0
Saturation Adjustment Red : 0
Saturation Adjustment Orange : 0
Saturation Adjustment Yellow : 0
Saturation Adjustment Green : 0
Saturation Adjustment Aqua : 0
Saturation Adjustment Blue : 0
Saturation Adjustment Purple : 0
Saturation Adjustment Magenta : 0
Luminance Adjustment Red : 0
Luminance Adjustment Orange : 0
Luminance Adjustment Yellow : 0
Luminance Adjustment Green : 0
Luminance Adjustment Aqua : 0
Luminance Adjustment Blue : 0
Luminance Adjustment Purple : 0
Luminance Adjustment Magenta : 0
Split Toning Shadow Hue : 0
Split Toning Shadow Saturation : 0
Split Toning Highlight Hue : 0
Split Toning Highlight Saturation : 0
Split Toning Balance : 0
Parametric Shadows : 0
Parametric Darks : 0
Parametric Lights : 0
Parametric Highlights : 0
Parametric Shadow Split : 25
Parametric Midtone Split : 50
Parametric Highlight Split : 75
Sharpen Radius : +1.0
Sharpen Detail : 25
Sharpen Edge Masking : 0
Post Crop Vignette Amount : 0
Convert To Grayscale : False
Tone Curve Name : Linear
Camera Profile : Embedded
Has Settings : True
Has Crop : False
Already Applied : True
Format : image/jpeg
Color Mode : RGB
ICC Profile Name : Adobe RGB (1998)
Image Width : 300
Image Height : 201
Bits Per Sample : 8
Color Components : 3
Aperture : 8.0
Image Size : 300x201
Megapixels : 0.060
Shutter Speed : 1/250
Light Value : 12.0