Uber Exif Photo
Make : NIKON CORPORATION
Camera Model Name : NIKON D90
Software : Adobe Photoshop Lightroom 3.6 (Macintosh)
Modify Date : 2012:08:26 23:54:20
Exposure Time : 1/2500
F Number : 8.0
Exposure Program : Aperture-priority AE
ISO : 1250
Date/Time Original : 2012:08:21 15:08:12
Create Date : 2012:08:21 15:08:12
Shutter Speed Value : 1/2500
Aperture Value : 8.0
Exposure Compensation : -2/3
Max Aperture Value : 3.5
Subject Distance : 0.6 m
Metering Mode : Multi-segment
Light Source : Unknown
Flash : No Flash
Focal Length : 18.0 mm
Sensing Method : One-chip color area
Scene Type : Directly photographed
CFA Pattern : [Green,Blue][Red,Green]
Custom Rendered : Normal
Exposure Mode : Auto
White Balance : Auto
Digital Zoom Ratio : 1
Focal Length In 35mm Format : 27 mm
Scene Capture Type : Standard
Gain Control : High gain up
Contrast : Normal
Saturation : Normal
Sharpness : Hard
Subject Distance Range : Unknown
Serial Number : 8092585
Lens Info : 18-200mm f/3.5-5.6
Lens Model : 18.0-200.0 mm f/3.5-5.6
Profile Description : sRGB IEC61966-2.1
Creator Tool : Adobe Photoshop Lightroom 3.6 (Macintosh)
Lens : 18.0-200.0 mm f/3.5-5.6
Image Number : 13485
Approximate Focus Distance : 0.6
Date Created : 2012:08:21 15:08:12.00
Format : image/jpeg
Version : 6.6
Process Version : 5.7
Color Temperature : 4750
Tint : +2
Exposure : 0.00
Shadows : 13
Brightness : +50
Luminance Smoothing : 0
Color Noise Reduction : 25
Chromatic Aberration R : 0
Chromatic Aberration B : 0
Vignette Amount : 0
Shadow Tint : 0
Red Hue : 0
Red Saturation : 0
Green Hue : 0
Green Saturation : 0
Blue Hue : 0
Blue Saturation : 0
Fill Light : 44
Vibrance : +11
Highlight Recovery : 0
Clarity : +25
Defringe : 0
Hue Adjustment Red : 0
Hue Adjustment Orange : 0
Hue Adjustment Yellow : 0
Hue Adjustment Green : 0
Hue Adjustment Aqua : 0
Hue Adjustment Blue : 0
Hue Adjustment Purple : 0
Hue Adjustment Magenta : 0
Saturation Adjustment Red : 0
Saturation Adjustment Orange : 0
Saturation Adjustment Yellow : 0
Saturation Adjustment Green : 0
Saturation Adjustment Aqua : 0
Saturation Adjustment Blue : 0
Saturation Adjustment Purple : 0
Saturation Adjustment Magenta : 0
Luminance Adjustment Red : 0
Luminance Adjustment Orange : 0
Luminance Adjustment Yellow : 0
Luminance Adjustment Green : 0
Luminance Adjustment Aqua : 0
Luminance Adjustment Blue : 0
Luminance Adjustment Purple : 0
Luminance Adjustment Magenta : 0
Split Toning Shadow Hue : 0
Split Toning Shadow Saturation : 0
Split Toning Highlight Hue : 0
Split Toning Highlight Saturation : 0
Split Toning Balance : 0
Parametric Shadows : 0
Parametric Darks : 0
Parametric Lights : 0
Parametric Highlights : 0
Parametric Shadow Split : 25
Parametric Midtone Split : 50
Parametric Highlight Split : 75
Sharpen Radius : +1.0
Sharpen Detail : 25
Sharpen Edge Masking : 0
Post Crop Vignette Amount : 0
Grain Amount : 0
Color Noise Reduction Detail : 50
Lens Profile Enable : 0
Lens Manual Distortion Amount : 0
Perspective Vertical : 0
Perspective Horizontal : 0
Perspective Rotate : 0.0
Perspective Scale : 100
Convert To Grayscale : False
Tone Curve Name : Medium Contrast
Camera Profile : Adobe Standard
Lens Profile Setup : LensDefaults
Has Settings : True
Crop Top : 0.007753
Crop Left : 0.289265
Crop Bottom : 0.916661
Crop Right : 0.690215
Crop Angle : 0
Crop Constrain To Warp : 0
Crop Width : 1719
Crop Height : 2589
Crop Unit : pixels
Has Crop : True
Already Applied : True
Tone Curve : 0, 0, 32, 22, 64, 56, 128, 128, 192, 196, 255, 255
Image Width : 199
Image Height : 300
Bits Per Sample : 8
Color Components : 3
Aperture : 8.0
Image Size : 199x300
Megapixels : 0.060
Scale Factor To 35 mm Equivalent : 1.5
Shutter Speed : 1/2500
Create Date : 2012:08:21 15:08:12.00
Date/Time Original : 2012:08:21 15:08:12.00
Circle Of Confusion : 0.020 mm
Depth Of Field : 0.38 m (0.47 - 0.84 m)
Field Of View : 67.4 deg
Focal Length : 18.0 mm (35 mm equivalent: 27.0 mm)
Hyperfocal Distance : 2.02 m
Light Value : 13.6
Lens ID : AF-S DX VR Zoom-Nikkor 18-200mm f/3.5-5.6G IF-ED [II] or AF-S DX VR Zoom-Nikkor 18-200mm f/3.5-5.6G IF-ED