Uber Exif Photo
By-line : Randy Giesbrecht
Copyright Notice : Randy Giesbrecht 2013
Copyright Flag : True
URL : randygiesbrecht.com
Photometric Interpretation : RGB
Make : NIKON CORPORATION
Camera Model Name : NIKON D4
Orientation : Horizontal (normal)
Samples Per Pixel : 3
Software : Adobe Photoshop CS5.1 Macintosh
Modify Date : 2013:06:19 09:55:43
Artist : Randy Giesbrecht
Copyright : Randy Giesbrecht 2013
Exposure Time : 1/640
F Number : 13.0
Exposure Program : Program AE
ISO : 250
Sensitivity Type : Recommended Exposure Index
Date/Time Original : 2013:06:17 15:12:42
Create Date : 2013:06:17 15:12:42
Shutter Speed Value : 1/640
Aperture Value : 13.0
Exposure Compensation : 0
Max Aperture Value : 2.8
Metering Mode : Spot
Light Source : Unknown
Flash : No Flash
Focal Length : 95.0 mm
Color Space : sRGB
Exif Image Width : 4928
Exif Image Height : 3280
Sensing Method : One-chip color area
Scene Type : Directly photographed
CFA Pattern : [Red,Green][Green,Blue]
Custom Rendered : Normal
Exposure Mode : Auto
White Balance : Auto
Digital Zoom Ratio : 1
Focal Length In 35mm Format : 95 mm
Scene Capture Type : Standard
Gain Control : None
Contrast : Normal
Saturation : High
Sharpness : Hard
Subject Distance Range : Unknown
Serial Number : 2017359
Lens Info : 70-200mm f/2.8
Lens Model : 70.0-200.0 mm f/2.8
Profile Description : sRGB IEC61966-2.1
Creator Tool : Adobe Photoshop Lightroom 4.2 (Macintosh)
Rating : 2
Rating Percent : 1
Format : image/jpeg
Lens : 70.0-200.0 mm f/2.8
Image Number : 12221
Approximate Focus Distance : 4294967295
Date Created : 2013:06:17 15:12:42.004
Credit : Randy Giesbrecht
Color Mode : RGB
ICC Profile Name : sRGB IEC61966-2.1
Marked : True
Web Statement : randygiesbrecht.com
Version : 7.2
Process Version : 6.7
Incremental Temperature : 0
Incremental Tint : 0
Luminance Smoothing : 0
Color Noise Reduction : 0
Vignette Amount : 0
Shadow Tint : 0
Red Hue : 0
Red Saturation : 0
Green Hue : 0
Green Saturation : 0
Blue Hue : 0
Blue Saturation : 0
Vibrance : +42
Hue Adjustment Red : 0
Hue Adjustment Orange : 0
Hue Adjustment Yellow : 0
Hue Adjustment Green : 0
Hue Adjustment Aqua : 0
Hue Adjustment Blue : 0
Hue Adjustment Purple : 0
Hue Adjustment Magenta : 0
Saturation Adjustment Red : 0
Saturation Adjustment Orange : 0
Saturation Adjustment Yellow : 0
Saturation Adjustment Green : 0
Saturation Adjustment Aqua : 0
Saturation Adjustment Blue : 0
Saturation Adjustment Purple : 0
Saturation Adjustment Magenta : 0
Luminance Adjustment Red : 0
Luminance Adjustment Orange : 0
Luminance Adjustment Yellow : 0
Luminance Adjustment Green : 0
Luminance Adjustment Aqua : 0
Luminance Adjustment Blue : 0
Luminance Adjustment Purple : 0
Luminance Adjustment Magenta : 0
Split Toning Shadow Hue : 0
Split Toning Shadow Saturation : 0
Split Toning Highlight Hue : 0
Split Toning Highlight Saturation : 0
Split Toning Balance : 0
Parametric Shadows : 0
Parametric Darks : 0
Parametric Lights : 0
Parametric Highlights : 0
Parametric Shadow Split : 25
Parametric Midtone Split : 50
Parametric Highlight Split : 75
Sharpen Radius : +1.0
Sharpen Detail : 25
Sharpen Edge Masking : 0
Post Crop Vignette Amount : +38
Post Crop Vignette Midpoint : 71
Post Crop Vignette Feather : 100
Post Crop Vignette Roundness : -20
Post Crop Vignette Style : Highlight Priority
Grain Amount : 0
Lens Profile Enable : 1
Lens Manual Distortion Amount : 0
Perspective Vertical : 0
Perspective Horizontal : 0
Perspective Rotate : 0.0
Perspective Scale : 100
Auto Lateral CA : 0
Exposure 2012 : 0.00
Contrast 2012 : 0
Highlights 2012 : -100
Shadows 2012 : -57
Whites 2012 : +53
Blacks 2012 : -38
Clarity 2012 : +100
Defringe Purple Amount : 0
Defringe Purple Hue Lo : 30
Defringe Purple Hue Hi : 70
Defringe Green Amount : 0
Defringe Green Hue Lo : 40
Defringe Green Hue Hi : 60
Convert To Grayscale : False
Tone Curve Name 2012 : Linear
Camera Profile : Embedded
Lens Profile Setup : Custom
Lens Profile Name : Adobe (Nikon AF-S VR Zoom-Nikkor 70-200mm f/2.8G IF-ED)
Lens Profile Filename : NIKON D3X (Nikon FX 70-200mm f2.8 G IF ED).lcp
Lens Profile Distortion Scale : 97
Lens Profile Chromatic Aberration Scale : 100
Lens Profile Vignetting Scale : 200
Has Settings : True
Has Crop : False
Already Applied : True
Creator : Randy Giesbrecht
Rights : Randy Giesbrecht 2013
Usage Terms : call for uaseg rights
Tone Curve PV2012 : 0, 0, 255, 255
Tone Curve PV2012 Red : 0, 0, 255, 255
Tone Curve PV2012 Green : 0, 0, 255, 255
Tone Curve PV2012 Blue : 0, 0, 255, 255
Creator Postal Code : V2S 3L7
Creator Work Email : crpix@telus.net
Creator Region : BC
Creator City : Abbotsford
Creator Work Telephone : 1(604)309-1738
Creator Address : 2764 Mountview Street
Creator Country : Canada
Creator Work URL : randygiesbrecht.com
Image Width : 300
Image Height : 200
Bits Per Sample : 8
Color Components : 3
Aperture : 13.0
Image Size : 300x200
Megapixels : 0.060
Scale Factor To 35 mm Equivalent : 1.0
Shutter Speed : 1/640
Create Date : 2013:06:17 15:12:42.40
Date/Time Original : 2013:06:17 15:12:42.40
Circle Of Confusion : 0.030 mm
Depth Of Field : inf (23.11 m - inf)
Field Of View : 21.5 deg
Focal Length : 95.0 mm (35 mm equivalent: 95.0 mm)
Hyperfocal Distance : 23.11 m
Light Value : 15.4
Lens ID : AF-S VR Zoom-Nikkor 70-200mm f/2.8G IF-ED