Uber Exif Photo
By-line : Randy Giesbrecht
By-line Title : Nikon digital camera user
Copyright Notice : (C)2012 Randy & Donna Giesbrecht, all rights reserved
Make : NIKON CORPORATION
Camera Model Name : NIKON D3
Orientation : Horizontal (normal)
Software : Capture NX 2.3.5 M
Modify Date : 2013:03:06 06:12:47
Artist : Randy Giesbrecht
Copyright : (C)2012 Randy & Donna Giesbrecht, all rights reserved
Exposure Time : 1/1000
F Number : 14.0
Exposure Program : Manual
ISO : 2000
Date/Time Original : 2012:10:08 12:55:08
Create Date : 2012:10:08 12:55:08
Shutter Speed Value : 0.8
Aperture Value : 14.0
Exposure Compensation : 0
Max Aperture Value : 2.8
Metering Mode : Multi-segment
Light Source : Unknown
Flash : No Flash
Focal Length : 170.0 mm
Maker Note Version : 2.11
Image Data Size : 1649791
Nikon Capture Version : Capture NX 2.3.5 M
IFD0 Offset : 1536
Preview IFD Offset : 1436
NEF Bit Depth : n/a (JPEG)
Color Space : Uncalibrated
Exif Image Width : 6994
Exif Image Height : 4938
Sensing Method : One-chip color area
Scene Type : Directly photographed
CFA Pattern : [Red,Green][Green,Blue]
Custom Rendered : Normal
Exposure Mode : Manual
White Balance : Manual
Digital Zoom Ratio : 1
Focal Length In 35mm Format : 170 mm
Scene Capture Type : Standard
Gain Control : High gain up
Contrast : Normal
Saturation : High
Sharpness : Hard
Subject Distance Range : Unknown
Serial Number : 2022320
Lens Info : 70-200mm f/2.8
Lens Model : 70.0-200.0 mm f/2.8
GPS Version ID : 2.2.0.0
GPS Latitude Ref : North
GPS Longitude Ref : West
GPS Altitude Ref : Above Sea Level
GPS Time Stamp : 20:46:26
GPS Satellites : 03
GPS Map Datum : WGS 84
GPS Date Stamp : 2012:10:08
Profile Description : sRGB IEC61966-2.1
Format : image/jpeg
Authors Position : Nikon digital camera user
Date Created : 2012:10:08 12:55:08.049
Color Mode : RGB
ICC Profile Name : sRGB IEC61966-2.1
Rating Percent : 1
Rating : 1
Creator Tool : Adobe Photoshop CS6 (Macintosh)
Lens : 70.0-200.0 mm f/2.8
Image Number : 62963
Approximate Focus Distance : 4294967295
Raw File Name : RG2_7062.NEF
Version : 7.0
Process Version : 6.7
Color Temperature : 5000
Tint : -6
Exposure : 0.00
Shadows : 5
Brightness : +50
Luminance Smoothing : 0
Color Noise Reduction : 25
Vignette Amount : 0
Shadow Tint : 0
Red Hue : 0
Red Saturation : 0
Green Hue : 0
Green Saturation : 0
Blue Hue : 0
Blue Saturation : 0
Fill Light : 0
Vibrance : +50
Highlight Recovery : 0
Clarity : 0
Defringe : 0
Hue Adjustment Red : 0
Hue Adjustment Orange : 0
Hue Adjustment Yellow : 0
Hue Adjustment Green : 0
Hue Adjustment Aqua : 0
Hue Adjustment Blue : 0
Hue Adjustment Purple : 0
Hue Adjustment Magenta : 0
Saturation Adjustment Red : 0
Saturation Adjustment Orange : 0
Saturation Adjustment Yellow : 0
Saturation Adjustment Green : 0
Saturation Adjustment Aqua : 0
Saturation Adjustment Blue : 0
Saturation Adjustment Purple : 0
Saturation Adjustment Magenta : 0
Luminance Adjustment Red : 0
Luminance Adjustment Orange : 0
Luminance Adjustment Yellow : 0
Luminance Adjustment Green : 0
Luminance Adjustment Aqua : 0
Luminance Adjustment Blue : 0
Luminance Adjustment Purple : 0
Luminance Adjustment Magenta : 0
Split Toning Shadow Hue : 0
Split Toning Shadow Saturation : 0
Split Toning Highlight Hue : 0
Split Toning Highlight Saturation : 0
Split Toning Balance : 0
Parametric Shadows : 0
Parametric Darks : 0
Parametric Lights : 0
Parametric Highlights : 0
Parametric Shadow Split : 25
Parametric Midtone Split : 50
Parametric Highlight Split : 75
Sharpen Radius : +1.0
Sharpen Detail : 25
Sharpen Edge Masking : 0
Post Crop Vignette Amount : 0
Grain Amount : 0
Color Noise Reduction Detail : 50
Lens Profile Enable : 0
Lens Manual Distortion Amount : 0
Perspective Vertical : 0
Perspective Horizontal : 0
Perspective Rotate : 0.0
Perspective Scale : 100
Auto Lateral CA : 0
Exposure 2012 : -0.40
Contrast 2012 : +41
Highlights 2012 : -86
Shadows 2012 : -29
Whites 2012 : +23
Blacks 2012 : -54
Clarity 2012 : +43
Convert To Grayscale : False
Tone Curve Name : Medium Contrast
Tone Curve Name 2012 : Linear
Camera Profile : Adobe Standard
Lens Profile Setup : LensDefaults
Has Settings : True
Has Crop : False
Already Applied : True
Creator : Randy Giesbrecht
Rights : (C)2012 Randy & Donna Giesbrecht, all rights reserved
Tone Curve : 0, 0, 32, 22, 64, 56, 128, 128, 192, 196, 255, 255
Tone Curve Red : 0, 0, 255, 255
Tone Curve Green : 0, 0, 255, 255
Tone Curve Blue : 0, 0, 255, 255
Tone Curve PV2012 : 0, 0, 255, 255
Tone Curve PV2012 Red : 0, 0, 255, 255
Tone Curve PV2012 Green : 0, 0, 255, 255
Tone Curve PV2012 Blue : 0, 0, 255, 255
Usage Terms : For consideration only, no reproduction without prior permission
Image Width : 300
Image Height : 212
Bits Per Sample : 8
Color Components : 3
Aperture : 14.0
Image Size : 300x212
Megapixels : 0.064
Scale Factor To 35 mm Equivalent : 1.0
Shutter Speed : 1/1000
Create Date : 2012:10:08 12:55:08.49
Date/Time Original : 2012:10:08 12:55:08.49
Modify Date : 2013:03:06 06:12:47.49
GPS Altitude : 1918 m Above Sea Level
GPS Date/Time : 2012:10:08 20:46:26Z
GPS Latitude : 43 deg 29' 9.21" N
GPS Longitude : 110 deg 44' 14.21" W
Circle Of Confusion : 0.030 mm
Depth Of Field : inf (68.70 m - inf)
Field Of View : 12.1 deg
Focal Length : 170.0 mm (35 mm equivalent: 170.0 mm)
GPS Position : 43 deg 29' 9.21" N, 110 deg 44' 14.21" W
Hyperfocal Distance : 68.70 m
Light Value : 13.3
Lens ID : AF-S VR Zoom-Nikkor 70-200mm f/2.8G IF-ED