Uber Exif Photo
By-line : Randy Giesbrecht
Keywords : Black Knight Holdings © 2012, Randy Giesbrecht © 2012
Copyright Notice : Randy Giesbrecht © 2012
Copyright Flag : True
URL : www.randygiesbrecht.com
Make : NIKON CORPORATION
Camera Model Name : NIKON D3
Orientation : Horizontal (normal)
Software : Adobe Photoshop CS5 Windows
Modify Date : 2012:02:10 08:30:08
Artist : Randy Giesbrecht
Copyright : Randy Giesbrecht © 2012
Exposure Time : 1/1600
F Number : 10.0
Exposure Program : Program AE
ISO : 800
Date/Time Original : 2012:02:09 11:57:17
Create Date : 2012:02:09 11:57:17
Shutter Speed Value : 1/1600
Aperture Value : 10.0
Exposure Compensation : 0
Max Aperture Value : 2.8
Subject Distance : 4294967295 m
Metering Mode : Multi-segment
Light Source : Unknown
Flash : No Flash
Focal Length : 32.0 mm
Color Space : Uncalibrated
Exif Image Width : 4256
Exif Image Height : 2832
Sensing Method : One-chip color area
Scene Type : Directly photographed
CFA Pattern : [Red,Green][Green,Blue]
Custom Rendered : Normal
Exposure Mode : Auto
White Balance : Manual
Digital Zoom Ratio : 1
Focal Length In 35mm Format : 32 mm
Scene Capture Type : Standard
Gain Control : Low gain up
Contrast : Normal
Saturation : Normal
Sharpness : Hard
Subject Distance Range : Unknown
Serial Number : 2022324
Lens Info : 24-70mm f/2.8
Lens Model : 24.0-70.0 mm f/2.8
Rating : 0
Label : Creator Tool : Adobe Photoshop CS5 Windows
Lens : 24.0-70.0 mm f/2.8
Image Number : 57572
Approximate Focus Distance : 4294967295
Date Created : 2012:02:09 11:57:17.024
Color Mode : RGB
ICC Profile Name : ProPhoto RGB
Marked : True
Web Statement : www.randygiesbrecht.com
Digital Source Type : http://cv.iptc.org/newscodes/digitalsourcetype/digitalCapture
Format : image/jpeg
Raw File Name : _BKR7339.JPG
Version : 6.6
Process Version : 5.7
Incremental Temperature : 0
Incremental Tint : 0
Exposure : -0.30
Shadows : 3
Brightness : +31
Luminance Smoothing : 22
Color Noise Reduction : 0
Chromatic Aberration R : 0
Chromatic Aberration B : 0
Vignette Amount : 0
Shadow Tint : 0
Red Hue : 0
Red Saturation : 0
Green Hue : 0
Green Saturation : 0
Blue Hue : 0
Blue Saturation : 0
Fill Light : 25
Vibrance : +18
Highlight Recovery : 48
Clarity : +41
Defringe : 0
Hue Adjustment Red : 0
Hue Adjustment Orange : 0
Hue Adjustment Yellow : 0
Hue Adjustment Green : 0
Hue Adjustment Aqua : 0
Hue Adjustment Blue : 0
Hue Adjustment Purple : 0
Hue Adjustment Magenta : 0
Saturation Adjustment Red : 0
Saturation Adjustment Orange : 0
Saturation Adjustment Yellow : 0
Saturation Adjustment Green : 0
Saturation Adjustment Aqua : 0
Saturation Adjustment Blue : -46
Saturation Adjustment Purple : 0
Saturation Adjustment Magenta : 0
Luminance Adjustment Red : 0
Luminance Adjustment Orange : 0
Luminance Adjustment Yellow : 0
Luminance Adjustment Green : 0
Luminance Adjustment Aqua : 0
Luminance Adjustment Blue : -27
Luminance Adjustment Purple : 0
Luminance Adjustment Magenta : 0
Split Toning Shadow Hue : 0
Split Toning Shadow Saturation : 0
Split Toning Highlight Hue : 0
Split Toning Highlight Saturation : 0
Split Toning Balance : 0
Parametric Shadows : -14
Parametric Darks : +37
Parametric Lights : +26
Parametric Highlights : 0
Parametric Shadow Split : 25
Parametric Midtone Split : 50
Parametric Highlight Split : 75
Sharpen Radius : +1.4
Sharpen Detail : 35
Sharpen Edge Masking : 25
Post Crop Vignette Amount : 0
Grain Amount : 0
Luminance Noise Reduction Detail : 50
Luminance Noise Reduction Contrast : 20
Lens Profile Enable : 0
Lens Manual Distortion Amount : 0
Perspective Vertical : 0
Perspective Horizontal : 0
Perspective Rotate : 0.0
Perspective Scale : 100
Convert To Grayscale : False
Tone Curve Name : Linear
Camera Profile : Embedded
Lens Profile Setup : LensDefaults
Has Settings : True
Crop Top : 0
Crop Left : 0
Crop Bottom : 1
Crop Right : 1
Crop Angle : 0
Crop Constrain To Warp : 0
Has Crop : True
Already Applied : True
Usage Terms : Call or email for usage Permmison
Creator : Randy Giesbrecht
Rights : Randy Giesbrecht © 2012
Subject : Black Knight Holdings © 2012, Randy Giesbrecht © 2012
Creator Region : BC
Creator Postal Code : V2S 3L7
Creator Work Telephone : 604-309-1738
Creator Country : Canada
Creator City : Abbotsford
Creator Work Email : randybkh@shaw.ca
Creator Address : 2764 Mountview Street
Creator Work URL : randygiesbrecht.com
Hierarchical Subject : Black Knight Holdings © 2012, Randy Giesbrecht © 2012
Tone Curve : 0, 0, 255, 255
Image Width : 300
Image Height : 200
Bits Per Sample : 8
Color Components : 1
Aperture : 10.0
Image Size : 300x200
Megapixels : 0.060
Scale Factor To 35 mm Equivalent : 1.0
Shutter Speed : 1/1600
Create Date : 2012:02:09 11:57:17.24
Date/Time Original : 2012:02:09 11:57:17.24
Modify Date : 2012:02:10 08:30:08.24
Circle Of Confusion : 0.030 mm
Depth Of Field : inf (3.41 m - inf)
Field Of View : 58.7 deg
Focal Length : 32.0 mm (35 mm equivalent: 32.0 mm)
Hyperfocal Distance : 3.41 m
Light Value : 14.3
Lens ID : AF-S Zoom-Nikkor 24-70mm f/2.8G ED