Uber Exif Photo
Caption-Abstract : Vancouver Island Uqulit Region ( A )
Writer-Editor : Randy & Donna Giesbrecht
Special Instructions : All Rights Reserved
By-line : Randy & Donna Giesbrecht
By-line Title : Randy & Donna Giesbrecht
Object Name : Vancouver Island Uqulit Region ( A )
Province-State : B.C.
Country-Primary Location Name : Canada
Original Transmission Reference : Vancouver Island Uqulit R
Keywords : Vancouver Island Uqulit, Region ( A )
Copyright Notice : Randy & Donna Giesbrecht © Black Knight Holdings ©
Sub-location : Vancouver Island Uqulit R
Copyright Flag : True
URL : www.blackknightphoto.ca/
Image Description : Vancouver Island Uqulit Region ( A )
Make : NIKON CORPORATION
Camera Model Name : NIKON D2X
Orientation : Horizontal (normal)
Software : Adobe Photoshop CS4 Windows
Modify Date : 2011:07:03 08:50:16
Artist : Randy & Donna Giesbrecht
Copyright : Randy & Donna Giesbrecht © Black Knight Holdings ©
Time Zone Offset : -7 -7
Exposure Time : 1/3200
F Number : 5.0
Exposure Program : Manual
ISO : 320
Date/Time Original : 2007:06:25 11:19:23
Create Date : 2007:06:25 11:19:23
Shutter Speed Value : 1/3200
Aperture Value : 5.0
Exposure Compensation : 0
Max Aperture Value : 4.9
Metering Mode : Multi-segment
Light Source : Unknown
Focal Length : 58.0 mm
Color Space : Uncalibrated
Exif Image Width : 1500
Exif Image Height : 985
Sensing Method : One-chip color area
Scene Type : Directly photographed
CFA Pattern : [Red,Green][Green,Blue]
Custom Rendered : Normal
Exposure Mode : Manual
White Balance : Manual
Digital Zoom Ratio : 1
Focal Length In 35mm Format : 87 mm
Scene Capture Type : Standard
Gain Control : None
Contrast : Normal
Saturation : Normal
Sharpness : Normal
Subject Distance Range : Unknown
Profile Description : Adobe RGB (1998)
Photometric Interpretation : RGB
Samples Per Pixel : 3
Date/Time Digitized : 2007:06:25 11:19:23.81-07:00
Creator Tool : Adobe Photoshop CS3 Windows
Rating : 0
Label : Green
Serial Number : 5032102
Lens Info : 24-120mm f/3.5-5.6
Lens : 24.0-120.0 mm f/3.5-5.6
Image Number : 53894
Version : 4.1
Raw File Name : _BKH0007.NEF
Color Temperature : 5700
Tint : +18
Exposure : 0.00
Shadows : 13
Brightness : +50
Luminance Smoothing : 0
Color Noise Reduction : 25
Chromatic Aberration R : 0
Chromatic Aberration B : 0
Vignette Amount : 0
Shadow Tint : 0
Red Hue : 0
Red Saturation : 0
Green Hue : 0
Green Saturation : 0
Blue Hue : 0
Blue Saturation : 0
Fill Light : 23
Vibrance : 0
Highlight Recovery : 0
Clarity : 50
Defringe : 0
Hue Adjustment Red : 0
Hue Adjustment Orange : 0
Hue Adjustment Yellow : 0
Hue Adjustment Green : 0
Hue Adjustment Aqua : 0
Hue Adjustment Blue : 0
Hue Adjustment Purple : 0
Hue Adjustment Magenta : 0
Saturation Adjustment Red : 0
Saturation Adjustment Orange : 0
Saturation Adjustment Yellow : 0
Saturation Adjustment Green : 0
Saturation Adjustment Aqua : 0
Saturation Adjustment Blue : 0
Saturation Adjustment Purple : 0
Saturation Adjustment Magenta : 0
Luminance Adjustment Red : 0
Luminance Adjustment Orange : 0
Luminance Adjustment Yellow : 0
Luminance Adjustment Green : 0
Luminance Adjustment Aqua : 0
Luminance Adjustment Blue : 0
Luminance Adjustment Purple : 0
Luminance Adjustment Magenta : 0
Split Toning Shadow Hue : 0
Split Toning Shadow Saturation : 0
Split Toning Highlight Hue : 0
Split Toning Highlight Saturation : 0
Split Toning Balance : 0
Parametric Shadows : 0
Parametric Darks : 0
Parametric Lights : 0
Parametric Highlights : 0
Parametric Shadow Split : 25
Parametric Midtone Split : 50
Parametric Highlight Split : 75
Sharpen Radius : +1.0
Sharpen Detail : 25
Sharpen Edge Masking : 0
Convert To Grayscale : False
Tone Curve Name : Medium Contrast
Camera Profile : ACR 3.1
Has Settings : True
Has Crop : False
Already Applied : True
Sidecar For Extension : NEF
Color Mode : RGB
ICC Profile Name : Adobe RGB (1998)
Headline : Vancouver Island Uqulit Region ( A )
Transmission Reference : Vancouver Island Uqulit Region ( A )
Instructions : All Rights Reserved
Source : Black Knight Holdings © 2007
Category : BKH
Date Created : 2007:08:03
City : Uqilit
State : B.C.
Country : Canada
Credit : Randy & Donna Giesbrecht
Authors Position : Randy & Donna Giesbrecht Black Knight Holdings
Caption Writer : Randy & Donna Giesbrecht Black Knight Holdings
Format : image/jpeg
Intellectual Genre : Vancouver Island Uqulit Region ( A )
Location : Vancouver Island Uqulit Region ( A )
Marked : True
Web Statement : www.blackknightphoto.ca/
Flash Fired : False
Flash Return : No return detection
Flash Mode : Unknown
Flash Function : False
Flash Red Eye Mode : False
Tone Curve : 0, 0, 32, 22, 64, 56, 128, 128, 192, 196, 255, 255
Supplemental Categories : BC Mag, Region ( B )
Description : Vancouver Island Uqulit Region ( A )
Subject : Vancouver Island Uqulit, Region ( A )
Title : Vancouver Island Uqulit Region ( A )
Creator : Randy & Donna Giesbrecht, Black Knight Holdings
Rights : Randy & Donna Giesbrecht © Black Knight Holdings ©
Subject Code : Vancouver Island Uqulit, Region ( A )
Scene : Vancouver Island Uqulit, Region ( A )
Creator Address : 2764 Mountview Street
Creator City : Abbotsford
Creator Region : B.C.
Creator Postal Code : V2S 3L7
Creator Country : Canada
Creator Work Telephone : 604-853-6191 Office.604-309-1738 Cell
Creator Work Email : blackknightphoto@telus.net
Creator Work URL : www.html.blackknightphoto.ca/
Usage Terms : All Rights Reserved ..Please Call Randy For Usage 604-309-1738 or Email blackknightphoto@telus.net
Image Width : 300
Image Height : 197
Bits Per Sample : 8
Color Components : 3
Aperture : 5.0
Image Size : 300x197
Megapixels : 0.059
Scale Factor To 35 mm Equivalent : 1.5
Shutter Speed : 1/3200
Create Date : 2007:06:25 11:19:23.81
Date/Time Original : 2007:06:25 11:19:23.81
Modify Date : 2011:07:03 08:50:16.81
Flash : No Flash
Circle Of Confusion : 0.020 mm
Field Of View : 23.4 deg
Focal Length : 58.0 mm (35 mm equivalent: 87.0 mm)
Hyperfocal Distance : 33.59 m
Light Value : 14.6
Lens ID : 24.0-120.0mm f/3.5-5.6