Uber Exif Photo
By-line : Randy Giesbrecht ©
Copyright Notice : Randy Giesbrecht © 2006.All Rights Reserved
Copyright Flag : True
URL : http://blackknightphoto.ca/
Make : NIKON CORPORATION
Camera Model Name : NIKON D2X
Orientation : Horizontal (normal)
Software : Adobe Photoshop CS5 Windows
Modify Date : 2010:12:12 08:04:23
Artist : Randy Giesbrecht ©
Copyright : Randy Giesbrecht © 2006.All Rights Reserved
Exposure Time : 1/1000
F Number : 4.0
Exposure Program : Aperture-priority AE
ISO : 100
Date/Time Original : 2006:01:21 12:26:06
Create Date : 2006:01:21 12:26:06
Shutter Speed Value : 1/1000
Aperture Value : 4.0
Exposure Compensation : -1/2
Max Aperture Value : 4.0
Metering Mode : Multi-segment
Light Source : Unknown
Flash : No Flash
Focal Length : 600.0 mm
Color Space : Uncalibrated
Exif Image Width : 840
Exif Image Height : 555
Sensing Method : One-chip color area
Scene Type : Directly photographed
CFA Pattern : [Red,Green][Green,Blue]
Custom Rendered : Normal
Exposure Mode : Auto
White Balance : Auto
Digital Zoom Ratio : 1.33
Focal Length In 35mm Format : 1200 mm
Scene Capture Type : Standard
Gain Control : None
Contrast : Normal
Saturation : Normal
Sharpness : Normal
Subject Distance Range : Unknown
Profile Description : Adobe RGB (1998)
Serial Number : 5032102
Lens : 600.0 mm f/4.0
Image Number : 21461
Creator Tool : Adobe Photoshop CS2 Windows
Rating : 0
Format : image/jpeg
Color Mode : RGB
ICC Profile Name : Adobe RGB (1998)
Date Created : 2006:01:21 12:26:06.032
Web Statement : http://blackknightphoto.ca/
Marked : True
Raw File Name : Jan 20 06 008 & 007 24x.jpg
Version : 6.0
Process Version : 5.0
Incremental Temperature : 0
Incremental Tint : 0
Exposure : 0.00
Shadows : 9
Brightness : 0
Luminance Smoothing : 0
Color Noise Reduction : 0
Chromatic Aberration R : 0
Chromatic Aberration B : 0
Vignette Amount : 0
Shadow Tint : 0
Red Hue : 0
Red Saturation : 0
Green Hue : 0
Green Saturation : 0
Blue Hue : 0
Blue Saturation : 0
Fill Light : 27
Vibrance : 0
Highlight Recovery : 36
Clarity : +23
Defringe : 0
Hue Adjustment Red : 0
Hue Adjustment Orange : 0
Hue Adjustment Yellow : 0
Hue Adjustment Green : 0
Hue Adjustment Aqua : 0
Hue Adjustment Blue : 0
Hue Adjustment Purple : 0
Hue Adjustment Magenta : 0
Saturation Adjustment Red : 0
Saturation Adjustment Orange : 0
Saturation Adjustment Yellow : 0
Saturation Adjustment Green : 0
Saturation Adjustment Aqua : 0
Saturation Adjustment Blue : 0
Saturation Adjustment Purple : 0
Saturation Adjustment Magenta : 0
Luminance Adjustment Red : 0
Luminance Adjustment Orange : 0
Luminance Adjustment Yellow : 0
Luminance Adjustment Green : 0
Luminance Adjustment Aqua : 0
Luminance Adjustment Blue : 0
Luminance Adjustment Purple : 0
Luminance Adjustment Magenta : 0
Split Toning Shadow Hue : 0
Split Toning Shadow Saturation : 0
Split Toning Highlight Hue : 0
Split Toning Highlight Saturation : 0
Split Toning Balance : 0
Parametric Shadows : 0
Parametric Darks : 0
Parametric Lights : 0
Parametric Highlights : 0
Parametric Shadow Split : 25
Parametric Midtone Split : 50
Parametric Highlight Split : 75
Sharpen Radius : +1.0
Sharpen Detail : 25
Sharpen Edge Masking : 0
Post Crop Vignette Amount : 0
Grain Amount : 0
Convert To Grayscale : False
Tone Curve Name : Linear
Camera Profile : Embedded
Has Settings : True
Has Crop : False
Already Applied : True
Creator : Randy Giesbrecht ©
Rights : Randy Giesbrecht © 2006.All Rights Reserved
Tone Curve : 0, 0, 255, 255
Image Width : 300
Image Height : 198
Bits Per Sample : 8
Color Components : 3
Aperture : 4.0
Image Size : 300x198
Megapixels : 0.059
Scale Factor To 35 mm Equivalent : 2.0
Shutter Speed : 1/1000
Create Date : 2006:01:21 12:26:06.32
Date/Time Original : 2006:01:21 12:26:06.32
Circle Of Confusion : 0.015 mm
Field Of View : 1.7 deg
Focal Length : 600.0 mm (35 mm equivalent: 1200.0 mm)
Hyperfocal Distance : 5990.76 m
Light Value : 14.0
Lens ID : 600.0mm f/4.0