Uber Exif Photo
Caption-Abstract : Vancouver Island Uqulit Region ( A )
Writer-Editor : Randy & Donna Giesbrecht
Special Instructions : All Rights Reserved
By-line : Randy & Donna Giesbrecht
By-line Title : Randy & Donna Giesbrecht
Object Name : Vancouver Island Uqulit Region ( A )
Sub-location : Vancouver Island Uqulit R
Province-State : B.C.
Country-Primary Location Name : Canada
Original Transmission Reference : Vancouver Island Uqulit R
Keywords : Vancouver Island Uqulit, Region ( A )
Copyright Notice : Randy & Donna Giesbrecht © Black Knight Holdings ©
Copyright Flag : True
URL : www.blackknightphoto.ca/
Photometric Interpretation : RGB
Image Description : Vancouver Island Uqulit Region ( A )
Make : NIKON CORPORATION
Camera Model Name : NIKON D2X
Orientation : Horizontal (normal)
Samples Per Pixel : 3
Software : Adobe Photoshop CS5 Windows
Modify Date : 2010:11:21 08:02:51
Artist : Randy & Donna Giesbrecht
Copyright : Randy & Donna Giesbrecht © Black Knight Holdings ©
Time Zone Offset : -7 -7
Exposure Time : 1/2500
F Number : 4.5
Exposure Program : Manual
ISO : 320
Date/Time Original : 2007:06:27 11:20:18
Create Date : 2007:06:27 11:20:18
Shutter Speed Value : 1/2500
Aperture Value : 4.5
Exposure Compensation : 0
Max Aperture Value : 4.0
Metering Mode : Multi-segment
Light Source : Unknown
Flash : No Flash
Focal Length : 200.0 mm
Color Space : Uncalibrated
Exif Image Width : 840
Exif Image Height : 578
Sensing Method : One-chip color area
Scene Type : Directly photographed
CFA Pattern : [Red,Green][Green,Blue]
Custom Rendered : Normal
Exposure Mode : Manual
White Balance : Manual
Digital Zoom Ratio : 1
Focal Length In 35mm Format : 300 mm
Scene Capture Type : Standard
Gain Control : None
Contrast : Normal
Saturation : Normal
Sharpness : Normal
Subject Distance Range : Unknown
Profile Description : Adobe RGB (1998)
Creator Tool : Adobe Photoshop CS3 Windows
Rating : 0
Label : Green
Serial Number : 5032102
Lens Info : 200-400mm f/4
Lens : 200.0-400.0 mm f/4.0
Image Number : 54179
Version : 4.1
Raw File Name : BK2_0095.JPG
Incremental Temperature : 0
Incremental Tint : 0
Exposure : -4.00
Shadows : 5
Brightness : +50
Luminance Smoothing : 0
Color Noise Reduction : 25
Chromatic Aberration R : 0
Chromatic Aberration B : 0
Vignette Amount : 0
Shadow Tint : 0
Red Hue : 0
Red Saturation : 0
Green Hue : 0
Green Saturation : 0
Blue Hue : 0
Blue Saturation : 0
Fill Light : 1
Vibrance : +28
Highlight Recovery : 0
Clarity : 54
Defringe : 0
Hue Adjustment Red : 0
Hue Adjustment Orange : 0
Hue Adjustment Yellow : 0
Hue Adjustment Green : 0
Hue Adjustment Aqua : 0
Hue Adjustment Blue : 0
Hue Adjustment Purple : 0
Hue Adjustment Magenta : 0
Saturation Adjustment Red : 0
Saturation Adjustment Orange : 0
Saturation Adjustment Yellow : 0
Saturation Adjustment Green : 0
Saturation Adjustment Aqua : 0
Saturation Adjustment Blue : 0
Saturation Adjustment Purple : 0
Saturation Adjustment Magenta : 0
Luminance Adjustment Red : 0
Luminance Adjustment Orange : 0
Luminance Adjustment Yellow : 0
Luminance Adjustment Green : 0
Luminance Adjustment Aqua : 0
Luminance Adjustment Blue : 0
Luminance Adjustment Purple : 0
Luminance Adjustment Magenta : 0
Split Toning Shadow Hue : 0
Split Toning Shadow Saturation : 0
Split Toning Highlight Hue : 0
Split Toning Highlight Saturation : 0
Split Toning Balance : 0
Parametric Shadows : 0
Parametric Darks : 0
Parametric Lights : 0
Parametric Highlights : 0
Parametric Shadow Split : 25
Parametric Midtone Split : 50
Parametric Highlight Split : 75
Sharpen Radius : +1.0
Sharpen Detail : 25
Sharpen Edge Masking : 0
Convert To Grayscale : False
Tone Curve Name : Medium Contrast
Camera Profile : ACR 3.1
Has Settings : True
Has Crop : False
Already Applied : True
Format : image/jpeg
Caption Writer : Randy & Donna Giesbrecht Black Knight Holdings
Authors Position : Randy & Donna Giesbrecht Black Knight Holdings
Credit : Randy & Donna Giesbrecht
Country : Canada
State : B.C.
City : Uqilit
Date Created : 2007:08:03 00:00-07:00
Category : BKH
Source : Black Knight Holdings © 2007
Instructions : All Rights Reserved
Transmission Reference : Vancouver Island Uqulit Region ( A )
Headline : Vancouver Island Uqulit Region ( A )
Sidecar For Extension : NEF
Color Mode : RGB
ICC Profile Name : Adobe RGB (1998)
Location : Vancouver Island Uqulit Region ( A )
Intellectual Genre : Vancouver Island Uqulit Region ( A )
Web Statement : www.blackknightphoto.ca/
Marked : True
Tone Curve : 0, 0, 32, 22, 64, 56, 128, 128, 192, 196, 255, 255
Rights : Randy & Donna Giesbrecht © Black Knight Holdings ©
Creator : Randy & Donna Giesbrecht
Title : Vancouver Island Uqulit Region ( A )
Subject : Vancouver Island Uqulit, Region ( A )
Description : Vancouver Island Uqulit Region ( A )
Supplemental Categories : BC Mag, Region ( B )
Creator Address : 2764 Mountview Street
Creator City : Abbotsford
Creator Region : B.C.
Creator Postal Code : V2S 3L7
Creator Country : Canada
Creator Work Telephone : 604-853-6191 Office.604-309-1738 Cell
Creator Work Email : blackknightphoto@telus.net
Creator Work URL : www.html.blackknightphoto.ca/
Scene : Vancouver Island Uqulit, Region ( A )
Subject Code : Vancouver Island Uqulit, Region ( A )
Usage Terms : All Rights Reserved ..Please Call Randy For Usage 604-309-1738 or Email blackknightphoto@telus.net
Image Width : 300
Image Height : 206
Bits Per Sample : 8
Color Components : 3
Aperture : 4.5
Image Size : 300x206
Megapixels : 0.062
Scale Factor To 35 mm Equivalent : 1.5
Shutter Speed : 1/2500
Create Date : 2007:06:27 11:20:18.08
Date/Time Original : 2007:06:27 11:20:18.08
Modify Date : 2010:11:21 08:02:51.08
Circle Of Confusion : 0.020 mm
Field Of View : 6.9 deg
Focal Length : 200.0 mm (35 mm equivalent: 300.0 mm)
Hyperfocal Distance : 443.76 m
Light Value : 13.9
Lens ID : 200.0-400.0mm f/4.0