Uber Exif Photo
Make : NIKON CORPORATION
Camera Model Name : NIKON Z 9
Software : Adobe Photoshop Lightroom Classic 13.4 (Macintosh)
Modify Date : 2024:08:12 09:47:56
Copyright : AJRIMAGES
Exposure Time : 1/3200
F Number : 7.1
Exposure Program : Manual
ISO : 720
Sensitivity Type : Recommended Exposure Index
Recommended Exposure Index : 720
Date/Time Original : 2024:08:08 09:35:38
Create Date : 2024:08:08 09:35:38
Shutter Speed Value : 1/3200
Aperture Value : 7.1
Exposure Compensation : +1/3
Metering Mode : Multi-segment
Light Source : Unknown
Flash : No Flash
Focal Length : 800.0 mm
Color Space : sRGB
Sensing Method : One-chip color area
Scene Type : Directly photographed
CFA Pattern : [Red,Green][Green,Blue]
Custom Rendered : Custom
Exposure Mode : Manual
White Balance : Auto
Focal Length In 35mm Format : 800 mm
Scene Capture Type : Standard
Gain Control : None
Contrast : Normal
Saturation : Normal
Sharpness : Normal
Subject Distance Range : Unknown
Serial Number : 3022527
Lens Info : 800mm f/6.3
Lens Make : NIKON
Lens Model : NIKKOR Z 800mm f/6.3 VR S
Lens Serial Number : 20004172
Keywords : 2024, Best, Surfing
Copyright Notice : AJRIMAGES
Profile Description : sRGB IEC61966-2.1
Creator Tool : Adobe Photoshop Lightroom Classic 13.4 (Macintosh)
Format : image/jpeg
Lens : NIKKOR Z 800mm f/6.3 VR S
Image Number : 20475
Enhance Details Already Applied : True
Enhance Details Version : 218300416
Enhance Denoise Already Applied : True
Enhance Denoise Version : 251658240
Enhance Denoise Luma Amount : 30
Distortion Correction Already Applied : True
Lateral Chromatic Aberration Correction Already Applied : True
Vignette Correction Already Applied : True
Date Created : 2024:08:08 09:35:38.38-07:00
Preserved File Name : _AJR0477.NEF
Pick : 0
Raw File Name : _AJR0477-Enhanced-NR.dng
Version : 16.4
Process Version : 15.4
Color Temperature : 5800
Tint : +18
Exposure 2012 : 0.00
Contrast 2012 : +40
Highlights 2012 : 0
Shadows 2012 : +21
Whites 2012 : 0
Blacks 2012 : 0
Texture : +8
Clarity 2012 : +41
Dehaze : 0
Vibrance : 0
Parametric Shadows : 0
Parametric Darks : 0
Parametric Lights : 0
Parametric Highlights : 0
Parametric Shadow Split : 25
Parametric Midtone Split : 50
Parametric Highlight Split : 75
Sharpen Radius : +2.0
Sharpen Detail : 25
Sharpen Edge Masking : 0
Luminance Smoothing : 0
Luminance Noise Reduction Detail : 75
Color Noise Reduction : 0
Hue Adjustment Red : 0
Hue Adjustment Orange : 0
Hue Adjustment Yellow : 0
Hue Adjustment Green : 0
Hue Adjustment Aqua : 0
Hue Adjustment Blue : 0
Hue Adjustment Purple : 0
Hue Adjustment Magenta : 0
Saturation Adjustment Red : 0
Saturation Adjustment Orange : 0
Saturation Adjustment Yellow : 0
Saturation Adjustment Green : 0
Saturation Adjustment Aqua : 0
Saturation Adjustment Blue : 0
Saturation Adjustment Purple : 0
Saturation Adjustment Magenta : 0
Luminance Adjustment Red : 0
Luminance Adjustment Orange : 0
Luminance Adjustment Yellow : 0
Luminance Adjustment Green : 0
Luminance Adjustment Aqua : 0
Luminance Adjustment Blue : 0
Luminance Adjustment Purple : 0
Luminance Adjustment Magenta : 0
Split Toning Shadow Hue : 0
Split Toning Shadow Saturation : 0
Split Toning Highlight Hue : 0
Split Toning Highlight Saturation : 0
Split Toning Balance : 0
Color Grade Midtone Hue : 0
Color Grade Midtone Sat : 0
Color Grade Shadow Lum : 0
Color Grade Midtone Lum : 0
Color Grade Highlight Lum : 0
Color Grade Blending : 50
Color Grade Global Hue : 0
Color Grade Global Sat : 0
Color Grade Global Lum : 0
Auto Lateral CA : 1
Lens Profile Enable : 1
Lens Manual Distortion Amount : 0
Vignette Amount : 0
Defringe Purple Amount : 0
Defringe Purple Hue Lo : 30
Defringe Purple Hue Hi : 70
Defringe Green Amount : 0
Defringe Green Hue Lo : 40
Defringe Green Hue Hi : 60
Perspective Upright : Off
Perspective Vertical : 0
Perspective Horizontal : 0
Perspective Rotate : 0.0
Perspective Aspect : 0
Perspective Scale : 100
Perspective X : 0.00
Perspective Y : 0.00
Grain Amount : 0
Post Crop Vignette Amount : 0
Shadow Tint : 0
Red Hue : 0
Red Saturation : 0
Green Hue : 0
Green Saturation : 0
Blue Hue : 0
Blue Saturation : 0
HDR Edit Mode : 0
Convert To Grayscale : False
Override Look Vignette : False
Tone Curve Name 2012 : Linear
Camera Profile : Camera Standard
Lens Profile Setup : LensDefaults
Lens Profile Name : Camera Settings
Lens Profile Is Embedded : True
Lens Profile Distortion Scale : 100
Lens Profile Vignetting Scale : 100
Has Settings : True
Crop Top : 0.169147
Crop Left : 0.340802
Crop Bottom : 0.853847
Crop Right : 0.984904
Crop Angle : 0.9
Crop Constrain To Warp : 0
Has Crop : True
Already Applied : True
Rights : AJRIMAGES
Subject : 2024, Best, Surfing
Camera Profiles Author : Adobe
Camera Profiles Make : NIKON CORPORATION
Camera Profiles Model : NIKON Z 9
Camera Profiles Unique Camera Model : Nikon Z 9
Camera Profiles Camera Raw Profile : True
Camera Profiles Auto Scale : False
Camera Profiles Lens : NIKKOR Z 800mm f/6.3 VR S
Camera Profiles Camera Pretty Name : Nikon Z 9
Camera Profiles Lens Pretty Name : NIKKOR Z 800mm f/6.3 VR S
Camera Profiles Profile Name : Camera Settings
Camera Profiles Sensor Format Factor : 1.003485
Camera Profiles Focal Length : 800
Camera Profiles Focus Distance : 10000
Camera Profiles Aperture Value : 5.655638
Camera Profiles Perspective Model Version : 2
Camera Profiles Perspective Model Image X Center : 0.511724
Camera Profiles Perspective Model Image Y Center : 0.501353
Camera Profiles Perspective Model Scale Factor : 0.981796
Camera Profiles Perspective Model Radial Distort Param 1 : 24.098373
Camera Profiles Perspective Model Radial Distort Param 2 : 122.506638
Camera Profiles Perspective Model Radial Distort Param 3 : -1063710.363138
Camera Profiles Perspective Model Vignette Model Image X Center : 0.511724
Camera Profiles Perspective Model Vignette Model Image Y Center : 0.501353
Camera Profiles Perspective Model Vignette Model Vignette Model Param 1 : 1
Weighted Flat Subject : 2024, Surfing, Best
Tone Curve PV2012 : 0, 0, 255, 255
Tone Curve PV2012 Red : 0, 0, 255, 255
Tone Curve PV2012 Green : 0, 0, 255, 255
Tone Curve PV2012 Blue : 0, 0, 255, 255
Point Colors : -1.000000, -1.000000, -1.000000, -1.000000, -1.000000, -1.000000, -1.000000, -1.000000, -1.000000, -1.000000, -1.000000, -1.000000, -1.000000, -1.000000, -1.000000, -1.000000, -1.000000, -1.000000, -1.000000
Image Width : 400
Image Height : 274
Bits Per Sample : 8
Color Components : 3
Aperture : 7.1
Image Size : 400x274
Megapixels : 0.110
Scale Factor To 35 mm Equivalent : 1.0
Shutter Speed : 1/3200
Create Date : 2024:08:08 09:35:38.38-07:00
Date/Time Original : 2024:08:08 09:35:38.38-07:00
Modify Date : 2024:08:12 09:47:56-07:00
Circle Of Confusion : 0.030 mm
Field Of View : 2.6 deg
Focal Length : 800.0 mm (35 mm equivalent: 800.0 mm)
Hyperfocal Distance : 3000.07 m
Light Value : 14.5
Lens ID : NIKKOR Z 800mm f/6.3 VR S