Uber Exif Photo
Make : NIKON CORPORATION
Camera Model Name : NIKON D5
Software : Adobe Photoshop Lightroom Classic 13.4 (Macintosh)
Modify Date : 2024:07:24 11:59:24
Copyright : AJR IMAGES
Exposure Time : 1/500
F Number : 6.3
Exposure Program : Aperture-priority AE
ISO : 500
Sensitivity Type : Recommended Exposure Index
Recommended Exposure Index : 500
Date/Time Original : 2019:05:04 12:11:18
Create Date : 2019:05:04 12:11:18
Shutter Speed Value : 1/500
Aperture Value : 6.3
Exposure Compensation : 0
Max Aperture Value : 2.8
Metering Mode : Multi-segment
Light Source : Unknown
Flash : No Flash
Focal Length : 200.0 mm
Color Space : sRGB
Sensing Method : One-chip color area
Scene Type : Directly photographed
CFA Pattern : [Red,Green][Green,Blue]
Custom Rendered : Normal
Exposure Mode : Auto
White Balance : Auto
Focal Length In 35mm Format : 200 mm
Scene Capture Type : Standard
Gain Control : None
Contrast : Normal
Saturation : Normal
Sharpness : Normal
Subject Distance Range : Unknown
Serial Number : 3005729
Lens Info : 70-200mm f/2.8
Lens Model : 70.0-200.0 mm f/2.8
Keywords : 2019, Best, Renaissance Faire
Copyright Notice : AJR IMAGES
Profile Description : sRGB IEC61966-2.1
Creator Tool : Adobe Photoshop Lightroom Classic 13.4 (Macintosh)
Format : image/jpeg
Lens : 70.0-200.0 mm f/2.8
Image Number : 27880
Approximate Focus Distance : 3.76
Date Created : 2019:05:04 12:11:18.99
Pick : 0
Raw File Name : ND5_7877.NEF
Version : 16.4
Process Version : 11.0
Color Temperature : 5550
Tint : +2
Exposure 2012 : 0.00
Contrast 2012 : 0
Highlights 2012 : 0
Shadows 2012 : +16
Whites 2012 : 0
Blacks 2012 : 0
Texture : 0
Clarity 2012 : +22
Dehaze : 0
Vibrance : 0
Parametric Shadows : 0
Parametric Darks : 0
Parametric Lights : 0
Parametric Highlights : 0
Parametric Shadow Split : 25
Parametric Midtone Split : 50
Parametric Highlight Split : 75
Sharpen Radius : +1.0
Sharpen Detail : 25
Sharpen Edge Masking : 0
Luminance Smoothing : 0
Color Noise Reduction : 25
Color Noise Reduction Detail : 50
Color Noise Reduction Smoothness : 50
Hue Adjustment Red : 0
Hue Adjustment Orange : 0
Hue Adjustment Yellow : 0
Hue Adjustment Green : 0
Hue Adjustment Aqua : 0
Hue Adjustment Blue : 0
Hue Adjustment Purple : 0
Hue Adjustment Magenta : 0
Saturation Adjustment Red : 0
Saturation Adjustment Orange : 0
Saturation Adjustment Yellow : 0
Saturation Adjustment Green : 0
Saturation Adjustment Aqua : 0
Saturation Adjustment Blue : 0
Saturation Adjustment Purple : 0
Saturation Adjustment Magenta : 0
Luminance Adjustment Red : 0
Luminance Adjustment Orange : 0
Luminance Adjustment Yellow : 0
Luminance Adjustment Green : 0
Luminance Adjustment Aqua : 0
Luminance Adjustment Blue : 0
Luminance Adjustment Purple : 0
Luminance Adjustment Magenta : 0
Split Toning Shadow Hue : 0
Split Toning Shadow Saturation : 0
Split Toning Highlight Hue : 0
Split Toning Highlight Saturation : 0
Split Toning Balance : 0
Color Grade Midtone Hue : 0
Color Grade Midtone Sat : 0
Color Grade Shadow Lum : 0
Color Grade Midtone Lum : 0
Color Grade Highlight Lum : 0
Color Grade Blending : 50
Color Grade Global Hue : 0
Color Grade Global Sat : 0
Color Grade Global Lum : 0
Auto Lateral CA : 0
Lens Profile Enable : 0
Lens Manual Distortion Amount : 0
Vignette Amount : 0
Defringe Purple Amount : 0
Defringe Purple Hue Lo : 30
Defringe Purple Hue Hi : 70
Defringe Green Amount : 0
Defringe Green Hue Lo : 40
Defringe Green Hue Hi : 60
Perspective Upright : Off
Perspective Vertical : 0
Perspective Horizontal : 0
Perspective Rotate : 0.0
Perspective Aspect : 0
Perspective Scale : 100
Perspective X : 0.00
Perspective Y : 0.00
Grain Amount : 0
Post Crop Vignette Amount : 0
Shadow Tint : 0
Red Hue : 0
Red Saturation : 0
Green Hue : 0
Green Saturation : 0
Blue Hue : 0
Blue Saturation : 0
HDR Edit Mode : 0
Override Look Vignette : False
Tone Curve Name 2012 : Linear
Camera Profile : Adobe Standard
Has Settings : True
Crop Top : 0.055586
Crop Left : 0.231179
Crop Bottom : 0.798576
Crop Right : 0.813892
Crop Angle : 0
Crop Constrain To Warp : 0
Has Crop : True
Already Applied : True
Rights : AJR IMAGES
Subject : 2019, Best, Renaissance Faire
Weighted Flat Subject : 2019, Renaissance Faire, Best
Tone Curve PV2012 : 0, 0, 255, 255
Tone Curve PV2012 Red : 0, 0, 255, 255
Tone Curve PV2012 Green : 0, 0, 255, 255
Tone Curve PV2012 Blue : 0, 0, 255, 255
Point Colors : -1.000000, -1.000000, -1.000000, -1.000000, -1.000000, -1.000000, -1.000000, -1.000000, -1.000000, -1.000000, -1.000000, -1.000000, -1.000000, -1.000000, -1.000000, -1.000000, -1.000000, -1.000000, -1.000000
Look Name : Adobe Color
Look Amount : 1
Look Supports Amount : false
Look Supports Monochrome : false
Look Supports Output Referred : false
Look Group : Profiles
Look Parameters Version : 16.4
Look Parameters Process Version : 15.4
Look Parameters Convert To Grayscale : False
Look Parameters Camera Profile : Adobe Standard
Look Parameters Look Table : E1095149FDB39D7A057BAB208837E2E1
Look Parameters Tone Curve PV2012 : 0, 0, 22, 16, 40, 35, 127, 127, 224, 230, 240, 246, 255, 255
Look Parameters Tone Curve PV2012 Red : 0, 0, 255, 255
Look Parameters Tone Curve PV2012 Green : 0, 0, 255, 255
Look Parameters Tone Curve PV2012 Blue : 0, 0, 255, 255
Image Width : 340
Image Height : 400
Bits Per Sample : 8
Color Components : 3
Aperture : 6.3
Image Size : 340x400
Megapixels : 0.136
Scale Factor To 35 mm Equivalent : 1.0
Shutter Speed : 1/500
Create Date : 2019:05:04 12:11:18.99-07:00
Date/Time Original : 2019:05:04 12:11:18.99-07:00
Modify Date : 2024:07:24 11:59:24-07:00
Circle Of Confusion : 0.030 mm
Depth Of Field : 0.13 m (3.70 - 3.82 m)
Field Of View : 10.3 deg
Focal Length : 200.0 mm (35 mm equivalent: 200.0 mm)
Hyperfocal Distance : 211.31 m
Light Value : 12.0
Lens ID : AF-S Nikkor 70-200mm f/2.8E FL ED VR