Uber Exif Photo
Make : NIKON CORPORATION
Camera Model Name : NIKON D3400
Orientation : Horizontal (normal)
Software : Adobe Photoshop Lightroom Classic 8.2.1 (Windows)
Modify Date : 2023:09:20 05:04:02
CFA Pattern 2 : Exposure Time : 1/2000
F Number : 22.0
Exposure Program : Manual
ISO : 1600
Sensitivity Type : Recommended Exposure Index
Recommended Exposure Index : 1600
Date/Time Original : 2023:09:19 10:46:08
Create Date : 2023:09:19 10:46:08
Shutter Speed Value : 1/2000
Aperture Value : 22.0
Exposure Compensation : -1/3
Max Aperture Value : 1.7
Metering Mode : Spot
Light Source : Unknown
Flash : Off, Did not fire
Focal Length : 35.0 mm
Color Space : Uncalibrated
Exif Image Width : 2560
Exif Image Height : 3840
Sensing Method : One-chip color area
Scene Type : Directly photographed
CFA Pattern : [Red,Green][Green,Blue]
Custom Rendered : Normal
Exposure Mode : Manual
White Balance : Auto
Focal Length In 35mm Format : 52 mm
Scene Capture Type : Standard
Gain Control : High gain up
Contrast : Normal
Saturation : Normal
Sharpness : Normal
Subject Distance Range : Unknown
Serial Number : 3288854
Lens Info : 35mm f/1.8
Lens Model : 35.0 mm f/1.8
Creator Tool : Adobe Photoshop Lightroom Classic 8.2.1 (Windows)
Lens : 35.0 mm f/1.8
Image Number : 65848
Approximate Focus Distance : 0.79
Format : image/jpeg
Raw File Name : _MVP8878.NEF
Version : 11.2.1
Process Version : 11.0
Color Temperature : 5400
Tint : +55
Luminance Smoothing : 22
Color Noise Reduction : 25
Vignette Amount : 0
Shadow Tint : 0
Red Hue : 0
Red Saturation : 0
Green Hue : 0
Green Saturation : 0
Blue Hue : 0
Blue Saturation : 0
Gray Mixer Red : -24
Gray Mixer Orange : -8
Gray Mixer Yellow : +5
Gray Mixer Green : -57
Gray Mixer Aqua : +12
Gray Mixer Blue : +43
Gray Mixer Purple : +17
Gray Mixer Magenta : 0
Split Toning Shadow Hue : 0
Split Toning Shadow Saturation : 0
Split Toning Highlight Hue : 0
Split Toning Highlight Saturation : 0
Split Toning Balance : 0
Parametric Shadows : 0
Parametric Darks : 0
Parametric Lights : 0
Parametric Highlights : 0
Parametric Shadow Split : 25
Parametric Midtone Split : 50
Parametric Highlight Split : 75
Sharpen Radius : +3.0
Sharpen Detail : 25
Sharpen Edge Masking : 100
Post Crop Vignette Amount : 0
Grain Amount : 0
Luminance Noise Reduction Detail : 100
Color Noise Reduction Detail : 50
Luminance Noise Reduction Contrast : 100
Color Noise Reduction Smoothness : 50
Lens Profile Enable : 0
Lens Manual Distortion Amount : 0
Perspective Vertical : 0
Perspective Horizontal : 0
Perspective Rotate : 0.0
Perspective Scale : 100
Perspective Aspect : 0
Perspective Upright : Off
Perspective X : 0.00
Perspective Y : 0.00
Auto Lateral CA : 0
Exposure 2012 : +1.29
Contrast 2012 : -10
Highlights 2012 : +21
Shadows 2012 : -25
Whites 2012 : +56
Blacks 2012 : -8
Clarity 2012 : +13
Dehaze : 0
Tone Map Strength : 0
Convert To Grayscale : True
Override Look Vignette : False
Tone Curve Name : Linear
Tone Curve Name 2012 : Custom
Camera Profile : Adobe Standard
Lens Profile Setup : LensDefaults
Has Settings : True
Crop Top : 0.051064
Crop Left : 0.051064
Crop Bottom : 1
Crop Right : 1
Crop Angle : 0
Crop Constrain To Warp : 0
Has Crop : True
Already Applied : True
Tone Curve : 0, 0, 255, 255
Tone Curve Red : 0, 0, 255, 255
Tone Curve Green : 0, 0, 255, 255
Tone Curve Blue : 0, 0, 255, 255
Tone Curve PV2012 : 0, 1, 255, 255
Tone Curve PV2012 Red : 0, 0, 255, 255
Tone Curve PV2012 Green : 0, 0, 255, 255
Tone Curve PV2012 Blue : 0, 0, 255, 255
Paint Correction Range Mask Version : +2, +2, +2
Paint Correction Range Mask Type : 0, 0, 0
Paint Correction Range Mask Color Amount : 0.500000, 0.500000, 0.500000
Paint Correction Range Mask Lum Min : 0.000000, 0.000000, 0.000000
Paint Correction Range Mask Lum Max : 1.000000, 1.000000, 1.000000
Paint Correction Range Mask Lum Feather : 0.500000, 0.500000, 0.500000
Paint Correction Range Mask Depth Min : 0.000000, 0.000000, 0.000000
Paint Correction Range Mask Depth Max : 1.000000, 1.000000, 1.000000
Paint Correction Range Mask Depth Feather : 0.500000, 0.500000, 0.500000
Paint Correction What : Correction
Paint Correction Amount : 1.000000
Paint Correction Active : true
Paint Correction Saturation : 0.000000
Paint Correction Sharpness : 0.000000
Paint Correction Brightness : 0.000000
Paint Correction Toning Hue : 240.000000
Paint Correction Toning Saturation : 0.000000
Paint Correction Exposure 2012 : 0.169750
Paint Correction Contrast 2012 : 0.000000
Paint Correction Highlights 2012 : 0.000000
Paint Correction Shadows 2012 : 0.000000
Paint Correction Whites 2012 : 0.437500
Paint Correction Blacks 2012 : 0.000000
Paint Correction Clarity 2012 : 0.196430
Paint Correction Dehaze : 0.000000
Paint Correction Luminance Noise : 0.642860
Paint Correction Moire : 0.000000
Paint Correction Defringe : 0.000000
Paint Correction Temperature : 0.000000
Paint Correction Tint : 0.000000
Paint Correction Mask What : Mask/Paint
Paint Correction Mask Value : 0.429000
Paint Correction Mask Radius : 0.015592
Paint Correction Mask Flow : 1.000000
Paint Correction Mask Center Weight : 0.066772
Look Name : Adobe Monochrome
Look Amount : 1.000000
Look Supports Amount : false
Look Supports Monochrome : false
Look Supports Output Referred : false
Look Group : Profiles
Look Parameters Version : 11.2.1
Look Parameters Process Version : 11.0
Look Parameters Clarity 2012 : +8
Look Parameters Convert To Grayscale : True
Look Parameters Camera Profile : Adobe Standard
Look Parameters Look Table : 73ED6C18DDE909DD7EA2D771F5AC282D
Look Parameters Tone Curve PV2012 : 0, 0, 64, 56, 128, 128, 192, 197, 255, 255
Look Parameters Tone Curve PV2012 Red : 0, 0, 255, 255
Look Parameters Tone Curve PV2012 Green : 0, 0, 255, 255
Look Parameters Tone Curve PV2012 Blue : 0, 0, 255, 255
Date Created : 2023:09:19
Profile Description : sRGB
Chromaticity Channels : 3
Chromaticity Colorant : Unknown
Chromaticity Channel 1 : 0.64 0.33
Chromaticity Channel 2 : 0.3 0.60001
Chromaticity Channel 3 : 0.14999 0.06
Image Width : 267
Image Height : 400
Bits Per Sample : 8
Color Components : 3
Aperture : 22.0
Image Size : 267x400
Megapixels : 0.107
Scale Factor To 35 mm Equivalent : 1.5
Shutter Speed : 1/2000
Create Date : 2023:09:19 10:46:08.30
Date/Time Original : 2023:09:19 10:46:08.30
Circle Of Confusion : 0.020 mm
Depth Of Field : 0.47 m (0.62 - 1.09 m)
Field Of View : 38.2 deg
Focal Length : 35.0 mm (35 mm equivalent: 52.0 mm)
Hyperfocal Distance : 2.75 m
Light Value : 15.9
Lens ID : AF-S DX Nikkor 35mm f/1.8G