Uber Exif Photo
Make : NIKON CORPORATION
Camera Model Name : NIKON Z 7_2
Software : Adobe Photoshop Lightroom Classic 12.4 (Windows)
Modify Date : 2023:07:25 23:16:35
Exposure Time : 1/50
F Number : 2.8
Exposure Program : Aperture-priority AE
ISO : 250
Sensitivity Type : Recommended Exposure Index
Recommended Exposure Index : 250
Date/Time Original : 2023:07:16 20:36:51
Create Date : 2023:07:16 20:36:51
Shutter Speed Value : 1/50
Aperture Value : 2.8
Exposure Compensation : +1/3
Metering Mode : Multi-segment
Light Source : Unknown
Flash : No Flash
Focal Length : 35.0 mm
Color Space : sRGB
Sensing Method : One-chip color area
Scene Type : Directly photographed
CFA Pattern : [Red,Green][Green,Blue]
Custom Rendered : Custom
Exposure Mode : Auto
White Balance : Auto
Focal Length In 35mm Format : 35 mm
Scene Capture Type : Portrait
Gain Control : None
Contrast : Normal
Saturation : Normal
Sharpness : Soft
Subject Distance Range : Unknown
Serial Number : 5300207
Lens Info : 35mm f/1.4
Lens Model : 35mm f/1.4E
Profile Description : sRGB IEC61966-2.1
Creator Tool : Adobe Photoshop Lightroom Classic 12.4 (Windows)
Rating : 5
Lens : 35mm f/1.4E
Image Number : 6166
Distortion Correction Already Applied : True
Vignette Correction Already Applied : True
Date Created : 2023:07:16 20:36:51.47+02:00
Preserved File Name : DSC_4924_14205.NEF
Format : image/jpeg
Raw File Name : DSC_4924_14205.NEF
Version : 15.4
Process Version : 15.4
Color Temperature : 6900
Tint : -5
Exposure 2012 : 0.00
Contrast 2012 : +79
Highlights 2012 : -77
Shadows 2012 : -5
Whites 2012 : -89
Blacks 2012 : -23
Texture : 0
Clarity 2012 : +22
Dehaze : +3
Vibrance : -14
Parametric Shadows : 0
Parametric Darks : 0
Parametric Lights : -8
Parametric Highlights : -12
Parametric Shadow Split : 25
Parametric Midtone Split : 50
Parametric Highlight Split : 75
Sharpen Radius : +1.0
Sharpen Detail : 25
Sharpen Edge Masking : 0
Luminance Smoothing : 0
Color Noise Reduction : 25
Color Noise Reduction Detail : 50
Color Noise Reduction Smoothness : 50
Hue Adjustment Red : -8
Hue Adjustment Orange : -33
Hue Adjustment Yellow : -33
Hue Adjustment Green : +23
Hue Adjustment Aqua : -25
Hue Adjustment Blue : +10
Hue Adjustment Purple : 0
Hue Adjustment Magenta : 0
Saturation Adjustment Red : +26
Saturation Adjustment Orange : -8
Saturation Adjustment Yellow : -21
Saturation Adjustment Green : -41
Saturation Adjustment Aqua : +26
Saturation Adjustment Blue : +13
Saturation Adjustment Purple : 0
Saturation Adjustment Magenta : 0
Luminance Adjustment Red : 0
Luminance Adjustment Orange : +33
Luminance Adjustment Yellow : +11
Luminance Adjustment Green : -27
Luminance Adjustment Aqua : 0
Luminance Adjustment Blue : 0
Luminance Adjustment Purple : 0
Luminance Adjustment Magenta : 0
Split Toning Shadow Hue : 82
Split Toning Shadow Saturation : 0
Split Toning Highlight Hue : 77
Split Toning Highlight Saturation : 8
Split Toning Balance : +24
Color Grade Midtone Hue : 0
Color Grade Midtone Sat : 0
Color Grade Shadow Lum : 0
Color Grade Midtone Lum : 0
Color Grade Highlight Lum : 0
Color Grade Blending : 100
Color Grade Global Hue : 0
Color Grade Global Sat : 0
Color Grade Global Lum : 0
Auto Lateral CA : 0
Lens Profile Enable : 1
Lens Manual Distortion Amount : 0
Vignette Amount : 0
Defringe Purple Amount : 0
Defringe Purple Hue Lo : 30
Defringe Purple Hue Hi : 70
Defringe Green Amount : 0
Defringe Green Hue Lo : 40
Defringe Green Hue Hi : 60
Perspective Upright : Guided
Perspective Vertical : 0
Perspective Horizontal : 0
Perspective Rotate : 0.0
Perspective Aspect : 0
Perspective Scale : 100
Perspective X : 0.00
Perspective Y : 0.00
Grain Amount : 0
Post Crop Vignette Amount : 0
Shadow Tint : -12
Red Hue : +17
Red Saturation : +38
Green Hue : +25
Green Saturation : +28
Blue Hue : -14
Blue Saturation : +28
Override Look Vignette : False
Tone Curve Name 2012 : Linear
Camera Profile : Adobe Standard
Lens Profile Setup : Custom
Lens Profile Name : Adobe (SIGMA 35mm F1.4 DG HSM A012, NIKON CORPORATION)
Lens Profile Filename : NIKON CORPORATION (SIGMA 35mm F1.4 DG HSM A012) - RAW.lcp
Lens Profile Is Embedded : False
Lens Profile Distortion Scale : 200
Lens Profile Vignetting Scale : 0
Has Settings : True
Crop Top : 0.03121
Crop Left : 0.03121
Crop Bottom : 0.96879
Crop Right : 0.96879
Crop Angle : 0
Crop Constrain To Warp : 0
Has Crop : True
Already Applied : True
Tone Curve PV2012 : 0, 0, 255, 255
Tone Curve PV2012 Red : 0, 0, 255, 255
Tone Curve PV2012 Green : 0, 0, 255, 255
Tone Curve PV2012 Blue : 0, 0, 255, 255
Look Name : Agfa Scala 200 ++
Look Amount : 1
Look Cluster : RNI
Look Group : RNI FILMS 5 BW - Pro
Look Parameters Version : 15.4
Look Parameters Process Version : 15.4
Look Parameters Contrast 2012 : +35
Look Parameters Highlights 2012 : -30
Look Parameters Shadows 2012 : +20
Look Parameters Whites 2012 : 0
Look Parameters Blacks 2012 : 0
Look Parameters Clarity 2012 : 0
Look Parameters Vibrance : 0
Look Parameters Saturation : -100
Look Parameters Parametric Shadows : -30
Look Parameters Parametric Darks : +60
Look Parameters Parametric Lights : 0
Look Parameters Parametric Highlights : 0
Look Parameters Parametric Shadow Split : 19
Look Parameters Parametric Midtone Split : 50
Look Parameters Parametric Highlight Split : 75
Look Parameters Hue Adjustment Red : 0
Look Parameters Hue Adjustment Orange : 0
Look Parameters Hue Adjustment Yellow : 0
Look Parameters Hue Adjustment Green : 0
Look Parameters Hue Adjustment Aqua : 0
Look Parameters Hue Adjustment Blue : 0
Look Parameters Hue Adjustment Purple : 0
Look Parameters Hue Adjustment Magenta : 0
Look Parameters Saturation Adjustment Red : 0
Look Parameters Saturation Adjustment Orange : 0
Look Parameters Saturation Adjustment Yellow : 0
Look Parameters Saturation Adjustment Green : 0
Look Parameters Saturation Adjustment Aqua : 0
Look Parameters Saturation Adjustment Blue : 0
Look Parameters Saturation Adjustment Purple : 0
Look Parameters Saturation Adjustment Magenta : 0
Look Parameters Luminance Adjustment Red : 0
Look Parameters Luminance Adjustment Orange : 0
Look Parameters Luminance Adjustment Yellow : 0
Look Parameters Luminance Adjustment Green : 0
Look Parameters Luminance Adjustment Aqua : 0
Look Parameters Luminance Adjustment Blue : 0
Look Parameters Luminance Adjustment Purple : 0
Look Parameters Luminance Adjustment Magenta : 0
Look Parameters Split Toning Shadow Hue : 0
Look Parameters Split Toning Shadow Saturation : 0
Look Parameters Split Toning Highlight Hue : 0
Look Parameters Split Toning Highlight Saturation : 0
Look Parameters Split Toning Balance : 0
Look Parameters Color Grade Midtone Hue : 0
Look Parameters Color Grade Midtone Sat : 0
Look Parameters Color Grade Shadow Lum : 0
Look Parameters Color Grade Midtone Lum : 0
Look Parameters Color Grade Highlight Lum : 0
Look Parameters Color Grade Blending : 50
Look Parameters Color Grade Global Hue : 0
Look Parameters Color Grade Global Sat : 0
Look Parameters Color Grade Global Lum : 0
Look Parameters Convert To Grayscale : False
Look Parameters RGB Table : 181393592EC0D5FE627AD901A8751DDC
Look Parameters Tone Curve PV2012 : 0, 0, 255, 255
Look Parameters Tone Curve PV2012 Red : 0, 0, 255, 255
Look Parameters Tone Curve PV2012 Green : 0, 0, 255, 255
Look Parameters Tone Curve PV2012 Blue : 0, 0, 255, 255
Image Width : 400
Image Height : 267
Bits Per Sample : 8
Color Components : 3
Aperture : 2.8
Image Size : 400x267
Megapixels : 0.107
Scale Factor To 35 mm Equivalent : 1.0
Shutter Speed : 1/50
Create Date : 2023:07:16 20:36:51.47+02:00
Date/Time Original : 2023:07:16 20:36:51.47+02:00
Modify Date : 2023:07:25 23:16:35+03:00
Circle Of Confusion : 0.030 mm
Field Of View : 54.4 deg
Focal Length : 35.0 mm (35 mm equivalent: 35.0 mm)
Hyperfocal Distance : 14.56 m
Light Value : 7.3
Lens ID : 35mm f/1.4E